{"text_format":"1","workbook":"xlsx","n_sheets":14,"sheets":["Cover","Inputs>>","2021 Determination Revenue","2021 Determination Charges","Updated Volumes","Outputs"," Calculations>>","FRWS calcs","MDB calcs","WaterNSW Sheets >>","Price tables CPI","Bill impact tables","Consumption forecast tables","WaterNSW data inputs"],"not_rendered":{"charts":0,"images":3,"macros":1,"external_links":2,"defined_names":196,"comments":1,"pivot_tables":0},"unopened":[],"bounds":{"document_bytes":16777216,"sheet_cells":100000,"rows_first":2000,"rows_last":500,"rows_between":2000,"halvings":0,"cell_chars":16384,"cell_head_chars":4096},"cells_cut":0,"cells_raw":0,"read":"whole","date_system":"1900"}

{"sheet":"Cover","index":0,"n_rows":55,"n_cols":4,"rows_kept":55,"cut":false,"hidden":false,"merged":[]}
[]
[]
[null,{"$f":"\"WaterNSW - Rural water pricing annual update \"&Outputs!$C$23","v":"WaterNSW - Rural water pricing annual update 2022-23"}]
[]
[]
[null,"MODELLER:",null,"Bee Thompson"]
[null,"email",null,"Bee_Thompson@ipart.nsw.gov.au"]
[]
[]
[]
[null,"WHAT IS THE PURPOSE OF MODEL?"]
[null,{"$f":"\"This model calculates \"&Outputs!$C$23&\" water entitlement and usage charges for the Murray Darling Basin (MDB) and the Fish River Water Supply Scheme (FRWS) based on updated demand forecasts.\"","v":"This model calculates 2022-23 water entitlement and usage charges for the Murray Darling Basin (MDB) and the Fish River Water Supply Scheme (FRWS) based on updated demand forecasts."}]
[]
[null,{"$f":"\"For the \"&'2021 Determination Revenue'!$C$13&\" Determination, the forecast usage for each year of the determination period was calculated as the 20 year historical average to \"&'2021 Determination Revenue'!$C$15&\".\"","v":"For the 2021 Determination, the forecast usage for each year of the determination period was calculated as the 20 year historical average to 2019-20."}]
[null,{"$f":"\"This model updates the 20-year historical average for \"&Outputs!$C$23&\" by using the 20 year average to \"&Outputs!$C$24&\". It then uses these updated forecasts to calculate new \"&Outputs!$C$23&\" charges.\"","v":"This model updates the 20-year historical average for 2022-23 by using the 20 year average to 2020-21. It then uses these updated forecasts to calculate new 2022-23 charges."}]
[]
[null,"HOW DOES THE MODEL WORK? "]
[null,"In essence, the model calculates the entitlement and usage charges that would recover the allowed revenue for each of these charges, using the updated demand forecasts. "]
[null,"The re-calculated charges include"]
[null,null,"-","WaterNSW entitlement and usage charges "]
[null,null,"-","MDBA/BRC entitlement and usage charges, and "]
[null,null,"-","FRWS access and usage charges"]
[]
[null,{"$f":"\"All other inputs, assumptions and calculation methodologies are consistent with the \"&'2021 Determination Revenue'!$C$13&\" Determination.\"","v":"All other inputs, assumptions and calculation methodologies are consistent with the 2021 Determination."}]
[]
[null,"MODEL STRUCTURE  "]
[null,"The model comprises three sections"]
[null,"(i) ","Inputs"]
[null,null,"-","Volumetric data, including actual volumes provided by WaterNSW ('Updated Volumes (2)') as part of Annual Review process"]
[null,null,"-",{"$f":"\"Maximum allowed revenue and other inputs assumptions consistent with the \"&'2021 Determination Revenue'!$C$13&\" Determination ('2021 Determination - revenue')\"","v":"Maximum allowed revenue and other inputs assumptions consistent with the 2021 Determination ('2021 Determination - revenue')"}]
[null,null,"-",{"$f":"'2021 Determination Revenue'!$C$13&\" Determination charges\"","v":"2021 Determination charges"}]
[null,"(ii)","Outputs"]
[null,null,"-","showing calculated charges, indicative customer bills and revenue comparisons*."]
[null,"(iii)","Detailed calculations"]
[null,null,"-","Usage and entitlement volumes, required revenue and entitlement premiums for the MDB valleys (MDB calcs)"]
[null,null,"-","Usage volumes, MAQ levels and required revenue for FRWS customers (FRWS calcs)"]
[null,null,{"$f":"\"* Comparisons of revenue using the \"&'2021 Determination Revenue'!$C$13&\" Determination charges versus the re-calculated charges and the updated \"&Outputs!$C$23&\" demand forecasts.\"","v":"* Comparisons of revenue using the 2021 Determination charges versus the re-calculated charges and the updated 2022-23 demand forecasts."}]
[]
[null,{"$f":"\"Inflation to \"&Outputs!$M$31","v":"Inflation to $2022-23"}]
[]
[null,{"$f":"\"This model uses a two-step process to inflate prices in \"&Outputs!$G$31&\" to nominal prices\"","v":"This model uses a two-step process to inflate prices in $2020-21 to nominal prices"}]
[null,null,"Step 1",{"$f":"\"Charges entered or calculated for \"&Outputs!H29&\" in \"&Outputs!$H$31&\" are inflated to $\"&Outputs!$G$29&\" then rounded to two decimal places.\"","v":"Charges entered or calculated for 2022-23 in $2020-21 are inflated to $2021-22 then rounded to two decimal places."}]
[null,null,"Step 2",{"$f":"\"The $\"&Outputs!$G$29&\" charges calculated in step 1 are then inflated to \"&Outputs!$M$31&\" and rounded to 2 decimal places\"","v":"The $2021-22 charges calculated in step 1 are then inflated to $2022-23 and rounded to 2 decimal places"}]
[]
[null,{"$f":"\"The model uses this method of indexation to maintain consistency with the \"&'2021 Determination Revenue'!$C$13&\" Determination, which published prices in $\"&Outputs!$G$29&\"\"","v":"The model uses this method of indexation to maintain consistency with the 2021 Determination, which published prices in $2021-22"}]
[]
[null,"COLOUR CODE  "]
[null,"This model uses standard IPART colour coding:"]
[]
[null,"Blue cells indicate inputs"]
[null,"Blue font indicates IPART hard-coded values used that should not be changed"]
[null,"Key outputs"]
[null,"Pink font indicates calculation checks"]
[null,"Red indicates assumptions made in calculations"]
[null,"red double line means formula changes across row"]

{"sheet":"Inputs>>","index":1,"n_rows":5,"n_cols":3,"rows_kept":5,"cut":false,"hidden":false,"merged":[]}
[]
[]
[]
[]
[null,null,"Page intentionally left blank"]

{"sheet":"2021 Determination Revenue","index":2,"n_rows":143,"n_cols":10,"rows_kept":143,"cut":false,"hidden":false,"merged":[]}
[]
[null,"2  ALLOWED REVENUE, SECURITY FACTORS AND VOLUMES FOR INDICATIVE CUSTOMER BILLS"]
[null,{"$f":"\"This worksheet records the required revenue that was calculated as part of our \"&$C$13&\" review of prices, as well as other inputs consistent with that review.\"","v":"This worksheet records the required revenue that was calculated as part of our 2021 review of prices, as well as other inputs consistent with that review."}]
[]
[null,"List of tables",null,null,null,null,"Row number"]
[null,{"$f":"B18","v":"TABLE 2.1 - INFLATION AS PER 2021 DETERMINATION"},null,null,null,null,{"$f":"ROW(B18)","v":18}]
[null,{"$f":"B35","v":"TABLE 2.2 - REVENUE REQUIREMENT EXCLUDING MDBA/BRC REVENUE "},null,null,null,null,{"$f":"ROW(B35)","v":35}]
[null,{"$f":"B71","v":"TABLE 2.3 - MDBA/BRC REVENUE REQUIREMENT"},null,null,null,null,{"$f":"ROW(B71)","v":71}]
[null,{"$f":"B101","v":"TABLE 2.4 - SECURITY FACTORS"},null,null,null,null,{"$f":"ROW(B101)","v":101}]
[null,{"$f":"B120","v":"TABLE 2.5 - CUSTOMER USAGE VOLUMES FOR CALCULATION OF BILLS"},null,null,null,null,{"$f":"ROW(B120)","v":120}]
[]
[]
[null,"Determination year",2021]
[null,"For prices from (FY)",{"$f":"G20","v":"2021-22"}]
[null,"Prices set using 20 year average volumes to",{"$f":"C13-2&\"-\"&RIGHT(C13-1,2)","v":"2019-20"}]
[]
[]
[null,"TABLE 2.1 - INFLATION AS PER 2021 DETERMINATION"]
[null,"Financial year ending 30 June",{"$f":"C$36","v":"Units"},null,{"$f":"F19-1","v":2020},{"$f":"C13","v":2021},{"$f":"F19+1","v":2022},{"$f":"G19+1","v":2023},2024,2025]
[null,"Financial year",null,null,{"$f":"E19-1&\"-\"&RIGHT(E19,2)","v":"2019-20"},{"$f":"F19-1&\"-\"&RIGHT(F19,2)","v":"2020-21"},{"$f":"G19-1&\"-\"&RIGHT(G19,2)","v":"2021-22"},{"$f":"H19-1&\"-\"&RIGHT(H19,2)","v":"2022-23"},{"$f":"I19-1&\"-\"&RIGHT(I19,2)","v":"2023-24"},{"$f":"J19-1&\"-\"&RIGHT(J19,2)","v":"2024-25"}]
[]
[null,{"$f":"\"Inflation rate used to convert $\"&F20&\" prices to $\"&G20&\" prices\"","v":"Inflation rate used to convert $2020-21 prices to $2021-22 prices"},"%",null,null,null,1.0999999999999999E-2,"(March-on-March, lagged by 1 year)"]
[null,"check = 0",null,null,null,null,{"$f":"ROUND(F26/E26,3)-G22-1","v":0}]
[null,{"$f":"\"CPI calculations to convert $\"&$F$20&\" prices to nominal prices\"","v":"CPI calculations to convert $2020-21 prices to nominal prices"}]
[null,"Forecast inflation rate when actual not available (not lagged)",null,null,"na","na",null,null,null,"na"]
[null,"CPI (actual to March, not lagged)",null,null,116.6,117.9,123.9,null,null,"na"]
[null,"CPI used in calculations",null,null,{"$f":"E26","v":116.6},{"$f":"F26","v":117.9},{"$f":"IF(ISBLANK(G26),F27*(1+G25),G26)","v":123.9},{"$f":"IF(ISBLANK(H26),G27*(1+H25),H26)","v":123.9},123.9,"na"]
[]
[null,{"$f":"\"Index for determination prices in $\"&$G$20","v":"Index for determination prices in $2021-22"},null,null,null,null,1,{"$f":"ROUND(G27/$F27,3)","v":1.0509999999999999},{"$f":"ROUND(H27/$F27,3)","v":1.0509999999999999},1.0509999999999999]
[null,{"$f":"\"Index (CPI) from $\"&$F$20&\" (lagged to show inflator for prices in that year\"","v":"Index (CPI) from $2020-21 (lagged to show inflator for prices in that year"},"%",null,null,null,{"$f":"G29*(1+G22)","v":1.0109999999999999},{"$f":"ROUND(G27/$E27,3)","v":1.0629999999999999},{"$f":"ROUND(H27/$E27,3)","v":1.0629999999999999},{"$f":"ROUND(I27/$E27,3)","v":1.0629999999999999}]
[null,"Lagged year-on-year change (for information)","%",null,null,null,{"$f":"ROUND(F27/E27-1,3)","v":1.0999999999999999E-2},{"$f":"ROUND(G27/F27-1,3)","v":5.0999999999999997E-2},0,0]
[null,"check = TRUE",null,null,null,null,{"$f":"G31=G22","v":true}]
[]
[]
[null,"TABLE 2.2 - REVENUE REQUIREMENT EXCLUDING MDBA/BRC REVENUE "]
[null,{"$f":"B20","v":"Financial year"},"Units",null,null,null,{"$f":"G$20","v":"2021-22"},{"$f":"H$20","v":"2022-23"},{"$f":"I$20","v":"2023-24"},{"$f":"J$20","v":"2024-25"}]
[null,null,null,null,null,null,{"$f":"\"$\" &$F$20","v":"$2020-21"},{"$f":"'2021 Determination Revenue'!$G$37","v":"$2020-21"},{"$f":"'2021 Determination Revenue'!$G$37","v":"$2020-21"},{"$f":"'2021 Determination Revenue'!$G$37","v":"$2020-21"}]
[]
[null,"Revenue from WaterNSW charges (excluding MDBA/BRC charges and miscellaneous income)"]
[null,"Source:  2021 review  model, Price & Revenue worksheet, Table C2.4, U445:X453.  Revenue from charges ignoring delayed implementation"]
[null,"Border","$'000",null,null,null,{"$f":"H41","v":1617.101618862953},1617.101618862953,1617.101618862953,1617.101618862953]
[null,"Gwydir",{"$f":"C$41","v":"$'000"},null,null,null,6248.1318380831081,6248.1318380831081,6248.1318380831081,6248.1318380831081]
[null,"Namoi","$'000",null,null,null,7038.0297970861857,7038.0297970861857,7038.0297970861857,7038.0297970861857]
[null,"Peel","$'000",null,null,null,1530.6456854425985,1530.6456854425985,1530.6456854425985,1530.6456854425985]
[null,"Lachlan","$'000",null,null,null,9359.2768700251036,9359.2768700251036,9359.2768700251036,9359.2768700251036]
[null,"Macquarie","$'000",null,null,null,8297.0917373414668,8297.0917373414668,8297.0917373414668,8297.0917373414668]
[null,"Murray","$'000",null,null,null,6631.2509876093045,6631.2509876093045,6631.2509876093045,6631.2509876093045]
[null,"Murrumbidgee","$'000",null,null,null,12538.116627661353,12538.116627661353,12538.116627661353,12538.116627661353]
[null,"Lowbidgee","$'000",null,null,null,1272.9818524200434,1272.9818524200434,1272.9818524200434,1272.9818524200434]
[]
[null,"Revenue recovered from entitlement charges"]
[null,"Source: 2021 review  model, Price Scenario worksheet, Table 11.3, row 292-300. "]
[null,{"$f":"B$41","v":"Border"},{"$f":"C$30","v":"%"},null,null,null,0.40360619004190562,0.40048708783620213,0.40048708783620213,0.40048708783620213]
[null,{"$f":"B$42","v":"Gwydir"},"%",null,null,null,0.40887035648409842,0.4000790480001396,0.4000790480001396,0.4000790480001396]
[null,{"$f":"B$43","v":"Namoi"},"%",null,null,null,0.40865209962207816,0.40011108558260877,0.40011108558260877,0.40011108558260877]
[null,{"$f":"B$44","v":"Peel"},"%",null,null,null,0.79682048525912952,0.80003756496595757,0.80003756496595757,0.80003756496595757]
[null,{"$f":"B$45","v":"Lachlan"},"%",null,null,null,0.40560257820752471,0.40013721011885095,0.40013721011885095,0.40013721011885095]
[null,{"$f":"B$46","v":"Macquarie"},"%",null,null,null,0.40513562988532031,0.40011179280895326,0.40011179280895326,0.40011179280895326]
[null,{"$f":"B$47","v":"Murray"},"%",null,null,null,0.40336909314785929,0.39731579170449849,0.39731579170449849,0.39731579170449849]
[null,{"$f":"B$48","v":"Murrumbidgee"},"%",null,null,null,0.40541723063810314,0.39981247697349936,0.39981247697349936,0.39981247697349936]
[null,{"$f":"B$49","v":"Lowbidgee"},"%",null,null,null,1,1,1,1]
[]
[null,"Fish River revenue requirement"]
[null,"Source: 2021 review  model, Prices & Revenue worksheet, Table C2.4, N498-O506 ",null,null,null,null,"ignoring delayed implementation"]
[null,{"$f":"'Updated Volumes'!B$31","v":"Energy Australia "},{"$f":"C$41","v":"$'000"},null,null,null,{"$f":"H65","v":4529.6798008468986},4529.6798008468986,4529.6798008468986,4529.6798008468986]
[null,{"$f":"'Updated Volumes'!B$32","v":"Minor customers (raw) "},{"$f":"C$41","v":"$'000"},null,null,null,{"$f":"H66","v":41.171185727299736},41.171185727299736,41.171185727299736,41.171185727299736]
[null,{"$f":"'Updated Volumes'!B$33","v":"Minor customers (filtered) "},{"$f":"C$41","v":"$'000"},null,null,null,140.90384934363004,140.90384934363004,140.90384934363004,140.90384934363004]
[]
[]
[]
[null,"TABLE 2.3 - MDBA/BRC REVENUE REQUIREMENT"]
[null,{"$f":"B$20","v":"Financial year"},{"$f":"C$36","v":"Units"},null,null,null,{"$f":"G$20","v":"2021-22"},{"$f":"H$20","v":"2022-23"},{"$f":"I$20","v":"2023-24"},{"$f":"J$20","v":"2024-25"}]
[null,null,null,null,null,null,{"$f":"G$37","v":"$2020-21"},{"$f":"H$37","v":"$2020-21"},"$2020-21","$2020-21"]
[null,"MDBA/BRC Revenue requirement"]
[null,"Source: 2021 review  model, Prices & Revenue worksheet, Table C2.4, Column N-Q, row 543-551",null,null,null,{"$f":"'2021 Determination Charges'!$I$49","v":"D21/15629"},"ignoring delayed implementation"]
[null,{"$f":"B$41","v":"Border"},{"$f":"C$41","v":"$'000"},null,null,null,{"$f":"H76","v":594.83888595691474},594.83888595691474,594.83888595691474,594.83888595691474]
[null,{"$f":"B$42","v":"Gwydir"},{"$f":"C$41","v":"$'000"},null,null,null,0,0,0,0]
[null,{"$f":"B$43","v":"Namoi"},"$'000",null,null,null,0,0,0,0]
[null,{"$f":"B$44","v":"Peel"},"$'000",null,null,null,0,0,0,0]
[null,{"$f":"B$45","v":"Lachlan"},"$'000",null,null,null,0,0,0,0]
[null,{"$f":"B$46","v":"Macquarie"},"$'000",null,null,null,0,0,0,0]
[null,{"$f":"B$47","v":"Murray"},"$'000",null,null,null,12613.797956335569,12613.797956335569,12613.797956335569,12613.797956335569]
[null,{"$f":"B$48","v":"Murrumbidgee"},"$'000",null,null,null,2797.5576546969119,2797.5576546969119,2797.5576546969119,2797.5576546969119]
[null,{"$f":"B$49","v":"Lowbidgee"},"$'000",null,null,null,0,0,0,0]
[]
[null,"MDBA/BRC Revenue recovered from entitlement charges"]
[null,"Source:  2021 review  model, Price Scenario worksheet, Table 11.6, Column N-Q, rows 412-414."]
[null,{"$f":"B$41","v":"Border"},{"$f":"C$30","v":"%"},null,null,null,0.8,0.8,0.8,0.8]
[null,{"$f":"B$42","v":"Gwydir"},"%",null,null,null,0,0,0,0]
[null,{"$f":"B$43","v":"Namoi"},"%",null,null,null,0,0,0,0]
[null,{"$f":"B$44","v":"Peel"},"%",null,null,null,0,0,0,0]
[null,{"$f":"B$45","v":"Lachlan"},"%",null,null,null,0,0,0,0]
[null,{"$f":"B$46","v":"Macquarie"},"%",null,null,null,0,0,0,0]
[null,{"$f":"B$47","v":"Murray"},"%",null,null,null,0.8,0.8,0.8,0.8]
[null,{"$f":"B$48","v":"Murrumbidgee"},"%",null,null,null,0.8,0.8,0.8,0.8]
[null,{"$f":"B$49","v":"Lowbidgee"},"%",null,null,null,0,0,0,0]
[]
[]
[]
[]
[null,"TABLE 2.4 - SECURITY FACTORS"]
[null,{"$f":"B$20","v":"Financial year"},{"$f":"C$36","v":"Units"},null,null,null,{"$f":"G$20","v":"2021-22"},{"$f":"H$20","v":"2022-23"},{"$f":"I$20","v":"2023-24"},{"$f":"J$20","v":"2024-25"}]
[]
[null,"Note: This ratio reflects the relative security of supply between HS and GS entitlements and is used to calculate the high security premium."]
[null,"MDB Valleys"]
[null,"Source: 2021 review  model, Pricing inputs worksheet, Table 7.1, Column I, row 24-32.  (The Security Factor is held constant over the Determination period)"]
[null,{"$f":"B$41","v":"Border"},"#",null,null,null,1.25,1.25,1.25,1.25]
[null,{"$f":"B$42","v":"Gwydir"},{"$f":"$C$107","v":"#"},null,null,null,1.3973221876662663,1.3973221876662663,1.3973221876662663,1.3973221876662663]
[null,{"$f":"B$43","v":"Namoi"},"#",null,null,null,1.25,1.25,1.25,1.25]
[null,{"$f":"B$44","v":"Peel"},"#",null,null,null,6.5419452232046584,6.5419452232046584,6.5419452232046584,6.5419452232046584]
[null,{"$f":"B$45","v":"Lachlan"},"#",null,null,null,2.4952177609078148,2.4952177609078148,2.4952177609078148,2.4952177609078148]
[null,{"$f":"B$46","v":"Macquarie"},"#",null,null,null,1.8848346670243046,1.8848346670243046,1.8848346670243046,1.8848346670243046]
[null,{"$f":"B$47","v":"Murray"},"#",null,null,null,1.308492141839708,1.308492141839708,1.308492141839708,1.308492141839708]
[null,{"$f":"B$48","v":"Murrumbidgee"},"#",null,null,null,1.6929690711534331,1.6929690711534331,1.6929690711534331,1.6929690711534331]
[null,{"$f":"B$49","v":"Lowbidgee"},"#",null,null,null,0,0,0,0]
[]
[]
[]
[]
[null,"TABLE 2.5 - CUSTOMER USAGE VOLUMES FOR CALCULATION OF BILLS"]
[null,{"$f":"B$20","v":"Financial year"},{"$f":"C$36","v":"Units"},null,null,null,{"$f":"G$20","v":"2021-22"},{"$f":"H$20","v":"2022-23"},{"$f":"I$20","v":"2023-24"},{"$f":"J$20","v":"2024-25"}]
[]
[null,"Note: Inputs in this table are assumptions that we use to calculate indicative customer bills."]
[]
[null,"High Security entitlement level"]
[null,"Small consumption customers",{"$f":"'Updated Volumes'!$C$31","v":"kL"},null,null,null,100,{"$f":"G126","v":100},{"$f":"H126","v":100},100]
[null,"Medium consumption customers",{"$f":"'Updated Volumes'!$C$31","v":"kL"},null,null,null,500,{"$f":"G127","v":500},500,500]
[null,"Large consumption customers",{"$f":"'Updated Volumes'!$C$31","v":"kL"},null,null,null,1000,1000,1000,1000]
[]
[null,"High security usage rate"]
[null,{"$f":"B$126","v":"Small consumption customers"},{"$f":"C$30","v":"%"},null,null,null,1,{"$f":"G131","v":1},{"$f":"H131","v":1},1]
[null,{"$f":"B$127","v":"Medium consumption customers"},{"$f":"C$30","v":"%"},null,null,null,1,{"$f":"G132","v":1},1,1]
[null,{"$f":"B$128","v":"Large consumption customers"},{"$f":"C$30","v":"%"},null,null,null,1,{"$f":"G133","v":1},1,1]
[]
[null,"General Security entitlement level"]
[null,{"$f":"B$126","v":"Small consumption customers"},{"$f":"'Updated Volumes'!$C$31","v":"kL"},null,null,null,100,{"$f":"G136","v":100},{"$f":"H136","v":100},100]
[null,{"$f":"B$127","v":"Medium consumption customers"},{"$f":"'Updated Volumes'!$C$31","v":"kL"},null,null,null,500,{"$f":"G137","v":500},500,500]
[null,{"$f":"B$128","v":"Large consumption customers"},{"$f":"'Updated Volumes'!$C$31","v":"kL"},null,null,null,1000,{"$f":"G138","v":1000},1000,1000]
[]
[null,"General Security usage rate"]
[null,{"$f":"B$126","v":"Small consumption customers"},{"$f":"C$30","v":"%"},null,null,null,0.6,{"$f":"G141","v":0.6},{"$f":"H141","v":0.6},0.6]
[null,{"$f":"B$127","v":"Medium consumption customers"},{"$f":"C$30","v":"%"},null,null,null,0.6,{"$f":"G142","v":0.6},0.6,0.6]
[null,{"$f":"B$128","v":"Large consumption customers"},{"$f":"C$30","v":"%"},null,null,null,0.6,{"$f":"G143","v":0.6},0.6,0.6]

{"sheet":"2021 Determination Charges","index":3,"n_rows":94,"n_cols":15,"rows_kept":94,"cut":false,"hidden":false,"merged":[]}
[]
[null,{"$f":"\"3.  \"&'2021 Determination Revenue'!$F$19&\" DETERMINATION CHARGES, \"&$G$14","v":"3.  2021 DETERMINATION CHARGES, $2020-21"}]
[null,{"$f":"\"This worksheet records the charges under the \"&'2021 Determination Revenue'!$C$13&\" Determination.\"","v":"This worksheet records the charges under the 2021 Determination."}]
[]
[null,"List of tables",null,null,null,"Row number"]
[null,{"$f":"B12","v":"TABLE 3.1 - WaterNSW CHARGES"},null,null,null,{"$f":"ROW(B12)","v":12}]
[null,{"$f":"B52","v":"TABLE 3.2 - MDBA AND BRC USAGE AND ENTITLEMENT CHARGES"},null,null,null,{"$f":"ROW(B52)","v":52}]
[null,{"$f":"B75","v":"TABLE 3.3 - FISH RIVER WATER SUPPLY SCHEME CHARGES"},null,null,null,{"$f":"ROW(B75)","v":75}]
[]
[]
[]
[null,"TABLE 3.1 - WaterNSW CHARGES"]
[null,{"$f":"'2021 Determination Revenue'!B$20","v":"Financial year"},{"$f":"'2021 Determination Revenue'!C$36","v":"Units"},null,null,null,{"$f":"'2021 Determination Revenue'!G$20","v":"2021-22"},{"$f":"'2021 Determination Revenue'!H$20","v":"2022-23"},{"$f":"'2021 Determination Revenue'!I$20","v":"2023-24"},{"$f":"'2021 Determination Revenue'!J$20","v":"2024-25"},null,{"$f":"G13","v":"2021-22"},{"$f":"H13","v":"2022-23"},"2023-24","2024-25"]
[null,null,null,null,null,null,{"$f":"'2021 Determination Revenue'!$G$37","v":"$2020-21"},{"$f":"G14","v":"$2020-21"},{"$f":"H14","v":"$2020-21"},"$2020-21",null,{"$f":"\"$\"&L13","v":"$2021-22"},"$2022-23","$2023-24","$2024-25"]
[]
[null,"Usage Charge "]
[null,{"$f":"'2021 Determination Revenue'!$B$41","v":"Border"},{"$f":"Outputs!$C$33","v":"$/ML"},null,null,null,6.9519630133429891,6.9519630133429891,6.9519630133429891,6.9519630133429891,null,{"$f":"ROUND(G17*'2021 Determination Revenue'!$G$30,2)","v":7.03},{"$f":"ROUND(ROUND(H17*'2021 Determination Revenue'!$G$30,2)*'2021 Determination Revenue'!H$29,2)","v":7.39},{"$f":"ROUND(ROUND(I17*'2021 Determination Revenue'!$G$30,2)*'2021 Determination Revenue'!I$29,2)","v":7.39},{"$f":"ROUND(ROUND(J17*'2021 Determination Revenue'!$G$30,2)*'2021 Determination Revenue'!J$29,2)","v":7.39}]
[null,{"$f":"'2021 Determination Revenue'!$B$42","v":"Gwydir"},{"$f":"Outputs!$C$33","v":"$/ML"},null,null,null,17.000321673640542,17.000321673640542,17.000321673640542,17.000321673640542,null,{"$f":"ROUND(G18*'2021 Determination Revenue'!$G$30,2)","v":17.190000000000001},{"$f":"ROUND(ROUND(H18*'2021 Determination Revenue'!$G$30,2)*'2021 Determination Revenue'!H$29,2)","v":18.07},{"$f":"ROUND(ROUND(I18*'2021 Determination Revenue'!$G$30,2)*'2021 Determination Revenue'!I$29,2)","v":18.07},{"$f":"ROUND(ROUND(J18*'2021 Determination Revenue'!$G$30,2)*'2021 Determination Revenue'!J$29,2)","v":18.07}]
[null,{"$f":"'2021 Determination Revenue'!$B$43","v":"Namoi"},{"$f":"Outputs!$C$33","v":"$/ML"},null,null,null,30.541139003181428,30.541139003181428,30.541139003181428,30.541139003181428,null,{"$f":"ROUND(G19*'2021 Determination Revenue'!$G$30,2)","v":30.88},{"$f":"ROUND(ROUND(H19*'2021 Determination Revenue'!$G$30,2)*'2021 Determination Revenue'!H$29,2)","v":32.450000000000003},{"$f":"ROUND(ROUND(I19*'2021 Determination Revenue'!$G$30,2)*'2021 Determination Revenue'!I$29,2)","v":32.450000000000003},{"$f":"ROUND(ROUND(J19*'2021 Determination Revenue'!$G$30,2)*'2021 Determination Revenue'!J$29,2)","v":32.450000000000003}]
[null,{"$f":"'2021 Determination Revenue'!$B$44","v":"Peel"},{"$f":"Outputs!$C$33","v":"$/ML"},null,null,null,24.243385466098346,24.243385466098346,24.243385466098346,24.243385466098346,null,{"$f":"ROUND(G20*'2021 Determination Revenue'!$G$30,2)","v":24.51},{"$f":"ROUND(ROUND(H20*'2021 Determination Revenue'!$G$30,2)*'2021 Determination Revenue'!H$29,2)","v":25.76},{"$f":"ROUND(ROUND(I20*'2021 Determination Revenue'!$G$30,2)*'2021 Determination Revenue'!I$29,2)","v":25.76},{"$f":"ROUND(ROUND(J20*'2021 Determination Revenue'!$G$30,2)*'2021 Determination Revenue'!J$29,2)","v":25.76}]
[null,{"$f":"'2021 Determination Revenue'!$B$45","v":"Lachlan"},{"$f":"Outputs!$C$33","v":"$/ML"},null,null,null,30.830708271304754,30.830708271304754,30.830708271304754,30.830708271304754,null,{"$f":"ROUND(G21*'2021 Determination Revenue'!$G$30,2)","v":31.17},{"$f":"ROUND(ROUND(H21*'2021 Determination Revenue'!$G$30,2)*'2021 Determination Revenue'!H$29,2)","v":32.76},{"$f":"ROUND(ROUND(I21*'2021 Determination Revenue'!$G$30,2)*'2021 Determination Revenue'!I$29,2)","v":32.76},{"$f":"ROUND(ROUND(J21*'2021 Determination Revenue'!$G$30,2)*'2021 Determination Revenue'!J$29,2)","v":32.76}]
[null,{"$f":"'2021 Determination Revenue'!$B$46","v":"Macquarie"},{"$f":"Outputs!$C$33","v":"$/ML"},null,null,null,21.403751008100738,21.403751008100738,21.403751008100738,21.403751008100738,null,{"$f":"ROUND(G22*'2021 Determination Revenue'!$G$30,2)","v":21.64},{"$f":"ROUND(ROUND(H22*'2021 Determination Revenue'!$G$30,2)*'2021 Determination Revenue'!H$29,2)","v":22.74},{"$f":"ROUND(ROUND(I22*'2021 Determination Revenue'!$G$30,2)*'2021 Determination Revenue'!I$29,2)","v":22.74},{"$f":"ROUND(ROUND(J22*'2021 Determination Revenue'!$G$30,2)*'2021 Determination Revenue'!J$29,2)","v":22.74}]
[null,{"$f":"'2021 Determination Revenue'!$B$47","v":"Murray"},{"$f":"Outputs!$C$33","v":"$/ML"},null,null,null,2.8971969792079886,2.8971969792079886,2.8971969792079886,2.8971969792079886,null,{"$f":"ROUND(G23*'2021 Determination Revenue'!$G$30,2)","v":2.93},{"$f":"ROUND(ROUND(H23*'2021 Determination Revenue'!$G$30,2)*'2021 Determination Revenue'!H$29,2)","v":3.08},{"$f":"ROUND(ROUND(I23*'2021 Determination Revenue'!$G$30,2)*'2021 Determination Revenue'!I$29,2)","v":3.08},{"$f":"ROUND(ROUND(J23*'2021 Determination Revenue'!$G$30,2)*'2021 Determination Revenue'!J$29,2)","v":3.08}]
[null,{"$f":"'2021 Determination Revenue'!$B$48","v":"Murrumbidgee"},{"$f":"Outputs!$C$33","v":"$/ML"},null,null,null,4.9143369749081769,4.9143369749081769,4.9143369749081769,4.9143369749081769,null,{"$f":"ROUND(G24*'2021 Determination Revenue'!$G$30,2)","v":4.97},{"$f":"ROUND(ROUND(H24*'2021 Determination Revenue'!$G$30,2)*'2021 Determination Revenue'!H$29,2)","v":5.22},{"$f":"ROUND(ROUND(I24*'2021 Determination Revenue'!$G$30,2)*'2021 Determination Revenue'!I$29,2)","v":5.22},{"$f":"ROUND(ROUND(J24*'2021 Determination Revenue'!$G$30,2)*'2021 Determination Revenue'!J$29,2)","v":5.22}]
[null,{"$f":"'2021 Determination Revenue'!$B$49","v":"Lowbidgee"},{"$f":"Outputs!$C$33","v":"$/ML"},null,null,null,0,0,0,0,null,{"$f":"ROUND(G25*'2021 Determination Revenue'!$G$30,2)","v":0},{"$f":"ROUND(ROUND(H25*'2021 Determination Revenue'!$G$30,2)*'2021 Determination Revenue'!H$29,2)","v":0},{"$f":"ROUND(ROUND(I25*'2021 Determination Revenue'!$G$30,2)*'2021 Determination Revenue'!I$29,2)","v":0},{"$f":"ROUND(ROUND(J25*'2021 Determination Revenue'!$G$30,2)*'2021 Determination Revenue'!J$29,2)","v":0}]
[]
[null,"General Security Entitlement (fixed)"]
[null,{"$f":"'2021 Determination Revenue'!$B$41","v":"Border"},{"$f":"Outputs!$C$33","v":"$/ML"},null,null,null,2.3827542194568725,2.3827542194568725,2.3827542194568725,2.3827542194568725,null,{"$f":"ROUND(G28*'2021 Determination Revenue'!$G$30,2)","v":2.41},{"$f":"ROUND(ROUND(H28*'2021 Determination Revenue'!$G$30,2)*'2021 Determination Revenue'!H$29,2)","v":2.5299999999999998},{"$f":"ROUND(ROUND(I28*'2021 Determination Revenue'!$G$30,2)*'2021 Determination Revenue'!I$29,2)","v":2.5299999999999998},{"$f":"ROUND(ROUND(J28*'2021 Determination Revenue'!$G$30,2)*'2021 Determination Revenue'!J$29,2)","v":2.5299999999999998}]
[null,{"$f":"'2021 Determination Revenue'!$B$42","v":"Gwydir"},{"$f":"Outputs!$C$33","v":"$/ML"},null,null,null,3.9954232071705036,3.9954232071705036,3.9954232071705036,3.9954232071705036,null,{"$f":"ROUND(G29*'2021 Determination Revenue'!$G$30,2)","v":4.04},{"$f":"ROUND(ROUND(H29*'2021 Determination Revenue'!$G$30,2)*'2021 Determination Revenue'!H$29,2)","v":4.25},{"$f":"ROUND(ROUND(I29*'2021 Determination Revenue'!$G$30,2)*'2021 Determination Revenue'!I$29,2)","v":4.25},{"$f":"ROUND(ROUND(J29*'2021 Determination Revenue'!$G$30,2)*'2021 Determination Revenue'!J$29,2)","v":4.25}]
[null,{"$f":"'2021 Determination Revenue'!$B$43","v":"Namoi"},{"$f":"Outputs!$C$33","v":"$/ML"},null,null,null,9.9882450597985013,9.9882450597985013,9.9882450597985013,9.9882450597985013,null,{"$f":"ROUND(G30*'2021 Determination Revenue'!$G$30,2)","v":10.1},{"$f":"ROUND(ROUND(H30*'2021 Determination Revenue'!$G$30,2)*'2021 Determination Revenue'!H$29,2)","v":10.62},{"$f":"ROUND(ROUND(I30*'2021 Determination Revenue'!$G$30,2)*'2021 Determination Revenue'!I$29,2)","v":10.62},{"$f":"ROUND(ROUND(J30*'2021 Determination Revenue'!$G$30,2)*'2021 Determination Revenue'!J$29,2)","v":10.62}]
[null,{"$f":"'2021 Determination Revenue'!$B$44","v":"Peel"},{"$f":"Outputs!$C$33","v":"$/ML"},null,null,null,5.7520008738709567,5.7520008738709567,5.7520008738709567,5.7520008738709567,null,{"$f":"ROUND(G31*'2021 Determination Revenue'!$G$30,2)","v":5.82},{"$f":"ROUND(ROUND(H31*'2021 Determination Revenue'!$G$30,2)*'2021 Determination Revenue'!H$29,2)","v":6.12},{"$f":"ROUND(ROUND(I31*'2021 Determination Revenue'!$G$30,2)*'2021 Determination Revenue'!I$29,2)","v":6.12},{"$f":"ROUND(ROUND(J31*'2021 Determination Revenue'!$G$30,2)*'2021 Determination Revenue'!J$29,2)","v":6.12}]
[null,{"$f":"'2021 Determination Revenue'!$B$45","v":"Lachlan"},{"$f":"Outputs!$C$33","v":"$/ML"},null,null,null,3.6701633265390821,3.6701633265390821,3.6701633265390821,3.6701633265390821,null,{"$f":"ROUND(G32*'2021 Determination Revenue'!$G$30,2)","v":3.71},{"$f":"ROUND(ROUND(H32*'2021 Determination Revenue'!$G$30,2)*'2021 Determination Revenue'!H$29,2)","v":3.9},{"$f":"ROUND(ROUND(I32*'2021 Determination Revenue'!$G$30,2)*'2021 Determination Revenue'!I$29,2)","v":3.9},{"$f":"ROUND(ROUND(J32*'2021 Determination Revenue'!$G$30,2)*'2021 Determination Revenue'!J$29,2)","v":3.9}]
[null,{"$f":"'2021 Determination Revenue'!$B$46","v":"Macquarie"},{"$f":"Outputs!$C$33","v":"$/ML"},null,null,null,3.9019030401740467,3.9019030401740467,3.9019030401740467,3.9019030401740467,null,{"$f":"ROUND(G33*'2021 Determination Revenue'!$G$30,2)","v":3.94},{"$f":"ROUND(ROUND(H33*'2021 Determination Revenue'!$G$30,2)*'2021 Determination Revenue'!H$29,2)","v":4.1399999999999997},{"$f":"ROUND(ROUND(I33*'2021 Determination Revenue'!$G$30,2)*'2021 Determination Revenue'!I$29,2)","v":4.1399999999999997},{"$f":"ROUND(ROUND(J33*'2021 Determination Revenue'!$G$30,2)*'2021 Determination Revenue'!J$29,2)","v":4.1399999999999997}]
[null,{"$f":"'2021 Determination Revenue'!$B$47","v":"Murray"},{"$f":"Outputs!$C$33","v":"$/ML"},null,null,null,0.98233260529967825,0.98233260529967825,0.98233260529967825,0.98233260529967825,null,{"$f":"ROUND(G34*'2021 Determination Revenue'!$G$30,2)","v":0.99},{"$f":"ROUND(ROUND(H34*'2021 Determination Revenue'!$G$30,2)*'2021 Determination Revenue'!H$29,2)","v":1.04},{"$f":"ROUND(ROUND(I34*'2021 Determination Revenue'!$G$30,2)*'2021 Determination Revenue'!I$29,2)","v":1.04},{"$f":"ROUND(ROUND(J34*'2021 Determination Revenue'!$G$30,2)*'2021 Determination Revenue'!J$29,2)","v":1.04}]
[null,{"$f":"'2021 Determination Revenue'!$B$48","v":"Murrumbidgee"},{"$f":"Outputs!$C$33","v":"$/ML"},null,null,null,1.41716484827431,1.41716484827431,1.41716484827431,1.41716484827431,null,{"$f":"ROUND(G35*'2021 Determination Revenue'!$G$30,2)","v":1.43},{"$f":"ROUND(ROUND(H35*'2021 Determination Revenue'!$G$30,2)*'2021 Determination Revenue'!H$29,2)","v":1.5},{"$f":"ROUND(ROUND(I35*'2021 Determination Revenue'!$G$30,2)*'2021 Determination Revenue'!I$29,2)","v":1.5},{"$f":"ROUND(ROUND(J35*'2021 Determination Revenue'!$G$30,2)*'2021 Determination Revenue'!J$29,2)","v":1.5}]
[null,{"$f":"'2021 Determination Revenue'!$B$49","v":"Lowbidgee"},{"$f":"Outputs!$C$33","v":"$/ML"},null,null,null,1.704125639116524,1.704125639116524,1.704125639116524,1.704125639116524,null,{"$f":"ROUND(G36*'2021 Determination Revenue'!$G$30,2)","v":1.72},{"$f":"ROUND(ROUND(H36*'2021 Determination Revenue'!$G$30,2)*'2021 Determination Revenue'!H$29,2)","v":1.81},{"$f":"ROUND(ROUND(I36*'2021 Determination Revenue'!$G$30,2)*'2021 Determination Revenue'!I$29,2)","v":1.81},{"$f":"ROUND(ROUND(J36*'2021 Determination Revenue'!$G$30,2)*'2021 Determination Revenue'!J$29,2)","v":1.81}]
[]
[null,"High Security Entitlement (fixed) "]
[null,{"$f":"'2021 Determination Revenue'!$B$41","v":"Border"},{"$f":"Outputs!$C$33","v":"$/ML"},null,null,null,6.5089200689694469,6.5089200689694469,6.5089200689694469,6.5089200689694469,null,{"$f":"ROUND(G39*'2021 Determination Revenue'!$G$30,2)","v":6.58},{"$f":"ROUND(ROUND(H39*'2021 Determination Revenue'!$G$30,2)*'2021 Determination Revenue'!H$29,2)","v":6.92},{"$f":"ROUND(ROUND(I39*'2021 Determination Revenue'!$G$30,2)*'2021 Determination Revenue'!I$29,2)","v":6.92},{"$f":"ROUND(ROUND(J39*'2021 Determination Revenue'!$G$30,2)*'2021 Determination Revenue'!J$29,2)","v":6.92}]
[null,{"$f":"'2021 Determination Revenue'!$B$42","v":"Gwydir"},{"$f":"Outputs!$C$33","v":"$/ML"},null,null,null,17.214683086073457,17.214683086073457,17.214683086073457,17.214683086073457,null,{"$f":"ROUND(G40*'2021 Determination Revenue'!$G$30,2)","v":17.399999999999999},{"$f":"ROUND(ROUND(H40*'2021 Determination Revenue'!$G$30,2)*'2021 Determination Revenue'!H$29,2)","v":18.29},{"$f":"ROUND(ROUND(I40*'2021 Determination Revenue'!$G$30,2)*'2021 Determination Revenue'!I$29,2)","v":18.29},{"$f":"ROUND(ROUND(J40*'2021 Determination Revenue'!$G$30,2)*'2021 Determination Revenue'!J$29,2)","v":18.29}]
[null,{"$f":"'2021 Determination Revenue'!$B$43","v":"Namoi"},{"$f":"Outputs!$C$33","v":"$/ML"},null,null,null,28.617101909525374,28.617101909525374,28.617101909525374,28.617101909525374,null,{"$f":"ROUND(G41*'2021 Determination Revenue'!$G$30,2)","v":28.93},{"$f":"ROUND(ROUND(H41*'2021 Determination Revenue'!$G$30,2)*'2021 Determination Revenue'!H$29,2)","v":30.41},{"$f":"ROUND(ROUND(I41*'2021 Determination Revenue'!$G$30,2)*'2021 Determination Revenue'!I$29,2)","v":30.41},{"$f":"ROUND(ROUND(J41*'2021 Determination Revenue'!$G$30,2)*'2021 Determination Revenue'!J$29,2)","v":30.41}]
[null,{"$f":"'2021 Determination Revenue'!$B$44","v":"Peel"},{"$f":"Outputs!$C$33","v":"$/ML"},null,null,null,60.696349462197254,60.696349462197254,60.696349462197254,60.696349462197254,null,{"$f":"ROUND(G42*'2021 Determination Revenue'!$G$30,2)","v":61.36},{"$f":"ROUND(ROUND(H42*'2021 Determination Revenue'!$G$30,2)*'2021 Determination Revenue'!H$29,2)","v":64.489999999999995},{"$f":"ROUND(ROUND(I42*'2021 Determination Revenue'!$G$30,2)*'2021 Determination Revenue'!I$29,2)","v":64.489999999999995},{"$f":"ROUND(ROUND(J42*'2021 Determination Revenue'!$G$30,2)*'2021 Determination Revenue'!J$29,2)","v":64.489999999999995}]
[null,{"$f":"'2021 Determination Revenue'!$B$45","v":"Lachlan"},{"$f":"Outputs!$C$33","v":"$/ML"},null,null,null,24.823103170025366,24.823103170025366,24.823103170025366,24.823103170025366,null,{"$f":"ROUND(G43*'2021 Determination Revenue'!$G$30,2)","v":25.1},{"$f":"ROUND(ROUND(H43*'2021 Determination Revenue'!$G$30,2)*'2021 Determination Revenue'!H$29,2)","v":26.38},{"$f":"ROUND(ROUND(I43*'2021 Determination Revenue'!$G$30,2)*'2021 Determination Revenue'!I$29,2)","v":26.38},{"$f":"ROUND(ROUND(J43*'2021 Determination Revenue'!$G$30,2)*'2021 Determination Revenue'!J$29,2)","v":26.38}]
[null,{"$f":"'2021 Determination Revenue'!$B$46","v":"Macquarie"},{"$f":"Outputs!$C$33","v":"$/ML"},null,null,null,19.956038554293137,19.956038554293137,19.956038554293137,19.956038554293137,null,{"$f":"ROUND(G44*'2021 Determination Revenue'!$G$30,2)","v":20.18},{"$f":"ROUND(ROUND(H44*'2021 Determination Revenue'!$G$30,2)*'2021 Determination Revenue'!H$29,2)","v":21.21},{"$f":"ROUND(ROUND(I44*'2021 Determination Revenue'!$G$30,2)*'2021 Determination Revenue'!I$29,2)","v":21.21},{"$f":"ROUND(ROUND(J44*'2021 Determination Revenue'!$G$30,2)*'2021 Determination Revenue'!J$29,2)","v":21.21}]
[null,{"$f":"'2021 Determination Revenue'!$B$47","v":"Murray"},{"$f":"Outputs!$C$33","v":"$/ML"},null,null,null,2.2305210005994605,2.2305210005994605,2.2305210005994605,2.2305210005994605,null,{"$f":"ROUND(G45*'2021 Determination Revenue'!$G$30,2)","v":2.2599999999999998},{"$f":"ROUND(ROUND(H45*'2021 Determination Revenue'!$G$30,2)*'2021 Determination Revenue'!H$29,2)","v":2.38},{"$f":"ROUND(ROUND(I45*'2021 Determination Revenue'!$G$30,2)*'2021 Determination Revenue'!I$29,2)","v":2.38},{"$f":"ROUND(ROUND(J45*'2021 Determination Revenue'!$G$30,2)*'2021 Determination Revenue'!J$29,2)","v":2.38}]
[null,{"$f":"'2021 Determination Revenue'!$B$48","v":"Murrumbidgee"},{"$f":"Outputs!$C$33","v":"$/ML"},null,null,null,4.1240457444005791,4.1240457444005791,4.1240457444005791,4.1240457444005791,null,{"$f":"ROUND(G46*'2021 Determination Revenue'!$G$30,2)","v":4.17},{"$f":"ROUND(ROUND(H46*'2021 Determination Revenue'!$G$30,2)*'2021 Determination Revenue'!H$29,2)","v":4.38},{"$f":"ROUND(ROUND(I46*'2021 Determination Revenue'!$G$30,2)*'2021 Determination Revenue'!I$29,2)","v":4.38},{"$f":"ROUND(ROUND(J46*'2021 Determination Revenue'!$G$30,2)*'2021 Determination Revenue'!J$29,2)","v":4.38}]
[null,{"$f":"'2021 Determination Revenue'!$B$49","v":"Lowbidgee"},{"$f":"Outputs!$C$33","v":"$/ML"},null,null,null,0,0,0,0,null,{"$f":"ROUND(G47*'2021 Determination Revenue'!$G$30,2)","v":0},{"$f":"ROUND(ROUND(H47*'2021 Determination Revenue'!$G$30,2)*'2021 Determination Revenue'!H$29,2)","v":0},{"$f":"ROUND(ROUND(I47*'2021 Determination Revenue'!$G$30,2)*'2021 Determination Revenue'!I$29,2)","v":0},{"$f":"ROUND(ROUND(J47*'2021 Determination Revenue'!$G$30,2)*'2021 Determination Revenue'!J$29,2)","v":0}]
[]
[null,"Source: ","2021 Review pricing model, Price Scenario worksheet",null,null,null,null,"Table 11.3 (from row 162)","D21/15629"]
[]
[]
[null,"TABLE 3.2 - MDBA AND BRC USAGE AND ENTITLEMENT CHARGES"]
[null,{"$f":"'2021 Determination Revenue'!B$20","v":"Financial year"},{"$f":"'2021 Determination Revenue'!C$36","v":"Units"},null,null,null,{"$f":"G$13","v":"2021-22"},{"$f":"H$13","v":"2022-23"},"2023-24","2024-25",null,{"$f":"L$13","v":"2021-22"},{"$f":"M$13","v":"2022-23"},{"$f":"N$13","v":"2023-24"},{"$f":"O$13","v":"2024-25"}]
[null,null,null,null,null,null,{"$f":"G$14","v":"$2020-21"},{"$f":"H$14","v":"$2020-21"},"$2020-21","$2020-21",null,{"$f":"L$14","v":"$2021-22"},{"$f":"M$14","v":"$2022-23"},{"$f":"N$14","v":"$2023-24"},{"$f":"O$14","v":"$2024-25"}]
[]
[null,"Usage charges"]
[null,{"$f":"'2021 Determination Revenue'!$B$41","v":"Border"},{"$f":"Outputs!$C$33","v":"$/ML"},null,null,null,0.8531212502370169,0.8531212502370169,0.8531212502370169,0.8531212502370169,null,{"$f":"ROUND(G57*'2021 Determination Revenue'!$G$30,2)","v":0.86},{"$f":"ROUND(ROUND(H57*'2021 Determination Revenue'!$G$30,2)*'2021 Determination Revenue'!H$29,2)","v":0.9},{"$f":"ROUND(ROUND(I57*'2021 Determination Revenue'!$G$30,2)*'2021 Determination Revenue'!I$29,2)","v":0.9},{"$f":"ROUND(ROUND(J57*'2021 Determination Revenue'!$G$30,2)*'2021 Determination Revenue'!J$29,2)","v":0.9}]
[null,{"$f":"'2021 Determination Revenue'!$B$47","v":"Murray"},{"$f":"Outputs!$C$33","v":"$/ML"},null,null,null,1.8287582386125982,1.8287582386125982,1.8287582386125982,1.8287582386125982,null,{"$f":"ROUND(G58*'2021 Determination Revenue'!$G$30,2)","v":1.85},{"$f":"ROUND(ROUND(H58*'2021 Determination Revenue'!$G$30,2)*'2021 Determination Revenue'!H$29,2)","v":1.94},{"$f":"ROUND(ROUND(I58*'2021 Determination Revenue'!$G$30,2)*'2021 Determination Revenue'!I$29,2)","v":1.94},{"$f":"ROUND(ROUND(J58*'2021 Determination Revenue'!$G$30,2)*'2021 Determination Revenue'!J$29,2)","v":1.94}]
[null,{"$f":"'2021 Determination Revenue'!$B$48","v":"Murrumbidgee"},{"$f":"Outputs!$C$33","v":"$/ML"},null,null,null,0.36537932857703598,0.36537932857703598,0.36537932857703598,0.36537932857703598,null,{"$f":"ROUND(G59*'2021 Determination Revenue'!$G$30,2)","v":0.37},{"$f":"ROUND(ROUND(H59*'2021 Determination Revenue'!$G$30,2)*'2021 Determination Revenue'!H$29,2)","v":0.39},{"$f":"ROUND(ROUND(I59*'2021 Determination Revenue'!$G$30,2)*'2021 Determination Revenue'!I$29,2)","v":0.39},{"$f":"ROUND(ROUND(J59*'2021 Determination Revenue'!$G$30,2)*'2021 Determination Revenue'!J$29,2)","v":0.39}]
[]
[null,"General security entitlement"]
[null,{"$f":"'2021 Determination Revenue'!$B$41","v":"Border"},{"$f":"Outputs!$C$33","v":"$/ML"},null,null,null,1.750815175285994,1.750815175285994,1.750815175285994,1.750815175285994,null,{"$f":"ROUND(G62*'2021 Determination Revenue'!$G$30,2)","v":1.77},{"$f":"ROUND(ROUND(H62*'2021 Determination Revenue'!$G$30,2)*'2021 Determination Revenue'!H$29,2)","v":1.86},{"$f":"ROUND(ROUND(I62*'2021 Determination Revenue'!$G$30,2)*'2021 Determination Revenue'!I$29,2)","v":1.86},{"$f":"ROUND(ROUND(J62*'2021 Determination Revenue'!$G$30,2)*'2021 Determination Revenue'!J$29,2)","v":1.86}]
[null,{"$f":"'2021 Determination Revenue'!$B$47","v":"Murray"},{"$f":"Outputs!$C$33","v":"$/ML"},null,null,null,3.7624107165371456,3.7624107165371456,3.7624107165371456,3.7624107165371456,null,{"$f":"ROUND(G63*'2021 Determination Revenue'!$G$30,2)","v":3.8},{"$f":"ROUND(ROUND(H63*'2021 Determination Revenue'!$G$30,2)*'2021 Determination Revenue'!H$29,2)","v":3.99},{"$f":"ROUND(ROUND(I63*'2021 Determination Revenue'!$G$30,2)*'2021 Determination Revenue'!I$29,2)","v":3.99},{"$f":"ROUND(ROUND(J63*'2021 Determination Revenue'!$G$30,2)*'2021 Determination Revenue'!J$29,2)","v":3.99}]
[null,{"$f":"'2021 Determination Revenue'!$B$48","v":"Murrumbidgee"},{"$f":"Outputs!$C$33","v":"$/ML"},null,null,null,0.63270816474550273,0.63270816474550273,0.63270816474550273,0.63270816474550273,null,{"$f":"ROUND(G64*'2021 Determination Revenue'!$G$30,2)","v":0.64},{"$f":"ROUND(ROUND(H64*'2021 Determination Revenue'!$G$30,2)*'2021 Determination Revenue'!H$29,2)","v":0.67},{"$f":"ROUND(ROUND(I64*'2021 Determination Revenue'!$G$30,2)*'2021 Determination Revenue'!I$29,2)","v":0.67},{"$f":"ROUND(ROUND(J64*'2021 Determination Revenue'!$G$30,2)*'2021 Determination Revenue'!J$29,2)","v":0.67}]
[]
[null,"High security entitlement"]
[null,{"$f":"'2021 Determination Revenue'!$B$41","v":"Border"},{"$f":"Outputs!$C$33","v":"$/ML"},null,null,null,4.782665345178934,4.782665345178934,4.782665345178934,4.782665345178934,null,{"$f":"ROUND(G67*'2021 Determination Revenue'!$G$30,2)","v":4.84},{"$f":"ROUND(ROUND(H67*'2021 Determination Revenue'!$G$30,2)*'2021 Determination Revenue'!H$29,2)","v":5.09},{"$f":"ROUND(ROUND(I67*'2021 Determination Revenue'!$G$30,2)*'2021 Determination Revenue'!I$29,2)","v":5.09},{"$f":"ROUND(ROUND(J67*'2021 Determination Revenue'!$G$30,2)*'2021 Determination Revenue'!J$29,2)","v":5.09}]
[null,{"$f":"'2021 Determination Revenue'!$B$47","v":"Murray"},{"$f":"Outputs!$C$33","v":"$/ML"},null,null,null,8.5430699040641063,8.5430699040641063,8.5430699040641063,8.5430699040641063,null,{"$f":"ROUND(G68*'2021 Determination Revenue'!$G$30,2)","v":8.64},{"$f":"ROUND(ROUND(H68*'2021 Determination Revenue'!$G$30,2)*'2021 Determination Revenue'!H$29,2)","v":9.08},{"$f":"ROUND(ROUND(I68*'2021 Determination Revenue'!$G$30,2)*'2021 Determination Revenue'!I$29,2)","v":9.08},{"$f":"ROUND(ROUND(J68*'2021 Determination Revenue'!$G$30,2)*'2021 Determination Revenue'!J$29,2)","v":9.08}]
[null,{"$f":"'2021 Determination Revenue'!$B$48","v":"Murrumbidgee"},{"$f":"Outputs!$C$33","v":"$/ML"},null,null,null,1.8412236356578928,1.8412236356578928,1.8412236356578928,1.8412236356578928,null,{"$f":"ROUND(G69*'2021 Determination Revenue'!$G$30,2)","v":1.86},{"$f":"ROUND(ROUND(H69*'2021 Determination Revenue'!$G$30,2)*'2021 Determination Revenue'!H$29,2)","v":1.95},{"$f":"ROUND(ROUND(I69*'2021 Determination Revenue'!$G$30,2)*'2021 Determination Revenue'!I$29,2)","v":1.95},{"$f":"ROUND(ROUND(J69*'2021 Determination Revenue'!$G$30,2)*'2021 Determination Revenue'!J$29,2)","v":1.95}]
[]
[]
[null,"Source: ","2021 Review pricing model, Price Scenario worksheet",null,null,null,null,"Table 11.3 (from row 206)",{"$f":"$I$49","v":"D21/15629"}]
[]
[]
[null,"TABLE 3.3 - FISH RIVER WATER SUPPLY SCHEME CHARGES"]
[null,{"$f":"'2021 Determination Revenue'!B$20","v":"Financial year"},{"$f":"'2021 Determination Revenue'!C$36","v":"Units"},null,null,null,{"$f":"G$13","v":"2021-22"},{"$f":"H$13","v":"2022-23"},"2023-24","2024-25",null,{"$f":"L13","v":"2021-22"},{"$f":"M13","v":"2022-23"},"2023-24","2024-25"]
[null,null,null,null,null,null,{"$f":"G$14","v":"$2020-21"},{"$f":"H$14","v":"$2020-21"},"$2020-21","$2020-21",null,{"$f":"$L$14","v":"$2021-22"},{"$f":"$M$14","v":"$2022-23"},{"$f":"N$14","v":"$2023-24"},{"$f":"O$14","v":"$2024-25"}]
[]
[null,"Minimum Annual Quantity (MAQ) "]
[null,{"$f":"'Updated Volumes'!B$31","v":"Energy Australia "},{"$f":"Outputs!$C$154","v":"$/kL"},null,null,null,0.48010269747526763,0.48010269747526763,0.48010269747526763,0.48010269747526763,null,{"$f":"ROUND(G80*'2021 Determination Revenue'!$G$30,2)","v":0.49},{"$f":"ROUND(ROUND(H80*'2021 Determination Revenue'!$G$30,2)*'2021 Determination Revenue'!H$29,2)","v":0.51},{"$f":"ROUND(ROUND(I80*'2021 Determination Revenue'!$G$30,2)*'2021 Determination Revenue'!I$29,2)","v":0.51},{"$f":"ROUND(ROUND(J80*'2021 Determination Revenue'!$G$30,2)*'2021 Determination Revenue'!J$29,2)","v":0.51}]
[null,{"$f":"'Updated Volumes'!B$32","v":"Minor customers (raw) "},{"$f":"Outputs!$C$154","v":"$/kL"},null,null,null,0.48010269747526763,0.48010269747526763,0.48010269747526763,0.48010269747526763,null,{"$f":"ROUND(G81*'2021 Determination Revenue'!$G$30,2)","v":0.49},{"$f":"ROUND(ROUND(H81*'2021 Determination Revenue'!$G$30,2)*'2021 Determination Revenue'!H$29,2)","v":0.51},{"$f":"ROUND(ROUND(I81*'2021 Determination Revenue'!$G$30,2)*'2021 Determination Revenue'!I$29,2)","v":0.51},{"$f":"ROUND(ROUND(J81*'2021 Determination Revenue'!$G$30,2)*'2021 Determination Revenue'!J$29,2)","v":0.51}]
[null,{"$f":"'Updated Volumes'!B$33","v":"Minor customers (filtered) "},{"$f":"Outputs!$C$154","v":"$/kL"},null,null,null,0.84692177902568677,0.84692177902568677,0.84692177902568677,0.84692177902568677,null,{"$f":"ROUND(G82*'2021 Determination Revenue'!$G$30,2)","v":0.86},{"$f":"ROUND(ROUND(H82*'2021 Determination Revenue'!$G$30,2)*'2021 Determination Revenue'!H$29,2)","v":0.9},{"$f":"ROUND(ROUND(I82*'2021 Determination Revenue'!$G$30,2)*'2021 Determination Revenue'!I$29,2)","v":0.9},{"$f":"ROUND(ROUND(J82*'2021 Determination Revenue'!$G$30,2)*'2021 Determination Revenue'!J$29,2)","v":0.9}]
[]
[null,"Usage up to MAQ "]
[null,{"$f":"'Updated Volumes'!B$31","v":"Energy Australia "},{"$f":"Outputs!$C$154","v":"$/kL"},null,null,null,0.32463815347506425,0.32463815347506425,0.32463815347506425,0.32463815347506425,null,{"$f":"ROUND(G85*'2021 Determination Revenue'!$G$30,2)","v":0.33},{"$f":"ROUND(ROUND(H85*'2021 Determination Revenue'!$G$30,2)*'2021 Determination Revenue'!H$29,2)","v":0.35},{"$f":"ROUND(ROUND(I85*'2021 Determination Revenue'!$G$30,2)*'2021 Determination Revenue'!I$29,2)","v":0.35},{"$f":"ROUND(ROUND(J85*'2021 Determination Revenue'!$G$30,2)*'2021 Determination Revenue'!J$29,2)","v":0.35}]
[null,{"$f":"'Updated Volumes'!B$32","v":"Minor customers (raw) "},{"$f":"Outputs!$C$154","v":"$/kL"},null,null,null,0.32463815347506425,0.32463815347506425,0.32463815347506425,0.32463815347506425,null,{"$f":"ROUND(G86*'2021 Determination Revenue'!$G$30,2)","v":0.33},{"$f":"ROUND(ROUND(H86*'2021 Determination Revenue'!$G$30,2)*'2021 Determination Revenue'!H$29,2)","v":0.35},{"$f":"ROUND(ROUND(I86*'2021 Determination Revenue'!$G$30,2)*'2021 Determination Revenue'!I$29,2)","v":0.35},{"$f":"ROUND(ROUND(J86*'2021 Determination Revenue'!$G$30,2)*'2021 Determination Revenue'!J$29,2)","v":0.35}]
[null,{"$f":"'Updated Volumes'!B$33","v":"Minor customers (filtered) "},{"$f":"Outputs!$C$154","v":"$/kL"},null,null,null,0.52463815347506426,0.52463815347506426,0.52463815347506426,0.52463815347506426,null,{"$f":"ROUND(G87*'2021 Determination Revenue'!$G$30,2)","v":0.53},{"$f":"ROUND(ROUND(H87*'2021 Determination Revenue'!$G$30,2)*'2021 Determination Revenue'!H$29,2)","v":0.56000000000000005},{"$f":"ROUND(ROUND(I87*'2021 Determination Revenue'!$G$30,2)*'2021 Determination Revenue'!I$29,2)","v":0.56000000000000005},{"$f":"ROUND(ROUND(J87*'2021 Determination Revenue'!$G$30,2)*'2021 Determination Revenue'!J$29,2)","v":0.56000000000000005}]
[]
[null,"Usage in excess of MAQ "]
[null,{"$f":"'Updated Volumes'!B$31","v":"Energy Australia "},{"$f":"Outputs!$C$154","v":"$/kL"},null,null,null,{"$f":"G80+G85","v":0.80474085095033188},{"$f":"H80+H85","v":0.80474085095033188},{"$f":"I80+I85","v":0.80474085095033188},{"$f":"J80+J85","v":0.80474085095033188},null,{"$f":"L80+L85","v":0.82000000000000006},{"$f":"M80+M85","v":0.86},{"$f":"N80+N85","v":0.86},0.86]
[null,{"$f":"'Updated Volumes'!B$32","v":"Minor customers (raw) "},{"$f":"Outputs!$C$154","v":"$/kL"},null,null,null,{"$f":"G81+G86","v":0.80474085095033188},{"$f":"H81+H86","v":0.80474085095033188},0.80474085095033188,{"$f":"J81+J86","v":0.80474085095033188},null,{"$f":"L81+L86","v":0.82000000000000006},0.86,{"$f":"N81+N86","v":0.86},0.86]
[null,{"$f":"'Updated Volumes'!B$33","v":"Minor customers (filtered) "},{"$f":"Outputs!$C$154","v":"$/kL"},null,null,null,1.371559932500751,1.371559932500751,1.371559932500751,{"$f":"J82+J87","v":1.371559932500751},null,{"$f":"L82+L87","v":1.3900000000000001},1.46,{"$f":"N82+N87","v":1.46},1.46]
[]
[null,"Source: ","2021 Review pricing model, Price Scenario worksheet",null,null,null,null,"Table 11.4"]

{"sheet":"Updated Volumes","index":4,"n_rows":126,"n_cols":33,"rows_kept":126,"cut":false,"hidden":false,"merged":[[20,32,26,37]]}
[]
[null,"1  UPDATED VOLUMES PROVIDED BY WaterNSW"]
[null,"This worksheet records the updated usage and entitlement volumes that are used to calculate updated prices for the Annual Review.  WaterNSW provides the updated volumes."]
[null,{"$f":"\"  - Variable usage charges are calculated using rolling 20-year historical average volumes with a two year lag, eg, \"&AB$16&\" usage charges are calculated using \"&$G$16&\" to \"&$Z$16&\" volumes.\"","v":"  - Variable usage charges are calculated using rolling 20-year historical average volumes with a two year lag, eg, 2022-23 usage charges are calculated using 2001-02 to 2020-21 volumes."}]
[null,{"$f":"\"  - Entitlement charges are calculated using single year volumes with the same two year lag, eg. \"&$AB$16&\" entitlement charges are calculated using \"&$Z$16&\" entitlement volumes.\"","v":"  - Entitlement charges are calculated using single year volumes with the same two year lag, eg. 2022-23 entitlement charges are calculated using 2020-21 entitlement volumes."}]
[]
[null,"List of tables",null,null,null,null,null,null,null,null,null,null,null,null,null,null,null,null,null,null,null,null,null,null,null,null,null,null,"Row number"]
[null,{"$f":"B14","v":"TABLE 1.1 - USAGE VOLUMES"},null,null,null,null,null,null,null,null,null,null,null,null,null,null,null,null,null,null,null,null,null,null,null,null,null,null,{"$f":"ROW(B14)","v":14}]
[null,{"$f":"B37","v":"TABLE 1.2 - ENTITLEMENT VOLUMES"},null,null,null,null,null,null,null,null,null,null,null,null,null,null,null,null,null,null,null,null,null,null,null,null,null,null,{"$f":"ROW(B37)","v":37}]
[null,{"$f":"B75","v":"TABLE 1.3 - ACTUAL WATER ALLOCATIONS"},null,null,null,null,null,null,null,null,null,null,null,null,null,null,null,null,null,null,null,null,null,null,null,null,null,null,{"$f":"ROW(B75)","v":75}]
[null,{"$f":"B115","v":"TABLE 1.4 - FISH RIVER WATER SUPPLY SCHEME (FRWS) MINOR CUSTOMER NUMBERS AND MAQ ENTITLEMENT VOLUMES"},null,null,null,null,null,null,null,null,null,null,null,null,null,null,null,null,null,null,null,null,null,null,null,null,null,null,{"$f":"ROW(B115)","v":115}]
[]
[]
[null,"TABLE 1.1 - USAGE VOLUMES"]
[null,"Financial year ending 30 June","Units",null,null,{"$f":"G15-1","v":2001},2002,2003,2004,2005,2006,2007,2008,2009,2010,2011,2012,2013,2014,2015,2016,2017,2018,2019,2020,{"$f":"AA15-1","v":2021},2022,2023,2024,2025]
[null,"Financial year",null,null,null,{"$f":"F15-1&\"-\"&RIGHT(F15,2)","v":"2000-01"},"2001-02","2002-03","2003-04","2004-05","2005-06","2006-07","2007-08","2008-09","2009-10","2010-11","2011-12","2012-13","2013-14","2014-15","2015-16","2016-17","2017-18","2018-19","2019-20","2020-21",{"$f":"AA15-1&\"-\"&RIGHT(AA15,2)","v":"2021-22"},{"$f":"AB15-1&\"-\"&RIGHT(AB15,2)","v":"2022-23"},"2023-24","2024-25"]
[null,null,null,null,null,"Actual",{"$f":"$F$17","v":"Actual"},{"$f":"$F$17","v":"Actual"},"Actual","Actual","Actual","Actual","Actual","Actual","Actual","Actual","Actual","Actual","Actual","Actual","Actual","Actual","Actual","Actual","Actual","Actual","Estimate","Forecast","Forecast","Forecast"]
[]
[null,"Usage Volume"]
[null,"Border","ML",null,null,231793,182622,123803,100542.36,107564,134417,131934,112269,117688,110391.2,187024.6,160312,220696,197467.59999999998,41672.9,100403.8,232303.30000000002,139604.9,145591.30000000002,{"$f":"'WaterNSW data inputs'!AA51","v":10963.5},{"$f":"'WaterNSW data inputs'!AB51","v":109569.2},{"$f":"'WaterNSW data inputs'!AG66","v":139453.17299999995},{"$f":"AVERAGE(G20:Z20)","v":133341.98300000001},null,null,null,null,"2022-23 is equal to the 20-year rolling average of actual water sales (with a two year lag) from 2001-02 to 2020-21. "]
[null,"Gwydir",{"$f":"C$20","v":"ML"},null,null,425315,443145,278986,159250,154840,218496,129467,79132,143199,46959,245148,200724.1,428699.4,408995.39999999997,153199.6,85020.5,332713,315045.70000000007,121129.9,{"$f":"'WaterNSW data inputs'!AA52","v":40316.9},{"$f":"'WaterNSW data inputs'!AB52","v":202432.30000000002},{"$f":"'WaterNSW data inputs'!AG67","v":220489.07500000004},{"$f":"AVERAGE(G21:Z21)","v":209344.94},null,null,null,null,"WaterNSW’s forecast of expected demand for the 2021-22 financial year is equivalent to the forecast included in IPART’s 2022 Determination. The recent severe rainfall and flood events in NSW has created significant uncertainty in 2021-22 demand. At this time, the Determination forecast is appropriate until the weather events are resolved, and more information is obtained.\n\nUsage from 2000-01 to 2003-04 for Murray and Murrumbidgee have been updated for an updated estimate of interstate trade usage."]
[null,"Namoi",{"$f":"C$20","v":"ML"},null,null,248842.49,280339.88,236853.11,80652.710000000006,96650,141325.29999999999,66558.5,51211.6,97482,75152,149958,128271.7,281246.7,271541.50000000006,66353.899999999994,38334.799999999996,213598,180155.6,47490.3,{"$f":"'WaterNSW data inputs'!AA53","v":12800.900000000001},{"$f":"'WaterNSW data inputs'!AB53","v":118795.6},{"$f":"'WaterNSW data inputs'!AG68","v":138240.94949999999},131738.60500000001]
[null,"Peel","ML",null,null,10241,14671,21805,13325,15165,14753,9718,9080,10183,17517,6915,4218.7,13317.1,17412.7,6052.9000000000005,11011.499999999998,10365.900000000001,22083.99,18581.800000000003,{"$f":"'WaterNSW data inputs'!AA54","v":6081.5},{"$f":"'WaterNSW data inputs'!AB54","v":6339.2999999999993},{"$f":"'WaterNSW data inputs'!AG69","v":12624.954500000002},12429.869500000001]
[null,"Lachlan","ML",null,null,407000,439572.22,237252.44,43509.97,21164.7,112435.93,57260.200000000004,30776.5,27797.599999999999,11786.7,85698.8,212768.7,394082.4,248401.7,178283.19999999998,199222.9,206757.9,347405.69999999995,278111.3,{"$f":"'WaterNSW data inputs'!AA55","v":102717.6},{"$f":"'WaterNSW data inputs'!AB55","v":151636.79999999999},{"$f":"'WaterNSW data inputs'!AG70","v":182100.32299999997},169332.16299999997]
[null,"Macquarie","ML",null,null,464188,545663.54,375914.33,174168.35,63783.6,180723,204745,30867,65439,73820,203146,296617.90000000002,558856.4,268934.09999999998,90827.299999999988,109532.90000000001,232194,399824.6,255839.3,{"$f":"'WaterNSW data inputs'!AA56","v":55808.4},{"$f":"'WaterNSW data inputs'!AB56","v":147647},{"$f":"'WaterNSW data inputs'!AG71","v":232544.636},216717.58599999998]
[null,"Murray","ML",null,null,{"$f":"'WaterNSW data inputs'!H57","v":2415247.4176470591},{"$f":"'WaterNSW data inputs'!I57","v":2266393.4176470591},{"$f":"'WaterNSW data inputs'!J57","v":1159554.4176470588},{"$f":"'WaterNSW data inputs'!K57","v":1497066.4176470588},1284123.7,1692042.2,602536.1,289197.3,501322.4,679952.1,960984.60000000009,1848920.7000000002,2514563.6999999997,2056232.1,1764682.1,1103217.1000000001,1877178.8,1701381.0999999999,768313.29999999993,{"$f":"'WaterNSW data inputs'!AA57","v":634902.80000000005},{"$f":"'WaterNSW data inputs'!AB57","v":1482786.0999999999},{"$f":"'WaterNSW data inputs'!AG72","v":1379454.1000000003},1334267.5226470593]
[null,"Murrumbidgee","ML",null,null,{"$f":"'WaterNSW data inputs'!H58","v":2258081.3647058825},{"$f":"'WaterNSW data inputs'!I58","v":2314081.3647058825},{"$f":"'WaterNSW data inputs'!J58","v":1790081.3647058823},{"$f":"'WaterNSW data inputs'!K58","v":1715081.3647058823},1534368.1,1938642.7,952257.7,566132.6,929755.50000000012,893689.5,1364777.6,1739421.3,2353487.6,1777486.6,1883941.7999999998,1419128.5,1902516.4,1715237.9,1012155.8,{"$f":"'WaterNSW data inputs'!AA58","v":558857.80000000005},{"$f":"'WaterNSW data inputs'!AB58","v":1971831.5},{"$f":"'WaterNSW data inputs'!AG73","v":1531632.03125},1516646.6497058824]
[null,"Lowbidgee","ML",null,null,null,null,null,null,null,null,null,null,null,null,null,null,92544,8392,82587,12840,59350,0,null,null,null,null,null,null,null,null,null,"Lowbidgee volumes are not used to set variable charges"]
[]
[null,"Fish River Water Supply Scheme"]
[null,"Energy Australia ","kL",null,null,2466600,3215700,2318514,571786,1496500,962500,2726200,1291700,630600,394900,2046800,612100,1336800,1643600,755130,2179600,1539580,5512622,4090029,{"$f":"'WaterNSW data inputs'!AA169*1000","v":1204987},{"$f":"'WaterNSW data inputs'!AB169*1000","v":1092208},1849811.3,{"$f":"AVERAGE(G31:Z31)","v":1781092.8},null,null,null,null,"Note: this excludes estimated usage from Wallarawang Power Station, as per the 2017 Rural Valley Determination. 2022-23 is equal to the 20-year rolling average of actual water sales (with a two year lag) from 2001-02 to 2020-21. "]
[null,"Minor customers (raw) ","ML",null,null,50,50,66,60,45,64,47,40,42,40,30,36,41,54,65,51.097000000000001,70.8,56.5,61.56,{"$f":"'WaterNSW data inputs'!AA172","v":53.261000000000003},{"$f":"'WaterNSW data inputs'!AB172","v":52.74},51.160800000000002,{"$f":"AVERAGE(G32:Z32)","v":51.297899999999991},null,null,null,null,"2022-23 is equal to the 20-year rolling average of actual water sales (with a two year lag) from 2001-02 to 2020-21. "]
[null,"Minor customers (filtered) ","ML",null,null,129,129,170,155,116,164,112,110,104,88,97,92,65,66,80,73.823999999999998,65.659000000000006,{"$f":"'WaterNSW data inputs'!Y176","v":75.3},82.213999999999999,{"$f":"'WaterNSW data inputs'!AA176","v":80.653999999999996},{"$f":"'WaterNSW data inputs'!AB176","v":77.14},102.73255,{"$f":"AVERAGE(G33:Z33)","v":100.13955000000001},null,null,null,null,"2022-23 is equal to the 20-year rolling average of actual water sales (with a two year lag) from 2001-02 to 2020-21.  2017-18 volumes in this row have been amended, as IPART's value was previously referring to 2016-17 values."]
[]
[]
[]
[null,"TABLE 1.2 - ENTITLEMENT VOLUMES"]
[null,"Financial year","Units",null,null,{"$f":"F$16","v":"2000-01"},"2001-02","2002-03","2003-04","2004-05","2005-06","2006-07","2007-08","2008-09","2009-10","2010-11","2011-12","2012-13","2013-14","2014-15","2015-16","2016-17","2017-18","2018-19","2019-20","2020-21",{"$f":"AA$16","v":"2021-22"},{"$f":"AB$16","v":"2022-23"},{"$f":"AC$16","v":"2023-24"},{"$f":"AD$16","v":"2024-25"}]
[null,null,null,null,null,{"$f":"F$17","v":"Actual"},"Actual","Actual","Actual","Actual","Actual","Actual","Actual","Actual","Actual","Actual","Actual","Actual","Actual","Actual","Actual","Actual","Actual","Actual","Actual","Actual","Estimate","Forecast","Forecast","Forecast"]
[null,"General security entitlements",null,null,null,null,null,null,null,null,null,null,null,null,null,null,null,null,null,null,null,null,null,null,null,null,null,null,null,null,null,null,"2021-22 estimates are YTD January values"]
[null,"Border",{"$f":"C$20","v":"ML"},null,null,null,null,null,null,null,null,null,null,null,null,null,null,null,null,263238,263238,263218,263281,263218,{"$f":"'WaterNSW data inputs'!AA21","v":263218},{"$f":"'WaterNSW data inputs'!AB21","v":263218},{"$f":"'WaterNSW data inputs'!AC21","v":263218},{"$f":"Z41","v":263218},null,null,null,null,"2022-23 Forecast is latest full year set of actuals (2020-21), as per IPART's methodology."]
[null,"Gwydir","ML",null,null,null,null,null,null,null,null,null,null,null,null,null,null,null,null,509665,509665,509665,509665,509665,{"$f":"'WaterNSW data inputs'!AA22","v":509665},{"$f":"'WaterNSW data inputs'!AB22","v":509665},{"$f":"'WaterNSW data inputs'!AC22","v":509665},{"$f":"Z42","v":509665}]
[null,"Namoi","ML",null,null,null,null,null,null,null,null,null,null,null,null,null,null,null,null,256211.5,256211.5,256211.5,256528.7,256529,{"$f":"'WaterNSW data inputs'!AA23","v":256529},{"$f":"'WaterNSW data inputs'!AB23","v":256690.7},{"$f":"'WaterNSW data inputs'!AC23","v":256691},256690.7]
[null,"Peel","ML",null,null,null,null,null,null,null,null,null,null,null,null,null,null,null,null,30428,30428,30428,29635,29635,{"$f":"'WaterNSW data inputs'!AA24","v":29635},{"$f":"'WaterNSW data inputs'!AB24","v":29311},{"$f":"'WaterNSW data inputs'!AC24","v":29311},29311]
[null,"Lachlan","ML",null,null,null,null,null,null,null,null,null,null,null,null,null,null,null,null,633346.39999999991,633166.39999999991,633166.4,633166.4,633166,{"$f":"'WaterNSW data inputs'!AA25","v":633166},{"$f":"'WaterNSW data inputs'!AB25","v":633166},{"$f":"'WaterNSW data inputs'!AC25","v":633166},633166]
[null,"Macquarie","ML",null,null,null,null,null,null,null,null,null,null,null,null,null,null,null,null,632466,632466.10000000009,632466.1,632466.1,632466,{"$f":"'WaterNSW data inputs'!AA26","v":632466},{"$f":"'WaterNSW data inputs'!AB26","v":632466},{"$f":"'WaterNSW data inputs'!AC26","v":632466},632466]
[null,"Murray","ML",null,null,null,null,null,null,null,null,null,null,null,null,null,null,null,null,2081289.0999999999,2083271.0999999999,2083271.1,2083271.1,2083603,{"$f":"'WaterNSW data inputs'!AA27","v":2083603},{"$f":"'WaterNSW data inputs'!AB27","v":2083603},{"$f":"'WaterNSW data inputs'!AC27","v":2083603},2083603]
[null,"Murrumbidgee","ML",null,null,null,null,null,null,null,null,null,null,null,null,null,null,null,null,2267962.6,2267962.6000000006,2267962.6,2267962.6,2267963,{"$f":"'WaterNSW data inputs'!AA28","v":2264995},{"$f":"'WaterNSW data inputs'!AB28","v":2264995},{"$f":"'WaterNSW data inputs'!AC28","v":2264995},2264995]
[null,"Lowbidgee","ML"]
[]
[null,"High security entitlements"]
[null,"Border",{"$f":"C$20","v":"ML"},null,null,null,null,null,null,null,null,null,null,null,null,null,null,null,null,3122,3121,3141,3141,3141,{"$f":"'WaterNSW data inputs'!AA6","v":3141},{"$f":"'WaterNSW data inputs'!AB6","v":3141},{"$f":"'WaterNSW data inputs'!AC6","v":3141},{"$f":"Z52","v":3141}]
[null,"Gwydir","ML",null,null,null,null,null,null,null,null,null,null,null,null,null,null,null,null,26839.9,26919.9,26919.9,26919.9,26920,{"$f":"'WaterNSW data inputs'!AA7","v":26920},{"$f":"'WaterNSW data inputs'!AB7","v":27219.9},{"$f":"'WaterNSW data inputs'!AC7","v":27220},27219.9]
[null,"Namoi","ML",null,null,null,null,null,null,null,null,null,null,null,null,null,null,null,null,8882,8866,8866,8866,8866,{"$f":"'WaterNSW data inputs'!AA8","v":8859},{"$f":"'WaterNSW data inputs'!AB8","v":8841},{"$f":"'WaterNSW data inputs'!AC8","v":8841},8841]
[null,"Peel","ML",null,null,null,null,null,null,null,null,null,null,null,null,null,null,null,null,17367,17367,17367,17367,17367,{"$f":"'WaterNSW data inputs'!AA9","v":17367},{"$f":"'WaterNSW data inputs'!AB9","v":17367},{"$f":"'WaterNSW data inputs'!AC9","v":17367},17367]
[null,"Lachlan","ML",null,null,null,null,null,null,null,null,null,null,null,null,null,null,null,null,57512.000000000007,57304,57301,57302,57252,{"$f":"'WaterNSW data inputs'!AA10","v":57269},{"$f":"'WaterNSW data inputs'!AB10","v":57269},{"$f":"'WaterNSW data inputs'!AC10","v":57269},57269]
[null,"Macquarie","ML",null,null,null,null,null,null,null,null,null,null,null,null,null,null,null,null,42720.5,42712,42688,42688,42691,{"$f":"'WaterNSW data inputs'!AA11","v":42672},{"$f":"'WaterNSW data inputs'!AB11","v":42669},{"$f":"'WaterNSW data inputs'!AC11","v":42663},42669]
[null,"Murray","ML",null,null,null,null,null,null,null,null,null,null,null,null,null,null,null,null,261515,263603.09999999998,263590.09999999998,263555.09999999998,263575,{"$f":"'WaterNSW data inputs'!AA12","v":276920},{"$f":"'WaterNSW data inputs'!AB12","v":276894.3},{"$f":"'WaterNSW data inputs'!AC12","v":267182},276894.3]
[null,"Murrumbidgee","ML",null,null,null,null,null,null,null,null,null,null,null,null,null,null,null,null,438310.60000000009,438327.60000000009,438327.6,438327.6,438328,{"$f":"'WaterNSW data inputs'!AA13","v":440472},{"$f":"'WaterNSW data inputs'!AB13","v":440475},{"$f":"'WaterNSW data inputs'!AC13","v":440472},440475]
[null,"Lowbidgee","ML"]
[]
[null,"Supplementary entitlements",null,null,null,null,null,null,null,null,null,null,null,null,null,null,null,null,null,null,null,null,null,null,null,null,null,null,null,null,null,null,"WNSW: WaterNSW is not required to report number of supplementary entitlements for the Annual Review.  Besides the Lowbidgee fixed charge, it is noted that this information does not form an input into regulated charges."]
[null,"Border",{"$f":"C$20","v":"ML"},null,null,null,null,null,null,null,null,null,null,null,null,null,null,null,null,0,0,0,0,0,0,0,0,{"$f":"Z63","v":0}]
[null,"Gwydir","ML",null,null,null,null,null,null,null,null,null,null,null,null,null,null,null,null,0,0,0,0,0,0,0,0,0]
[null,"Namoi","ML",null,null,null,null,null,null,null,null,null,null,null,null,null,null,null,null,0,0,0,0,0,0,0,0,0]
[null,"Peel","ML",null,null,null,null,null,null,null,null,null,null,null,null,null,null,null,null,0,0,0,0,0,0,0,0,0]
[null,"Lachlan","ML",null,null,null,null,null,null,null,null,null,null,null,null,null,null,null,null,0,0,0,0,0,0,0,0,0]
[null,"Macquarie","ML",null,null,null,null,null,null,null,null,null,null,null,null,null,null,null,null,0,0,0,0,0,0,0,0,0]
[null,"Murray","ML",null,null,null,null,null,null,null,null,null,null,null,null,null,null,null,null,0,0,0,0,0,0,0,0,0]
[null,"Murrumbidgee","ML",null,null,null,null,null,null,null,null,null,null,null,null,null,null,null,null,0,0,0,0,0,0,0,0,0]
[null,"Lowbidgee","ML",null,null,null,null,null,null,null,null,null,null,null,null,null,null,null,null,747000,747000,747000,747000,747000,747000,747000,747000,747000]
[]
[]
[]
[null,"TABLE 1.3 - ACTUAL WATER ALLOCATIONS"]
[null,"Financial year","Units",null,null,{"$f":"F$16","v":"2000-01"},"2001-02","2002-03","2003-04","2004-05","2005-06","2006-07","2007-08","2008-09","2009-10","2010-11","2011-12","2012-13","2013-14","2014-15","2015-16","2016-17","2017-18","2018-19","2019-20","2020-21",{"$f":"AA$16","v":"2021-22"},{"$f":"AB$16","v":"2022-23"},{"$f":"AC$16","v":"2023-24"},{"$f":"AD$16","v":"2024-25"}]
[null,null,null,null,null,{"$f":"F39","v":"Actual"},{"$f":"G39","v":"Actual"},"Actual","Actual","Actual","Actual","Actual","Actual","Actual","Actual","Actual","Actual","Actual","Actual","Actual","Actual","Actual","Actual","Actual","Actual","Actual","Estimate",{"$f":"AB$17","v":"Forecast"},{"$f":"AC39","v":"Forecast"},{"$f":"AD39","v":"Forecast"}]
[null,"Note: 'Water allocations' refer to the proportion of their entitlement volumes that licence holders are permitted to extract each year"]
[null,"General security entitlements",null,null,null,null,null,null,null,null,null,null,null,null,null,null,null,null,null,null,null,null,null,null,null,null,null,null,null,null,null,null,"2021-22 estimates are YTD January values"]
[null,"Border","%",null,null,0.4,0.96160074708827048,0.13839384105607955,0.539439584742478,0.16670339942696896,0.3804940350611139,0.25184189888614927,0.25349809885931562,0.23741444866920153,2.688212927756654E-2,1,1,1,0.35189999999999999,0.1,0.32705384480963978,1.1238046030286699,0.26300000000000001,0.03,{"$f":"'WaterNSW data inputs'!AA140","v":0},{"$f":"'WaterNSW data inputs'!AB140","v":0.51},{"$f":"'WaterNSW data inputs'!AC140","v":1.26},{"$f":"AVERAGE(G80:Z80)","v":0.43310133154527258},null,null,null,null,"2022-23 Forecast is equal to the 20 year rolling average, as per IPART's methodology."]
[null,"Gwydir","%",null,null,0.44698039215686275,0.26623529411764707,0,0.30715686274509807,4.598039215686274E-2,0.21882630029440631,0,0.24245098039215687,0,0,0.82900000000000007,1,1.62,0,0,5.2815084418196247E-2,0.78630178646758153,0.17600000000000002,0,{"$f":"'WaterNSW data inputs'!AA141","v":0.02},{"$f":"'WaterNSW data inputs'!AB141","v":0.57999999999999996},{"$f":"'WaterNSW data inputs'!AC141","v":1.6},{"$f":"AVERAGE(G81:Z81)","v":0.30723833502959741}]
[null,"Namoi","%",null,null,1.2267206477732793,0.29801619433198379,0,0.46469635627530365,0.14133603238866396,0.29975719497365222,0,0.1362753036437247,0.23732793522267207,5.7489878542510116E-3,1.093,1.165,1,0.53180000000000005,0.04,2.2961498605644164E-2,1.2368683685158548,0.11,0.05,{"$f":"'WaterNSW data inputs'!AA142","v":0.02},{"$f":"'WaterNSW data inputs'!AB142","v":0.91},{"$f":"'WaterNSW data inputs'!AC142","v":0.82},{"$f":"AVERAGE(G82:Z82)","v":0.38813939359058758}]
[null,"Peel","%",null,null,1,1,0.6,0.35,0.65,0.45,0,0.5,0.8,0,1,1,0.83,0.45,0,0.17000460102537135,0.99999671355330622,1.0270000000000001,0.38,{"$f":"'WaterNSW data inputs'!AA143","v":0},{"$f":"'WaterNSW data inputs'!AB143","v":0.85},{"$f":"'WaterNSW data inputs'!AC143","v":1},0.55285006572893391]
[null,"Lachlan","%",null,null,0.84,0.57999999999999996,0.03,0,0,0.19,0,0,0,0,1,1,0,0,0.02,0.2586422779225177,1.38,0.05,0,{"$f":"'WaterNSW data inputs'!AA144","v":0.01},{"$f":"'WaterNSW data inputs'!AB144","v":0.68},{"$f":"'WaterNSW data inputs'!AC144","v":1.68},0.2599321138961258]
[null,"Macquarie","%",null,null,1,0.9,0,0.19,0.09,0.44,0,0.05,0.1,0,1,0.49,0.64,5.9999999999999995E-4,0.02,7.0003751979750409E-2,1,0.38,0,{"$f":"'WaterNSW data inputs'!AA145","v":0},{"$f":"'WaterNSW data inputs'!AB145","v":0.68},{"$f":"'WaterNSW data inputs'!AC145","v":0.77},0.30253018759898753]
[null,"Murray","%",null,null,0.95,1.05,0.1,0.55000000000000004,0.49,0.63,0,0,0.09,0.27,1,1,1,1,0.65,0.27808785904052524,1,0.51,0,{"$f":"'WaterNSW data inputs'!AA146","v":0.12},{"$f":"'WaterNSW data inputs'!AB146","v":0.55000000000000004},{"$f":"'WaterNSW data inputs'!AC146","v":1.08},0.51440439295202622]
[null,"Murrumbidgee","%",null,null,0.9,0.72,0.38,0.41,0.4,0.54,0.1,0.13,0.21,0.27,1,1,1,0.79979999999999996,0.59,0.44246020635437283,1.0000004409438206,0.51700000000000002,7.0000000000000007E-2,{"$f":"'WaterNSW data inputs'!AA147","v":0.21},{"$f":"'WaterNSW data inputs'!AB147","v":1},{"$f":"'WaterNSW data inputs'!AC147","v":1},{"$f":"AVERAGE(G87:Z87)","v":0.53946303236490967}]
[null,"Lowbidgee","%"]
[]
[null,"High security entitlements"]
[null,"Border","%",null,null,1,1,1,1,1,1,1,1,1,1,1,1,1,1,1,1.0003204101249599,1,1,1,{"$f":"'WaterNSW data inputs'!AA126","v":1},{"$f":"'WaterNSW data inputs'!AB126","v":1},{"$f":"'WaterNSW data inputs'!AC126","v":1},{"$f":"AVERAGE(G91:Z91)","v":1.000016020506248}]
[null,"Gwydir","%",null,null,1,1,1,1,1,1,1,1,1,1,1,1,1,1,1,0.99754828212586233,1,1,1,{"$f":"'WaterNSW data inputs'!AA127","v":1},{"$f":"'WaterNSW data inputs'!AB127","v":1},{"$f":"'WaterNSW data inputs'!AC127","v":1},0.99987741410629316]
[null,"Namoi","%",null,null,1,1,1,1,1,1,1,1,1,1,1,1,1,1,1,1.0018046469659372,1,1,1,{"$f":"'WaterNSW data inputs'!AA128","v":1},{"$f":"'WaterNSW data inputs'!AB128","v":1},{"$f":"'WaterNSW data inputs'!AC128","v":1},1.0000902323482967]
[null,"Peel","%",null,null,1,1,1,1,1,1,1,1,1,1,1,1,1,1,0.69,1,1,1,1,{"$f":"'WaterNSW data inputs'!AA129","v":0.69},{"$f":"'WaterNSW data inputs'!AB129","v":1},{"$f":"'WaterNSW data inputs'!AC129","v":1},0.96899999999999997]
[null,"Lachlan","%",null,null,1,1,1,0.7,0.3,1,0.8,0.3,0.3,0.1,1,1,1,1,1,1.0036594304062543,1.0000924940227918,1,1,{"$f":"'WaterNSW data inputs'!AA130","v":0.94},{"$f":"'WaterNSW data inputs'!AB130","v":1},{"$f":"'WaterNSW data inputs'!AC130","v":1},0.82218759622145221]
[null,"Macquarie","%",null,null,1,1,1,1,1,1,1,1,1,1,1,1,1,1,1,0.99932337516388836,1.0005692466266867,1,1,{"$f":"'WaterNSW data inputs'!AA131","v":1},{"$f":"'WaterNSW data inputs'!AB131","v":1},{"$f":"'WaterNSW data inputs'!AC131","v":1},0.9999946310895288]
[null,"Murray","%",null,null,1,1,1,1,0.97,0.97,0.69,0.5,0.95,0.97,1,1,1,1,0.98,0.95624823835531536,1,0.99,0.97,{"$f":"'WaterNSW data inputs'!AA132","v":0.97},{"$f":"'WaterNSW data inputs'!AB132","v":0.98},{"$f":"'WaterNSW data inputs'!AC132","v":1.02},0.94481241191776566]
[null,"Murrumbidgee","%",null,null,1,1,1,0.95,0.95,0.95,0.9,0.9,0.95,0.95,0.99960000000000004,1,1,0.97499999999999998,0.96,0.95903132725386231,1.0000662916797587,0.96,0.95,{"$f":"'WaterNSW data inputs'!AA133","v":0.97},{"$f":"'WaterNSW data inputs'!AB133","v":1},{"$f":"'WaterNSW data inputs'!AC133","v":1},0.96618488094668087]
[null,"Lowbidgee","%",null,null,0,0,0,0,0,0,0,0,0,0,0,0,0,0,0,0]
[]
[null,"Supplementary entitlements",null,null,null,null,null,null,null,null,null,null,null,null,null,null,null,null,null,null,null,null,null,null,null,null,null,null,null,null,null,null,"WNSW: WaterNSW is not required to report % of allocation of supplementary entitlements. This does not form an input into prices."]
[null,"Border","%",null,null,0,0,0,0,0,0,0,0,0,0,0,0,0,0,0,0,0,0,0]
[null,"Gwydir","%",null,null,0,0,0,0,0,0,0,0,0,0,0,0,0,0,0,0,0,0,0]
[null,"Namoi","%",null,null,0,0,0,0,0,0,0,0,0,0,0,0,0,0,0,0,0,0,0]
[null,"Peel","%",null,null,0,0,0,0,0,0,0,0,0,0,0,0,0,0,0,0,0,0,0]
[null,"Lachlan","%",null,null,0,0,0,0,0,0,0,0,0,0,0,0,0,0,0,0,0,0,0]
[null,"Macquarie","%",null,null,0,0,0,0,0,0,0,0,0,0,0,0,0,0,0,0,0,0,0]
[null,"Murray","%",null,null,0,0,0,0,0,0,0,0,0,0,0,0,0,0,0,0,0,0,0]
[null,"Murrumbidgee","%",null,null,0,0,0,0,0,0,0,0,0,0,0,0,0,0,0,0,0,0,0]
[null,"Lowbidgee","%",null,null,1,1,1,1,1,1,1,1,1,1,1,1,1,1,1,1,1,1,{"$f":"V110","v":1}]
[]
[]
[]
[]
[null,"TABLE 1.4 - FISH RIVER WATER SUPPLY SCHEME (FRWS) MINOR CUSTOMER NUMBERS AND MAQ ENTITLEMENT VOLUMES"]
[null,"Financial year","Units",null,null,{"$f":"F$16","v":"2000-01"},"2001-02","2002-03","2003-04","2004-05","2005-06","2006-07","2007-08","2008-09","2009-10","2010-11","2011-12","2012-13","2013-14","2014-15","2015-16","2016-17","2017-18","2018-19","2019-20","2020-21",{"$f":"AA$16","v":"2021-22"},"2022-23","2023-24","2024-25"]
[null,null,null,null,null,null,null,null,null,null,null,null,null,null,null,null,null,null,null,null,null,null,null,null,null,"na",{"$f":"AA17","v":"Estimate"},{"$f":"AB$17","v":"Forecast"},"Forecast","Forecast"]
[]
[null,"Minor customer numbers",null,null,null,null,null,null,null,null,null,null,null,null,null,null,null,null,null,null,null,null,null,null,null,null,null,null,null,null,null,null,"2021-22 estimates are YTD January values"]
[null,{"$f":"'Updated Volumes'!B$32","v":"Minor customers (raw) "},"#",null,null,"na","na","na","na","na","na","na","na","na","na","na","na","na","na","na","na","na","na","na","na","na",{"$f":"'WaterNSW data inputs'!AB179","v":87},{"$f":"AA120","v":87},null,null,null,null,"2022-23 Forecast is equal to the most recent available information (2021-22 YTD January values)"]
[null,{"$f":"'Updated Volumes'!B$33","v":"Minor customers (filtered) "},"#",null,null,"na","na","na","na","na","na","na","na","na","na","na","na","na","na","na","na","na","na","na","na","na",{"$f":"'WaterNSW data inputs'!AB180","v":233},{"$f":"AA121","v":233}]
[]
[null,"FRWS MAQ"]
[null,{"$f":"B$31","v":"Energy Australia "},{"$f":"C$20","v":"ML"},null,null,null,null,null,null,null,null,null,null,null,null,null,null,null,null,null,null,null,null,null,null,null,{"$f":"'WaterNSW data inputs'!AC158","v":8184},{"$f":"AA124","v":8184},null,null,null,null,"Minimum Annual Quantity (MAQ) levels as defined in WaterNSW’s licence to operate the FRWS issued under the Water Act 1912 NSW."]
[null,{"$f":"B$32","v":"Minor customers (raw) "},{"$f":"C$20","v":"ML"},null,null,null,null,null,null,null,null,null,null,null,null,null,null,null,null,null,null,null,null,null,null,null,{"$f":"0.2*AA120","v":17.400000000000002},{"$f":"0.2*AB120","v":17.400000000000002},null,null,null,null,"MAQ (Minimum Annual Quantity) for minor customers is 200KLs for each minor customer multiplied by the number of minor customers. For instance, 17.4 MAQ MLs is derived by multiplying 87 raw water customers by 200Kls per customer. 46.60 MAQ is derived by multiplying 233 filtered water customers by 200KLs per customer"]
[null,{"$f":"B$33","v":"Minor customers (filtered) "},{"$f":"C$20","v":"ML"},null,null,null,null,null,null,null,null,null,null,null,null,null,null,null,null,null,null,null,null,null,null,null,{"$f":"0.2*AA121","v":46.6},{"$f":"0.2*AB121","v":46.6},null,null,null,null,"MAQ (Minimum Annual Quantity) for minor customers is 200KLs for each minor customer multiplied by the number of minor customers. For instance, 17.4 MAQ MLs is derived by multiplying 87 raw water customers by 200Kls per customer. 46.60 MAQ is derived by multiplying 233 filtered water customers by 200KLs per customer"]

{"sheet":"Outputs","index":5,"n_rows":379,"n_cols":19,"rows_kept":379,"cut":false,"hidden":false,"merged":[[28,16,28,18],[69,16,69,18],[109,16,109,18],[149,16,149,18],[28,12,28,14],[69,12,69,14],[109,12,109,14],[149,12,149,14]]}
[]
[null,"4  OUTPUTS"]
[null,"This worksheet produces the model outputs ie. Water tariffs for usage and entitlements."]
[]
[null,"List of tables",null,null,null,null,null,null,null,null,"Row number"]
[null,{"$f":"B20","v":"CHARGES "}]
[null,{"$f":"B28","v":"TABLE 4.1 - TOTAL CHARGES FOR MDB CUSTOMERS"},null,null,null,null,null,null,null,null,{"$f":"ROW(B28)","v":28}]
[null,{"$f":"B69","v":"TABLE 4.2 - WaterNSW CHARGES"},null,null,null,null,null,null,null,null,{"$f":"ROW(B69)","v":69}]
[null,{"$f":"B109","v":"TABLE 4.3 - MDBA/BRC CHARGES"},null,null,null,null,null,null,null,null,{"$f":"ROW(B109)","v":109}]
[null,{"$f":"B149","v":"TABLE 4.4 - FISH RIVER WATER SUPPLY SCHEME CHARGES"},null,null,null,null,null,null,null,null,{"$f":"ROW(B149)","v":149}]
[null,{"$f":"B173","v":"CUSTOMER BILLS "}]
[null,{"$f":"B175","v":"TABLE 4.5 - INDICATIVE BILLS FOR HIGH SECURITY CUSTOMERS  - WaterNSW CHARGES"},null,null,null,null,null,null,null,null,{"$f":"ROW(B175)","v":175}]
[null,{"$f":"B214","v":"TABLE 4.6 - INDICATIVE BILLS FOR GENERAL SECURITY CUSTOMERS  - WaterNSW CHARGES"},null,null,null,null,null,null,null,null,{"$f":"ROW(B214)","v":214}]
[null,{"$f":"B253","v":"TABLE 4.7 - INDICATIVE BILLS FOR HIGH SECURITY AND GENERAL SECURITY CUSTOMERS - MDBA/BRC CHARGES"},null,null,null,null,null,null,null,null,{"$f":"ROW(B253)","v":253}]
[null,{"$f":"B290","v":"TABLE 4.8 - INDICATIVE BILLS FOR CUSTOMERS IN THE FRWS"},null,null,null,null,null,null,null,null,{"$f":"ROW(B290)","v":290}]
[null,{"$f":"B301","v":"REVENUE FORECASTS"}]
[null,{"$f":"B304","v":"TABLE 4.9 - Comparison of WaterNSW'S Forecast Revenue in 2022-23 under different scenarios ($'000, $2020-21)"},null,null,null,null,null,null,null,null,{"$f":"ROW(B304)","v":304}]
[]
[]
[null,"CHARGES "]
[]
[]
[null,"Analyse charges for determination year","2022-23"]
[null,"Prices calculated using 20 year average volumes to",{"$f":"LEFT(C23,4)-2&\"-\"&RIGHT(C23,2)-2","v":"2020-21"}]
[null,{"$f":"\"Inflator from \"&$G$31&\" to $\"&G29&\" prices\"","v":"Inflator from $2020-21 to $2021-22 prices"},{"$f":"'2021 Determination Revenue'!$G$30","v":1.0109999999999999}]
[null,{"$f":"\"Inflator from $\"&$G$29&\" to $\"&$C$23&\" prices\"","v":"Inflator from $2021-22 to $2022-23 prices"},{"$f":"LOOKUP($C$23,'2021 Determination Revenue'!$H$20:$J$20,'2021 Determination Revenue'!$H$29:$J$29)","v":1.0509999999999999}]
[]
[null,"TABLE 4.1 - TOTAL CHARGES FOR MDB CUSTOMERS"]
[null,{"$f":"'2021 Determination Revenue'!B$20","v":"Financial year"},{"$f":"'2021 Determination Revenue'!C$36","v":"Units"},null,null,null,{"$f":"'2021 Determination Revenue'!G$20","v":"2021-22"},{"$f":"'2021 Determination Revenue'!H$20","v":"2022-23"},{"$f":"'2021 Determination Revenue'!I$20","v":"2023-24"},{"$f":"'2021 Determination Revenue'!J$20","v":"2024-25"},null,null,{"$f":"\"Analysis of \"&$C$23&\" Charges based on ∆ in demand and CPI \n(expressed in $\"&$C$23&\")\"","v":"Analysis of 2022-23 Charges based on ∆ in demand and CPI \n(expressed in $2022-23)"},null,null,null,{"$f":"\"Analysis of \"&$C$23&\" Charges based on ∆ in demand and CPI \n(expressed in \"&G31&\")\"","v":"Analysis of 2022-23 Charges based on ∆ in demand and CPI \n(expressed in $2020-21)"}]
[null,null,null,null,null,null,{"$f":"\"As per \"&'2021 Determination Revenue'!$F$19&\" Price Review\"","v":"As per 2021 Price Review"},"Re-calculated using updated demand","Re-calculated using updated demand","Re-calculated using updated demand",{"$f":"\"Prices for selected year (ie \"&$C$23&\")\"","v":"Prices for selected year (ie 2022-23)"},null,{"$f":"G30","v":"As per 2021 Price Review"},{"$f":"H30","v":"Re-calculated using updated demand"}," Difference ",null,{"$f":"M30","v":"As per 2021 Price Review"},{"$f":"N30","v":"Re-calculated using updated demand"},"Difference"]
[null,null,null,null,null,null,{"$f":"'2021 Determination Revenue'!$G$37","v":"$2020-21"},{"$f":"'2021 Determination Revenue'!$G$37","v":"$2020-21"},{"$f":"'2021 Determination Revenue'!$G$37","v":"$2020-21"},{"$f":"'2021 Determination Revenue'!$G$37","v":"$2020-21"},{"$f":"J31","v":"$2020-21"},null,{"$f":"\"$\"&$C$23","v":"$2022-23"},{"$f":"M31","v":"$2022-23"},"%",null,{"$f":"G31","v":"$2020-21"},{"$f":"Q31","v":"$2020-21"},"%"]
[null,"Usage charges"]
[null,{"$f":"'2021 Determination Revenue'!B$41","v":"Border"},"$/ML",null,null,null,{"$f":"(G74+G114)","v":7.8050842635800057},{"$f":"(H74+H114)","v":8.1627785450041177},{"$f":"(I74+I114)","v":8.2970856274385714},{"$f":"(J74+J114)","v":8.2670288661927422},{"$f":"LOOKUP($C$23,$H$70:$J$70,$H33:$J33)","v":8.1627785450041177},null,{"$f":"(M74+M114)","v":8.2899999999999991},{"$f":"(N74+N114)","v":8.67},{"$f":"IF(M33=0,\"na\",N33/M33-1)","v":4.5838359469240197E-2},null,{"$f":"(Q74+Q114)","v":7.8050842635800057},8.1627785450041177,{"$f":"IF(Q33=0,\"na\",R33/Q33-1)","v":4.5828368963699795E-2}]
[null,{"$f":"'2021 Determination Revenue'!B$42","v":"Gwydir"},{"$f":"$C$33","v":"$/ML"},null,null,null,{"$f":"(G75+G115)","v":17.000321673640542},17.905305953530359,18.910976540626088,{"$f":"(J75+J115)","v":19.249131893723288},17.905305953530359,null,{"$f":"(M75+M115)","v":18.07},19.02,5.2573325954620831E-2,null,17.000321673640542,17.905305953530359,{"$f":"IF(Q34=0,\"na\",R34/Q34-1)","v":5.3233362124730732E-2}]
[null,{"$f":"'2021 Determination Revenue'!B$43","v":"Namoi"},{"$f":"$C$33","v":"$/ML"},null,null,null,30.541139003181428,32.048586324496789,33.875568656745919,{"$f":"(J76+J116)","v":35.366972274965718},32.048586324496789,null,32.450000000000003,34.049999999999997,4.9306625577811847E-2,null,30.541139003181428,32.048586324496789,4.9357927389621414E-2]
[null,{"$f":"'2021 Determination Revenue'!B$44","v":"Peel"},"$/ML",null,null,null,24.243385466098346,24.623881886728814,24.828227082367665,{"$f":"(J77+J117)","v":25.809640290105396},24.623881886728814,null,25.76,26.16,1.552795031055898E-2,null,24.243385466098346,24.623881886728814,1.569485504252488E-2]
[null,{"$f":"'2021 Determination Revenue'!B$45","v":"Lachlan"},"$/ML",null,null,null,30.830708271304754,33.15543742580887,35.883505779886988,{"$f":"(J78+J118)","v":36.679656629272444},33.15543742580887,null,32.76,35.229999999999997,7.5396825396825351E-2,null,30.830708271304754,33.15543742580887,7.5403040826921952E-2]
[null,{"$f":"'2021 Determination Revenue'!B$46","v":"Macquarie"},"$/ML",null,null,null,21.403751008100738,22.966883209992105,24.755231616579046,{"$f":"(J79+J119)","v":25.775665449110388},22.966883209992105,null,22.74,24.4,7.2999120492524217E-2,null,21.403751008100738,22.966883209992105,7.3030759949495039E-2]
[null,{"$f":"'2021 Determination Revenue'!B$47","v":"Murray"},"$/ML",null,null,null,4.7259552178205873,4.8860590039765803,5.054039807764978,{"$f":"(J80+J120)","v":5.0200428584785168},4.8860590039765803,null,5.0199999999999996,5.1899999999999995,3.3864541832669293E-2,null,4.7259552178205873,4.8860590039765803,3.3877550416109514E-2]
[null,{"$f":"'2021 Determination Revenue'!B$48","v":"Murrumbidgee"},"$/ML",null,null,null,5.2797163034852126,5.3306633385440652,5.4718107398528977,{"$f":"(J81+J121)","v":5.5229150370435915},5.3306633385440652,null,5.6099999999999994,5.67,1.0695187165775444E-2,null,5.2797163034852126,5.3306633385440652,9.649578145936033E-3]
[null,{"$f":"'2021 Determination Revenue'!B$49","v":"Lowbidgee"},"$/ML",null,null,null,0,0,0,{"$f":"(J82+J122)","v":0},0,null,0,0,"na",null,0,0,"na"]
[null,"Check=0",null,null,null,null,{"$f":"SUM(G33:G41)-SUM(G74:G82)-SUM(G114:G121)","v":-1.3766765505351941E-14},{"$f":"SUM(H33:H41)-SUM(H74:H82)-SUM(H114:H121)","v":2.042810365310288E-14},{"$f":"SUM(I33:I41)-SUM(I74:I82)-SUM(I114:I121)","v":1.9539925233402755E-14},{"$f":"SUM(J33:J41)-SUM(J74:J82)-SUM(J114:J121)","v":-1.9984014443252818E-14},null,null,{"$f":"SUM(M33:M41)-SUM(M74:M82)-SUM(M114:M121)","v":1.8207657603852567E-14},{"$f":"SUM(N33:N41)-SUM(N74:N82)-SUM(N114:N121)","v":-5.773159728050814E-15},null,null,{"$f":"SUM(Q33:Q41)-SUM(Q74:Q82)-SUM(Q114:Q121)","v":-1.3766765505351941E-14},{"$f":"SUM(R33:R41)-SUM(R74:R82)-SUM(R114:R121)","v":2.042810365310288E-14}]
[null,"General security entitlement charges"]
[null,{"$f":"'2021 Determination Revenue'!B$41","v":"Border"},{"$f":"$C$33","v":"$/ML"},null,null,null,{"$f":"(G85+G125)","v":4.1335693947428664},4.1262107859852248,4.130790899416807,{"$f":"(J85+J125)","v":4.1350334159761681},{"$f":"LOOKUP($C$23,$H$70:$J$70,$H44:$J44)","v":4.1262107859852248},null,{"$f":"(M85+M125)","v":4.3899999999999997},4.38,{"$f":"IF(M44=0,\"na\",N44/M44-1)","v":-2.277904328018221E-3},null,{"$f":"(Q85+Q125)","v":4.1335693947428664},4.1262107859852248,{"$f":"IF(Q44=0,\"na\",R44/Q44-1)","v":-1.7802068998770126E-3}]
[null,{"$f":"'2021 Determination Revenue'!B$42","v":"Gwydir"},{"$f":"$C$33","v":"$/ML"},null,null,null,3.9954232071705036,3.9462627248695576,4.0887579577076965,{"$f":"(J86+J126)","v":4.1157808233286177},3.9462627248695576,null,4.25,4.1900000000000004,-1.4117647058823457E-2,null,3.9954232071705036,3.9462627248695576,-1.2304199017695749E-2]
[null,{"$f":"'2021 Determination Revenue'!B$43","v":"Namoi"},"$/ML",null,null,null,9.9882450597985013,9.8749300530986606,9.9374497175431706,{"$f":"(J87+J127)","v":9.9794965166131337},9.8749300530986606,null,10.62,10.49,-1.2241054613935876E-2,null,9.9882450597985013,9.8749300530986606,-1.1344836457399365E-2]
[null,{"$f":"'2021 Determination Revenue'!B$44","v":"Peel"},"$/ML",null,null,null,5.7520008738709567,5.3604474013309034,5.3604474013309034,{"$f":"(J88+J128)","v":5.3479720405429445},5.3604474013309034,null,6.12,5.7,-6.8627450980392135E-2,null,5.7520008738709567,5.3604474013309034,-6.8072568333347183E-2]
[null,{"$f":"'2021 Determination Revenue'!B$45","v":"Lachlan"},"$/ML",null,null,null,3.6701633265390821,3.4510782504986266,3.7218122566117127,{"$f":"(J89+J129)","v":3.7858907012960752},3.4510782504986266,null,3.9,3.67,-5.8974358974358987E-2,null,3.6701633265390821,3.4510782504986266,-5.9693549454936656E-2]
[null,{"$f":"'2021 Determination Revenue'!B$46","v":"Macquarie"},"$/ML",null,null,null,3.9019030401740467,3.6955970829717706,3.671893836973855,{"$f":"(J90+J130)","v":3.7261684293629598},3.6955970829717706,null,4.1399999999999997,3.93,-5.0724637681159312E-2,null,3.9019030401740467,3.6955970829717706,-5.2873163448232119E-2]
[null,{"$f":"'2021 Determination Revenue'!B$47","v":"Murray"},"$/ML",null,null,null,4.7447433218368236,4.6291093936213397,4.6707876128605887,{"$f":"(J91+J131)","v":4.6780207497617301},4.6291093936213397,null,5.03,4.92,-2.1868787276342005E-2,null,4.7447433218368236,4.6291093936213397,-2.4370955470509825E-2]
[null,{"$f":"'2021 Determination Revenue'!B$48","v":"Murrumbidgee"},"$/ML",null,null,null,2.0498730130198126,2.0138306298212667,2.0329102159478416,{"$f":"(J92+J132)","v":2.0447910592610894},2.0138306298212667,null,2.17,2.14,-1.3824884792626668E-2,null,2.0498730130198126,2.0138306298212667,-1.7582739501238343E-2]
[null,{"$f":"'2021 Determination Revenue'!B$49","v":"Lowbidgee"},{"$f":"$C$33","v":"$/ML"},null,null,null,1.704125639116524,1.704125639116524,1.704125639116524,{"$f":"(J93+J133)","v":1.704125639116524},1.704125639116524,null,1.81,1.81,0,null,1.704125639116524,1.704125639116524,0]
[null,"Check=0",null,null,null,null,{"$f":"SUM(G44:G52)-SUM(G85:G93)-SUM(G125:G132)","v":0},{"$f":"SUM(H44:H52)-SUM(H85:H93)-SUM(H125:H132)","v":0},{"$f":"SUM(I44:I52)-SUM(I85:I93)-SUM(I125:I132)","v":8.8817841970012523E-15},{"$f":"SUM(J44:J52)-SUM(J85:J93)-SUM(J125:J132)","v":0},null,null,{"$f":"SUM(M44:M52)-SUM(M85:M93)-SUM(M125:M132)","v":0},{"$f":"SUM(N44:N52)-SUM(N85:N93)-SUM(N125:N132)","v":0},null,null,{"$f":"SUM(Q44:Q52)-SUM(Q85:Q93)-SUM(Q125:Q132)","v":0},{"$f":"SUM(R44:R52)-SUM(R85:R93)-SUM(R125:R132)","v":0}]
[null,"High security entitlement charges"]
[null,{"$f":"'2021 Determination Revenue'!B$41","v":"Border"},{"$f":"$C$33","v":"$/ML"},null,null,null,{"$f":"G96+G136","v":11.291585414148381},11.909097794875912,11.525281081334207,{"$f":"J96+J136","v":11.169755222142284},{"$f":"LOOKUP($C$23,$H$70:$J$70,$H55:$J55)","v":11.909097794875912},null,{"$f":"M96+M136","v":12.01},12.65,{"$f":"IF(M55=0,\"na\",N55/M55-1)","v":5.3288925895087491E-2},null,{"$f":"Q96+Q136","v":11.291585414148381},11.909097794875912,{"$f":"IF(Q55=0,\"na\",R55/Q55-1)","v":5.4687836834124814E-2}]
[null,{"$f":"'2021 Determination Revenue'!B$42","v":"Gwydir"},{"$f":"$C$33","v":"$/ML"},null,null,null,17.214683086073457,17.94543151686295,15.277362712878745,{"$f":"J97+J137","v":14.771388840480258},17.94543151686295,null,18.29,19.07,4.2646254784035165E-2,null,17.214683086073457,17.94543151686295,4.2449136422421985E-2]
[null,{"$f":"'2021 Determination Revenue'!B$43","v":"Namoi"},"$/ML",null,null,null,28.617101909525374,31.805007602641432,29.989801722545831,{"$f":"J98+J138","v":28.769008271571032},31.805007602641432,null,30.41,33.79,0.11114764879973693,null,28.617101909525374,31.805007602641432,0.11139862111805754]
[null,{"$f":"'2021 Determination Revenue'!B$44","v":"Peel"},"$/ML",null,null,null,60.696349462197254,61.464500099426232,61.464500099426232,{"$f":"J99+J139","v":61.485555278792617},61.464500099426232,null,64.489999999999995,65.31,1.2715149635602607E-2,null,60.696349462197254,61.464500099426232,1.2655631583039284E-2]
[null,{"$f":"'2021 Determination Revenue'!B$45","v":"Lachlan"},"$/ML",null,null,null,24.823103170025366,27.237938918900689,24.244704049868602,{"$f":"J100+J140","v":23.536252837048075},27.237938918900689,null,26.38,28.94,9.7043214556482349E-2,null,24.823103170025366,27.237938918900689,9.7281783519769904E-2]
[null,{"$f":"'2021 Determination Revenue'!B$46","v":"Macquarie"},"$/ML",null,null,null,19.956038554293137,23.024320828920839,23.378952315414782,{"$f":"J101+J141","v":22.571173645564073},23.024320828920839,null,21.21,24.47,0.15370108439415353,null,19.956038554293137,23.024320828920839,0.1537520718994414]
[null,{"$f":"'2021 Determination Revenue'!B$47","v":"Murray"},"$/ML",null,null,null,10.773590904663568,11.125242444126917,11.204617147422068,{"$f":"J102+J142","v":10.757188790424829},11.125242444126917,null,11.46,11.82,3.1413612565444948E-2,null,10.773590904663568,11.125242444126917,3.2640142230677238E-2]
[null,{"$f":"'2021 Determination Revenue'!B$48","v":"Murrumbidgee"},"$/ML",null,null,null,5.965269380058472,6.1061928187829366,6.0081233646512224,{"$f":"J103+J143","v":5.9469891911558292},6.1061928187829366,null,6.33,6.5,2.6856240126382325E-2,null,5.965269380058472,6.1061928187829366,2.362398573240676E-2]
[null,{"$f":"'2021 Determination Revenue'!B$49","v":"Lowbidgee"},{"$f":"$C$33","v":"$/ML"},null,null,null,0,0,0,{"$f":"J104+J144","v":0},0,null,0,0,"na",null,0,0,"na"]
[null,"Check=0",null,null,null,null,{"$f":"SUM(G55:G63)-SUM(G96:G104)-SUM(G136:G143)","v":0},{"$f":"SUM(H55:H63)-SUM(H96:H104)-SUM(H136:H143)","v":2.3092638912203256E-14},{"$f":"SUM(I55:I63)-SUM(I96:I104)-SUM(I136:I143)","v":0},{"$f":"SUM(J55:J63)-SUM(J96:J104)-SUM(J136:J143)","v":0},null,null,{"$f":"SUM(M55:M63)-SUM(M96:M104)-SUM(M136:M143)","v":0},{"$f":"SUM(N55:N63)-SUM(N96:N104)-SUM(N136:N143)","v":0},null,null,{"$f":"SUM(Q55:Q63)-SUM(Q96:Q104)-SUM(Q136:Q143)","v":0},{"$f":"SUM(R55:R63)-SUM(R96:R104)-SUM(R136:R143)","v":2.3092638912203256E-14}]
[]
[]
[]
[]
[null,"TABLE 4.2 - WaterNSW CHARGES"]
[null,{"$f":"'2021 Determination Revenue'!B$20","v":"Financial year"},{"$f":"'2021 Determination Revenue'!C$36","v":"Units"},null,null,null,{"$f":"G$29","v":"2021-22"},{"$f":"H$29","v":"2022-23"},"2023-24","2024-25",null,null,{"$f":"M$29","v":"Analysis of 2022-23 Charges based on ∆ in demand and CPI \n(expressed in $2022-23)"},null,null,null,{"$f":"Q29","v":"Analysis of 2022-23 Charges based on ∆ in demand and CPI \n(expressed in $2020-21)"}]
[null,null,null,null,null,null,{"$f":"G$30","v":"As per 2021 Price Review"},{"$f":"H$30","v":"Re-calculated using updated demand"},{"$f":"I$30","v":"Re-calculated using updated demand"},{"$f":"J$30","v":"Re-calculated using updated demand"},{"$f":"K$30","v":"Prices for selected year (ie 2022-23)"},null,{"$f":"M$30","v":"As per 2021 Price Review"},"Re-calculated using updated demand"," Difference ",null,"As per 2021 Price Review","Re-calculated using updated demand","Difference"]
[null,null,null,null,null,null,{"$f":"G$31","v":"$2020-21"},{"$f":"H$31","v":"$2020-21"},"$2020-21","$2020-21","$2020-21",null,{"$f":"M$31","v":"$2022-23"},{"$f":"N$31","v":"$2022-23"},{"$f":"$O$31","v":"%"},null,{"$f":"Q$31","v":"$2020-21"},{"$f":"R$31","v":"$2020-21"},{"$f":"S$31","v":"%"}]
[null,{"$f":"B$32","v":"Usage charges"}]
[null,{"$f":"'2021 Determination Revenue'!B$41","v":"Border"},{"$f":"$C$33","v":"$/ML"},null,null,null,{"$f":"'2021 Determination Charges'!G17","v":6.9519630133429891},{"$f":"(('MDB calcs'!H170/'MDB calcs'!H21)*1000)","v":7.2705780953424162},{"$f":"(('MDB calcs'!I170/'MDB calcs'!I21)*1000)","v":7.3902052696205827},{"$f":"(('MDB calcs'!J170/'MDB calcs'!J21)*1000)","v":7.3634337446152145},{"$f":"LOOKUP($C$23,$H$70:$J$70,$H74:$J74)","v":7.2705780953424162},null,{"$f":"LOOKUP($C$23,'2021 Determination Charges'!$M$13:$O$13,'2021 Determination Charges'!$M17:$O17)","v":7.39},{"$f":"ROUND(ROUND(K74*$C$25,2)*$C$26,2)","v":7.72},{"$f":"IF(M74=0,\"na\",N74/M74-1)","v":4.4654939106901326E-2},null,{"$f":"LOOKUP($C$23,'2021 Determination Charges'!$H$13:$J$13,'2021 Determination Charges'!$H17:$J17)","v":6.9519630133429891},{"$f":"K74","v":7.2705780953424162},{"$f":"IF(Q74=0,\"na\",R74/Q74-1)","v":4.5830951831576927E-2}]
[null,{"$f":"'2021 Determination Revenue'!B$42","v":"Gwydir"},{"$f":"$C$33","v":"$/ML"},null,null,null,{"$f":"'2021 Determination Charges'!G18","v":17.000321673640542},{"$f":"(('MDB calcs'!H171/'MDB calcs'!H22)*1000)","v":17.905305953530359},{"$f":"(('MDB calcs'!I171/'MDB calcs'!I22)*1000)","v":18.910976540626088},{"$f":"(('MDB calcs'!J171/'MDB calcs'!J22)*1000)","v":19.249131893723288},17.905305953530359,null,{"$f":"LOOKUP($C$23,'2021 Determination Charges'!$M$13:$O$13,'2021 Determination Charges'!$M18:$O18)","v":18.07},19.02,5.2573325954620831E-2,null,{"$f":"LOOKUP($C$23,'2021 Determination Charges'!$H$13:$J$13,'2021 Determination Charges'!$H18:$J18)","v":17.000321673640542},{"$f":"K75","v":17.905305953530359},5.3233362124730732E-2]
[null,{"$f":"'2021 Determination Revenue'!B$43","v":"Namoi"},"$/ML",null,null,null,{"$f":"'2021 Determination Charges'!G19","v":30.541139003181428},{"$f":"(('MDB calcs'!H172/'MDB calcs'!H23)*1000)","v":32.048586324496789},{"$f":"(('MDB calcs'!I172/'MDB calcs'!I23)*1000)","v":33.875568656745919},{"$f":"(('MDB calcs'!J172/'MDB calcs'!J23)*1000)","v":35.366972274965718},32.048586324496789,null,{"$f":"LOOKUP($C$23,'2021 Determination Charges'!$M$13:$O$13,'2021 Determination Charges'!$M19:$O19)","v":32.450000000000003},34.049999999999997,4.9306625577811847E-2,null,{"$f":"LOOKUP($C$23,'2021 Determination Charges'!$H$13:$J$13,'2021 Determination Charges'!$H19:$J19)","v":30.541139003181428},32.048586324496789,4.9357927389621414E-2]
[null,{"$f":"'2021 Determination Revenue'!B$44","v":"Peel"},"$/ML",null,null,null,{"$f":"'2021 Determination Charges'!G20","v":24.243385466098346},{"$f":"(('MDB calcs'!H173/'MDB calcs'!H24)*1000)","v":24.623881886728814},{"$f":"(('MDB calcs'!I173/'MDB calcs'!I24)*1000)","v":24.828227082367665},{"$f":"(('MDB calcs'!J173/'MDB calcs'!J24)*1000)","v":25.809640290105396},24.623881886728814,null,{"$f":"LOOKUP($C$23,'2021 Determination Charges'!$M$13:$O$13,'2021 Determination Charges'!$M20:$O20)","v":25.76},26.16,1.552795031055898E-2,null,{"$f":"LOOKUP($C$23,'2021 Determination Charges'!$H$13:$J$13,'2021 Determination Charges'!$H20:$J20)","v":24.243385466098346},24.623881886728814,1.569485504252488E-2]
[null,{"$f":"'2021 Determination Revenue'!B$45","v":"Lachlan"},"$/ML",null,null,null,{"$f":"'2021 Determination Charges'!G21","v":30.830708271304754},{"$f":"(('MDB calcs'!H174/'MDB calcs'!H25)*1000)","v":33.15543742580887},{"$f":"(('MDB calcs'!I174/'MDB calcs'!I25)*1000)","v":35.883505779886988},{"$f":"(('MDB calcs'!J174/'MDB calcs'!J25)*1000)","v":36.679656629272444},33.15543742580887,null,{"$f":"LOOKUP($C$23,'2021 Determination Charges'!$M$13:$O$13,'2021 Determination Charges'!$M21:$O21)","v":32.76},35.229999999999997,7.5396825396825351E-2,null,{"$f":"LOOKUP($C$23,'2021 Determination Charges'!$H$13:$J$13,'2021 Determination Charges'!$H21:$J21)","v":30.830708271304754},33.15543742580887,7.5403040826921952E-2]
[null,{"$f":"'2021 Determination Revenue'!B$46","v":"Macquarie"},"$/ML",null,null,null,{"$f":"'2021 Determination Charges'!G22","v":21.403751008100738},{"$f":"(('MDB calcs'!H175/'MDB calcs'!H26)*1000)","v":22.966883209992105},{"$f":"(('MDB calcs'!I175/'MDB calcs'!I26)*1000)","v":24.755231616579046},{"$f":"(('MDB calcs'!J175/'MDB calcs'!J26)*1000)","v":25.775665449110388},22.966883209992105,null,{"$f":"LOOKUP($C$23,'2021 Determination Charges'!$M$13:$O$13,'2021 Determination Charges'!$M22:$O22)","v":22.74},24.4,7.2999120492524217E-2,null,{"$f":"LOOKUP($C$23,'2021 Determination Charges'!$H$13:$J$13,'2021 Determination Charges'!$H22:$J22)","v":21.403751008100738},22.966883209992105,7.3030759949495039E-2]
[null,{"$f":"'2021 Determination Revenue'!B$47","v":"Murray"},"$/ML",null,null,null,{"$f":"'2021 Determination Charges'!G23","v":2.8971969792079886},{"$f":"(('MDB calcs'!H176/'MDB calcs'!H27)*1000)","v":2.9953140458274081},{"$f":"(('MDB calcs'!I176/'MDB calcs'!I27)*1000)","v":3.0982917750376502},{"$f":"(('MDB calcs'!J176/'MDB calcs'!J27)*1000)","v":3.0774505327132862},2.9953140458274081,null,{"$f":"LOOKUP($C$23,'2021 Determination Charges'!$M$13:$O$13,'2021 Determination Charges'!$M23:$O23)","v":3.08},{"$f":"ROUND(ROUND(K80*$C$25,2)*$C$26,2)","v":3.18},3.2467532467532534E-2,null,{"$f":"LOOKUP($C$23,'2021 Determination Charges'!$H$13:$J$13,'2021 Determination Charges'!$H23:$J23)","v":2.8971969792079886},2.9953140458274081,3.3866204929649646E-2]
[null,{"$f":"'2021 Determination Revenue'!B$48","v":"Murrumbidgee"},"$/ML",null,null,null,{"$f":"'2021 Determination Charges'!G24","v":4.9143369749081769},{"$f":"(('MDB calcs'!H177/'MDB calcs'!H28)*1000)","v":4.9617497679059168},{"$f":"(('MDB calcs'!I177/'MDB calcs'!I28)*1000)","v":5.0931289305367162},{"$f":"(('MDB calcs'!J177/'MDB calcs'!J28)*1000)","v":5.1406965067690162},4.9617497679059168,null,{"$f":"LOOKUP($C$23,'2021 Determination Charges'!$M$13:$O$13,'2021 Determination Charges'!$M24:$O24)","v":5.22},5.28,1.1494252873563315E-2,null,{"$f":"LOOKUP($C$23,'2021 Determination Charges'!$H$13:$J$13,'2021 Determination Charges'!$H24:$J24)","v":4.9143369749081769},4.9617497679059168,9.6478514273281579E-3]
[null,{"$f":"'2021 Determination Revenue'!B$49","v":"Lowbidgee"},{"$f":"$C$33","v":"$/ML"},null,null,null,0,{"$f":"(('MDB calcs'!H178/'MDB calcs'!H29)*1000)","v":0},{"$f":"(('MDB calcs'!I178/'MDB calcs'!I29)*1000)","v":0},{"$f":"(('MDB calcs'!J178/'MDB calcs'!J29)*1000)","v":0},0,null,{"$f":"LOOKUP($C$23,'2021 Determination Charges'!$M$13:$O$13,'2021 Determination Charges'!$M25:$O25)","v":0},0,"na",null,{"$f":"LOOKUP($C$23,'2021 Determination Charges'!$H$13:$J$13,'2021 Determination Charges'!$H25:$J25)","v":0},0,"na"]
[null,"Check=0",null,null,null,null,null,{"$f":"SUM(H74:H81)-((SUMPRODUCT('MDB calcs'!H170:H177/'MDB calcs'!H21:H28))*1000)","v":0},{"$f":"SUM(I74:I81)-((SUMPRODUCT('MDB calcs'!I170:I177/'MDB calcs'!I21:I28))*1000)","v":0},{"$f":"SUM(J74:J81)-((SUMPRODUCT('MDB calcs'!J170:J177/'MDB calcs'!J21:J28))*1000)","v":0}]
[null,{"$f":"B$43","v":"General security entitlement charges"}]
[null,{"$f":"'2021 Determination Revenue'!B$41","v":"Border"},{"$f":"$C$33","v":"$/ML"},null,null,null,{"$f":"'2021 Determination Charges'!G28","v":2.3827542194568725},{"$f":"IF('MDB calcs'!H129=0,0,(('MDB calcs'!H158/'MDB calcs'!H129)*1000))","v":2.3785067330768124},{"$f":"IF('MDB calcs'!I129=0,0,(('MDB calcs'!I158/'MDB calcs'!I129)*1000))","v":2.3811468867675241},{"$f":"IF('MDB calcs'!J129=0,0,(('MDB calcs'!J158/'MDB calcs'!J129)*1000))","v":2.3835924366254964},{"$f":"LOOKUP($C$23,$H$70:$J$70,$H85:$J85)","v":2.3785067330768124},null,{"$f":"LOOKUP($C$23,'2021 Determination Charges'!$M$13:$O$13,'2021 Determination Charges'!$M28:$O28)","v":2.5299999999999998},{"$f":"ROUND(ROUND(K85*$C$25,2)*$C$26,2)","v":2.52},{"$f":"IF(M85=0,\"na\",N85/M85-1)","v":-3.9525691699603405E-3},null,{"$f":"LOOKUP($C$23,'2021 Determination Charges'!$H$13:$J$13,'2021 Determination Charges'!$H28:$J28)","v":2.3827542194568725},{"$f":"K85","v":2.3785067330768124},{"$f":"IF(Q85=0,\"na\",R85/Q85-1)","v":-1.782595261137887E-3}]
[null,{"$f":"'2021 Determination Revenue'!B$42","v":"Gwydir"},{"$f":"$C$33","v":"$/ML"},null,null,null,{"$f":"'2021 Determination Charges'!G29","v":3.9954232071705036},{"$f":"IF('MDB calcs'!H130=0,0,(('MDB calcs'!H159/'MDB calcs'!H130)*1000))","v":3.9462627248695576},{"$f":"IF('MDB calcs'!I130=0,0,(('MDB calcs'!I159/'MDB calcs'!I130)*1000))","v":4.0887579577076965},{"$f":"IF('MDB calcs'!J130=0,0,(('MDB calcs'!J159/'MDB calcs'!J130)*1000))","v":4.1157808233286177},3.9462627248695576,null,{"$f":"LOOKUP($C$23,'2021 Determination Charges'!$M$13:$O$13,'2021 Determination Charges'!$M29:$O29)","v":4.25},{"$f":"ROUND(ROUND(K86*$C$25,2)*$C$26,2)","v":4.1900000000000004},-1.4117647058823457E-2,null,{"$f":"LOOKUP($C$23,'2021 Determination Charges'!$H$13:$J$13,'2021 Determination Charges'!$H29:$J29)","v":3.9954232071705036},3.9462627248695576,-1.2304199017695749E-2]
[null,{"$f":"'2021 Determination Revenue'!B$43","v":"Namoi"},"$/ML",null,null,null,{"$f":"'2021 Determination Charges'!G30","v":9.9882450597985013},{"$f":"IF('MDB calcs'!H131=0,0,(('MDB calcs'!H160/'MDB calcs'!H131)*1000))","v":9.8749300530986606},{"$f":"IF('MDB calcs'!I131=0,0,(('MDB calcs'!I160/'MDB calcs'!I131)*1000))","v":9.9374497175431706},{"$f":"IF('MDB calcs'!J131=0,0,(('MDB calcs'!J160/'MDB calcs'!J131)*1000))","v":9.9794965166131337},9.8749300530986606,null,{"$f":"LOOKUP($C$23,'2021 Determination Charges'!$M$13:$O$13,'2021 Determination Charges'!$M30:$O30)","v":10.62},10.49,-1.2241054613935876E-2,null,{"$f":"LOOKUP($C$23,'2021 Determination Charges'!$H$13:$J$13,'2021 Determination Charges'!$H30:$J30)","v":9.9882450597985013},9.8749300530986606,-1.1344836457399365E-2]
[null,{"$f":"'2021 Determination Revenue'!B$44","v":"Peel"},"$/ML",null,null,null,{"$f":"'2021 Determination Charges'!G31","v":5.7520008738709567},{"$f":"IF('MDB calcs'!H132=0,0,(('MDB calcs'!H161/'MDB calcs'!H132)*1000))","v":5.3604474013309034},{"$f":"IF('MDB calcs'!I132=0,0,(('MDB calcs'!I161/'MDB calcs'!I132)*1000))","v":5.3604474013309034},{"$f":"IF('MDB calcs'!J132=0,0,(('MDB calcs'!J161/'MDB calcs'!J132)*1000))","v":5.3479720405429445},5.3604474013309034,null,{"$f":"LOOKUP($C$23,'2021 Determination Charges'!$M$13:$O$13,'2021 Determination Charges'!$M31:$O31)","v":6.12},{"$f":"ROUND(ROUND(K88*$C$25,2)*$C$26,2)","v":5.7},-6.8627450980392135E-2,null,{"$f":"LOOKUP($C$23,'2021 Determination Charges'!$H$13:$J$13,'2021 Determination Charges'!$H31:$J31)","v":5.7520008738709567},5.3604474013309034,-6.8072568333347183E-2]
[null,{"$f":"'2021 Determination Revenue'!B$45","v":"Lachlan"},"$/ML",null,null,null,{"$f":"'2021 Determination Charges'!G32","v":3.6701633265390821},{"$f":"IF('MDB calcs'!H133=0,0,(('MDB calcs'!H162/'MDB calcs'!H133)*1000))","v":3.4510782504986266},{"$f":"IF('MDB calcs'!I133=0,0,(('MDB calcs'!I162/'MDB calcs'!I133)*1000))","v":3.7218122566117127},{"$f":"IF('MDB calcs'!J133=0,0,(('MDB calcs'!J162/'MDB calcs'!J133)*1000))","v":3.7858907012960752},3.4510782504986266,null,{"$f":"LOOKUP($C$23,'2021 Determination Charges'!$M$13:$O$13,'2021 Determination Charges'!$M32:$O32)","v":3.9},3.67,-5.8974358974358987E-2,null,{"$f":"LOOKUP($C$23,'2021 Determination Charges'!$H$13:$J$13,'2021 Determination Charges'!$H32:$J32)","v":3.6701633265390821},3.4510782504986266,-5.9693549454936656E-2]
[null,{"$f":"'2021 Determination Revenue'!B$46","v":"Macquarie"},"$/ML",null,null,null,{"$f":"'2021 Determination Charges'!G33","v":3.9019030401740467},{"$f":"IF('MDB calcs'!H134=0,0,(('MDB calcs'!H163/'MDB calcs'!H134)*1000))","v":3.6955970829717706},{"$f":"IF('MDB calcs'!I134=0,0,(('MDB calcs'!I163/'MDB calcs'!I134)*1000))","v":3.671893836973855},{"$f":"IF('MDB calcs'!J134=0,0,(('MDB calcs'!J163/'MDB calcs'!J134)*1000))","v":3.7261684293629598},3.6955970829717706,null,{"$f":"LOOKUP($C$23,'2021 Determination Charges'!$M$13:$O$13,'2021 Determination Charges'!$M33:$O33)","v":4.1399999999999997},3.93,-5.0724637681159312E-2,null,{"$f":"LOOKUP($C$23,'2021 Determination Charges'!$H$13:$J$13,'2021 Determination Charges'!$H33:$J33)","v":3.9019030401740467},3.6955970829717706,-5.2873163448232119E-2]
[null,{"$f":"'2021 Determination Revenue'!B$47","v":"Murray"},"$/ML",null,null,null,{"$f":"'2021 Determination Charges'!G34","v":0.98233260529967825},{"$f":"IF('MDB calcs'!H135=0,0,(('MDB calcs'!H164/'MDB calcs'!H135)*1000))","v":0.95839760897374482},{"$f":"IF('MDB calcs'!I135=0,0,(('MDB calcs'!I164/'MDB calcs'!I135)*1000))","v":0.96702654863981119},{"$f":"IF('MDB calcs'!J135=0,0,(('MDB calcs'!J164/'MDB calcs'!J135)*1000))","v":0.96852407667857099},0.95839760897374482,null,{"$f":"LOOKUP($C$23,'2021 Determination Charges'!$M$13:$O$13,'2021 Determination Charges'!$M34:$O34)","v":1.04},1.02,-1.9230769230769273E-2,null,{"$f":"LOOKUP($C$23,'2021 Determination Charges'!$H$13:$J$13,'2021 Determination Charges'!$H34:$J34)","v":0.98233260529967825},0.95839760897374482,-2.4365470714098558E-2]
[null,{"$f":"'2021 Determination Revenue'!B$48","v":"Murrumbidgee"},"$/ML",null,null,null,{"$f":"'2021 Determination Charges'!G35","v":1.41716484827431},{"$f":"IF('MDB calcs'!H136=0,0,(('MDB calcs'!H165/'MDB calcs'!H136)*1000))","v":1.3922498627577859},{"$f":"IF('MDB calcs'!I136=0,0,(('MDB calcs'!I165/'MDB calcs'!I136)*1000))","v":1.405440421473519},{"$f":"IF('MDB calcs'!J136=0,0,(('MDB calcs'!J165/'MDB calcs'!J136)*1000))","v":1.4136541720379268},1.3922498627577859,null,{"$f":"LOOKUP($C$23,'2021 Determination Charges'!$M$13:$O$13,'2021 Determination Charges'!$M35:$O35)","v":1.5},1.48,-1.3333333333333308E-2,null,{"$f":"LOOKUP($C$23,'2021 Determination Charges'!$H$13:$J$13,'2021 Determination Charges'!$H35:$J35)","v":1.41716484827431},1.3922498627577859,-1.7580866154606634E-2]
[null,{"$f":"'2021 Determination Revenue'!B$49","v":"Lowbidgee"},{"$f":"$C$33","v":"$/ML"},null,null,null,{"$f":"'2021 Determination Charges'!G36","v":1.704125639116524},{"$f":"IF('MDB calcs'!H137=0,0,(('MDB calcs'!H154/'MDB calcs'!H137)*1000))","v":1.704125639116524},{"$f":"IF('MDB calcs'!I137=0,0,(('MDB calcs'!I154/'MDB calcs'!I137)*1000))","v":1.704125639116524},{"$f":"IF('MDB calcs'!J137=0,0,(('MDB calcs'!J154/'MDB calcs'!J137)*1000))","v":1.704125639116524},1.704125639116524,null,{"$f":"LOOKUP($C$23,'2021 Determination Charges'!$M$13:$O$13,'2021 Determination Charges'!$M36:$O36)","v":1.81},1.81,0,null,{"$f":"LOOKUP($C$23,'2021 Determination Charges'!$H$13:$J$13,'2021 Determination Charges'!$H36:$J36)","v":1.704125639116524},1.704125639116524,0]
[]
[null,{"$f":"B$54","v":"High security entitlement charges"}]
[null,{"$f":"'2021 Determination Revenue'!B$41","v":"Border"},{"$f":"$C$33","v":"$/ML"},null,null,null,{"$f":"'2021 Determination Charges'!G39","v":6.5089200689694469},{"$f":"(H85*'MDB calcs'!H112)","v":6.8648624026169678},{"$f":"(I85*'MDB calcs'!I112)","v":6.6436156741349697},{"$f":"(J85*'MDB calcs'!J112)","v":6.4386768831398324},{"$f":"LOOKUP($C$23,$H$70:$J$70,$H96:$J96)","v":6.8648624026169678},null,{"$f":"LOOKUP($C$23,'2021 Determination Charges'!$M$13:$O$13,'2021 Determination Charges'!$M39:$O39)","v":6.92},{"$f":"ROUND(ROUND(K96*$C$25,2)*$C$26,2)","v":7.29},{"$f":"IF(M96=0,\"na\",N96/M96-1)","v":5.3468208092485536E-2},null,{"$f":"LOOKUP($C$23,'2021 Determination Charges'!$H$13:$J$13,'2021 Determination Charges'!$H39:$J39)","v":6.5089200689694469},{"$f":"K96","v":6.8648624026169678},{"$f":"IF(Q96=0,\"na\",R96/Q96-1)","v":5.4685313366258148E-2}]
[null,{"$f":"'2021 Determination Revenue'!B$42","v":"Gwydir"},{"$f":"$C$33","v":"$/ML"},null,null,null,{"$f":"'2021 Determination Charges'!G40","v":17.214683086073457},{"$f":"(H86*'MDB calcs'!H113)","v":17.94543151686295},{"$f":"(I86*'MDB calcs'!I113)","v":15.277362712878745},{"$f":"(J86*'MDB calcs'!J113)","v":14.771388840480258},17.94543151686295,null,{"$f":"LOOKUP($C$23,'2021 Determination Charges'!$M$13:$O$13,'2021 Determination Charges'!$M40:$O40)","v":18.29},19.07,4.2646254784035165E-2,null,{"$f":"LOOKUP($C$23,'2021 Determination Charges'!$H$13:$J$13,'2021 Determination Charges'!$H40:$J40)","v":17.214683086073457},17.94543151686295,4.2449136422421985E-2]
[null,{"$f":"'2021 Determination Revenue'!B$43","v":"Namoi"},"$/ML",null,null,null,{"$f":"'2021 Determination Charges'!G41","v":28.617101909525374},{"$f":"(H87*'MDB calcs'!H114)","v":31.805007602641432},{"$f":"(I87*'MDB calcs'!I114)","v":29.989801722545831},{"$f":"(J87*'MDB calcs'!J114)","v":28.769008271571032},31.805007602641432,null,{"$f":"LOOKUP($C$23,'2021 Determination Charges'!$M$13:$O$13,'2021 Determination Charges'!$M41:$O41)","v":30.41},{"$f":"ROUND(ROUND(K98*$C$25,2)*$C$26,2)","v":33.79},0.11114764879973693,null,{"$f":"LOOKUP($C$23,'2021 Determination Charges'!$H$13:$J$13,'2021 Determination Charges'!$H41:$J41)","v":28.617101909525374},31.805007602641432,0.11139862111805754]
[null,{"$f":"'2021 Determination Revenue'!B$44","v":"Peel"},"$/ML",null,null,null,{"$f":"'2021 Determination Charges'!G42","v":60.696349462197254},{"$f":"(H88*'MDB calcs'!H115)","v":61.464500099426232},{"$f":"(I88*'MDB calcs'!I115)","v":61.464500099426232},{"$f":"(J88*'MDB calcs'!J115)","v":61.485555278792617},61.464500099426232,null,{"$f":"LOOKUP($C$23,'2021 Determination Charges'!$M$13:$O$13,'2021 Determination Charges'!$M42:$O42)","v":64.489999999999995},65.31,1.2715149635602607E-2,null,{"$f":"LOOKUP($C$23,'2021 Determination Charges'!$H$13:$J$13,'2021 Determination Charges'!$H42:$J42)","v":60.696349462197254},61.464500099426232,1.2655631583039284E-2]
[null,{"$f":"'2021 Determination Revenue'!B$45","v":"Lachlan"},"$/ML",null,null,null,{"$f":"'2021 Determination Charges'!G43","v":24.823103170025366},{"$f":"(H89*'MDB calcs'!H116)","v":27.237938918900689},{"$f":"(I89*'MDB calcs'!I116)","v":24.244704049868602},{"$f":"(J89*'MDB calcs'!J116)","v":23.536252837048075},27.237938918900689,null,{"$f":"LOOKUP($C$23,'2021 Determination Charges'!$M$13:$O$13,'2021 Determination Charges'!$M43:$O43)","v":26.38},28.94,9.7043214556482349E-2,null,{"$f":"LOOKUP($C$23,'2021 Determination Charges'!$H$13:$J$13,'2021 Determination Charges'!$H43:$J43)","v":24.823103170025366},27.237938918900689,9.7281783519769904E-2]
[null,{"$f":"'2021 Determination Revenue'!B$46","v":"Macquarie"},"$/ML",null,null,null,{"$f":"'2021 Determination Charges'!G44","v":19.956038554293137},{"$f":"(H90*'MDB calcs'!H117)","v":23.024320828920839},{"$f":"(I90*'MDB calcs'!I117)","v":23.378952315414782},{"$f":"(J90*'MDB calcs'!J117)","v":22.571173645564073},23.024320828920839,null,{"$f":"LOOKUP($C$23,'2021 Determination Charges'!$M$13:$O$13,'2021 Determination Charges'!$M44:$O44)","v":21.21},24.47,0.15370108439415353,null,{"$f":"LOOKUP($C$23,'2021 Determination Charges'!$H$13:$J$13,'2021 Determination Charges'!$H44:$J44)","v":19.956038554293137},23.024320828920839,0.1537520718994414]
[null,{"$f":"'2021 Determination Revenue'!B$47","v":"Murray"},"$/ML",null,null,null,{"$f":"'2021 Determination Charges'!G45","v":2.2305210005994605},{"$f":"(H91*'MDB calcs'!H118)","v":2.3033384720604508},{"$f":"(I91*'MDB calcs'!I118)","v":2.3197719842941216},{"$f":"(J91*'MDB calcs'!J118)","v":2.2271376931010707},2.3033384720604508,null,{"$f":"LOOKUP($C$23,'2021 Determination Charges'!$M$13:$O$13,'2021 Determination Charges'!$M45:$O45)","v":2.38},2.4500000000000002,2.941176470588247E-2,null,{"$f":"LOOKUP($C$23,'2021 Determination Charges'!$H$13:$J$13,'2021 Determination Charges'!$H45:$J45)","v":2.2305210005994605},2.3033384720604508,3.2645947490035132E-2]
[null,{"$f":"'2021 Determination Revenue'!B$48","v":"Murrumbidgee"},"$/ML",null,null,null,{"$f":"'2021 Determination Charges'!G46","v":4.1240457444005791},{"$f":"(H92*'MDB calcs'!H119)","v":4.2214801920445719},{"$f":"(I92*'MDB calcs'!I119)","v":4.1536804565386474},{"$f":"(J92*'MDB calcs'!J119)","v":4.1114157082532738},4.2214801920445719,null,{"$f":"LOOKUP($C$23,'2021 Determination Charges'!$M$13:$O$13,'2021 Determination Charges'!$M46:$O46)","v":4.38},4.49,2.5114155251141579E-2,null,{"$f":"LOOKUP($C$23,'2021 Determination Charges'!$H$13:$J$13,'2021 Determination Charges'!$H46:$J46)","v":4.1240457444005791},4.2214801920445719,2.3625937655101126E-2]
[null,{"$f":"'2021 Determination Revenue'!B$49","v":"Lowbidgee"},{"$f":"$C$33","v":"$/ML"},null,null,null,0,0,0,0,0,null,{"$f":"LOOKUP($C$23,'2021 Determination Charges'!$M$13:$O$13,'2021 Determination Charges'!$M47:$O47)","v":0},0,"na",null,{"$f":"LOOKUP($C$23,'2021 Determination Charges'!$H$13:$J$13,'2021 Determination Charges'!$H47:$J47)","v":0},0,"na"]
[null,"Check=0",null,null,null,null,null,{"$f":"SUMPRODUCT(H85:H93,'MDB calcs'!H112:H120)-SUM(H96:H104)","v":0},{"$f":"SUMPRODUCT(I85:I93,'MDB calcs'!I112:I120)-SUM(I96:I104)","v":0},{"$f":"SUMPRODUCT(J85:J93,'MDB calcs'!J112:J120)-SUM(J96:J104)","v":0}]
[]
[]
[]
[null,"TABLE 4.3 - MDBA/BRC CHARGES"]
[null,{"$f":"'2021 Determination Revenue'!B$20","v":"Financial year"},{"$f":"'2021 Determination Revenue'!C$36","v":"Units"},null,null,null,{"$f":"'2021 Determination Revenue'!G$20","v":"2021-22"},{"$f":"'2021 Determination Revenue'!H$20","v":"2022-23"},{"$f":"'2021 Determination Revenue'!I$20","v":"2023-24"},{"$f":"'2021 Determination Revenue'!J$20","v":"2024-25"},null,null,{"$f":"M$29","v":"Analysis of 2022-23 Charges based on ∆ in demand and CPI \n(expressed in $2022-23)"},null,null,null,{"$f":"Q70","v":"Analysis of 2022-23 Charges based on ∆ in demand and CPI \n(expressed in $2020-21)"}]
[null,null,null,null,null,null,{"$f":"G$30","v":"As per 2021 Price Review"},{"$f":"H$30","v":"Re-calculated using updated demand"},{"$f":"I$30","v":"Re-calculated using updated demand"},{"$f":"J$30","v":"Re-calculated using updated demand"},{"$f":"K$30","v":"Prices for selected year (ie 2022-23)"},null,{"$f":"M$30","v":"As per 2021 Price Review"},{"$f":"N$30","v":"Re-calculated using updated demand"},{"$f":"O$30","v":" Difference "},null,{"$f":"Q$30","v":"As per 2021 Price Review"},{"$f":"R$30","v":"Re-calculated using updated demand"},{"$f":"S$30","v":"Difference"}]
[null,null,null,null,null,null,{"$f":"'2021 Determination Revenue'!$G$37","v":"$2020-21"},{"$f":"'2021 Determination Revenue'!$G$37","v":"$2020-21"},{"$f":"'2021 Determination Revenue'!$G$37","v":"$2020-21"},{"$f":"'2021 Determination Revenue'!$G$37","v":"$2020-21"},{"$f":"'2021 Determination Revenue'!$G$37","v":"$2020-21"},null,{"$f":"M$31","v":"$2022-23"},{"$f":"N$31","v":"$2022-23"},{"$f":"$O$31","v":"%"},null,{"$f":"Q$31","v":"$2020-21"},{"$f":"R$31","v":"$2020-21"},{"$f":"S$31","v":"%"}]
[null,{"$f":"B$32","v":"Usage charges"}]
[null,{"$f":"'2021 Determination Revenue'!B$41","v":"Border"},{"$f":"$C$33","v":"$/ML"},null,null,null,{"$f":"'2021 Determination Charges'!G57","v":0.8531212502370169},{"$f":"(('MDB calcs'!H200/'MDB calcs'!H21)*1000)","v":0.8922004496617012},{"$f":"(('MDB calcs'!I200/'MDB calcs'!I21)*1000)","v":0.90688035781798815},{"$f":"(('MDB calcs'!J200/'MDB calcs'!J21)*1000)","v":0.90359512157752753},{"$f":"LOOKUP($C$23,$H$70:$J$70,$H114:$J114)","v":0.8922004496617012},null,{"$f":"LOOKUP($C$23,'2021 Determination Charges'!$M$13:$O$13,'2021 Determination Charges'!$M57:$O57)","v":0.9},{"$f":"ROUND(ROUND(K114*$C$25,2)*$C$26,2)","v":0.95},{"$f":"IF(M114=0,\"na\",N114/M114-1)","v":5.555555555555558E-2},null,{"$f":"'2021 Determination Charges'!I57","v":0.8531212502370169},{"$f":"K114","v":0.8922004496617012},{"$f":"IF(Q114=0,\"na\",R114/Q114-1)","v":4.5807321542895796E-2}]
[null,{"$f":"'2021 Determination Revenue'!B$42","v":"Gwydir"},{"$f":"$C$33","v":"$/ML"},null,null,null,0,{"$f":"(('MDB calcs'!H201/'MDB calcs'!H22)*1000)","v":0},{"$f":"(('MDB calcs'!I201/'MDB calcs'!I22)*1000)","v":0},{"$f":"(('MDB calcs'!J201/'MDB calcs'!J22)*1000)","v":0},0,null,0,0,"na",null,{"$f":"G115","v":0},0,"na"]
[null,{"$f":"'2021 Determination Revenue'!B$43","v":"Namoi"},"$/ML",null,null,null,0,{"$f":"(('MDB calcs'!H202/'MDB calcs'!H23)*1000)","v":0},{"$f":"(('MDB calcs'!I202/'MDB calcs'!I23)*1000)","v":0},{"$f":"(('MDB calcs'!J202/'MDB calcs'!J23)*1000)","v":0},0,null,0,0,"na",null,{"$f":"G116","v":0},0,"na"]
[null,{"$f":"'2021 Determination Revenue'!B$44","v":"Peel"},"$/ML",null,null,null,0,{"$f":"(('MDB calcs'!H203/'MDB calcs'!H24)*1000)","v":0},{"$f":"(('MDB calcs'!I203/'MDB calcs'!I24)*1000)","v":0},{"$f":"(('MDB calcs'!J203/'MDB calcs'!J24)*1000)","v":0},0,null,0,0,"na",null,{"$f":"G117","v":0},0,"na"]
[null,{"$f":"'2021 Determination Revenue'!B$45","v":"Lachlan"},"$/ML",null,null,null,0,{"$f":"(('MDB calcs'!H204/'MDB calcs'!H25)*1000)","v":0},{"$f":"(('MDB calcs'!I204/'MDB calcs'!I25)*1000)","v":0},{"$f":"(('MDB calcs'!J204/'MDB calcs'!J25)*1000)","v":0},0,null,0,0,"na",null,{"$f":"G118","v":0},0,"na"]
[null,{"$f":"'2021 Determination Revenue'!B$46","v":"Macquarie"},"$/ML",null,null,null,0,{"$f":"(('MDB calcs'!H205/'MDB calcs'!H26)*1000)","v":0},{"$f":"(('MDB calcs'!I205/'MDB calcs'!I26)*1000)","v":0},{"$f":"(('MDB calcs'!J205/'MDB calcs'!J26)*1000)","v":0},0,null,0,0,"na",null,{"$f":"G119","v":0},0,"na"]
[null,{"$f":"'2021 Determination Revenue'!B$47","v":"Murray"},"$/ML",null,null,null,{"$f":"'2021 Determination Charges'!G58","v":1.8287582386125982},{"$f":"(('MDB calcs'!H206/'MDB calcs'!H27)*1000)","v":1.8907449581491718},{"$f":"(('MDB calcs'!I206/'MDB calcs'!I27)*1000)","v":1.9557480327273276},{"$f":"(('MDB calcs'!J206/'MDB calcs'!J27)*1000)","v":1.9425923257652309},1.8907449581491718,null,{"$f":"LOOKUP($C$23,'2021 Determination Charges'!$M$13:$O$13,'2021 Determination Charges'!$M58:$O58)","v":1.94},2.0099999999999998,3.6082474226803996E-2,null,{"$f":"'2021 Determination Charges'!J58","v":1.8287582386125982},1.8907449581491718,3.3895524420767709E-2]
[null,{"$f":"'2021 Determination Revenue'!B$48","v":"Murrumbidgee"},"$/ML",null,null,null,{"$f":"'2021 Determination Charges'!G59","v":0.36537932857703598},{"$f":"(('MDB calcs'!H207/'MDB calcs'!H28)*1000)","v":0.36891357063814845},{"$f":"(('MDB calcs'!I207/'MDB calcs'!I28)*1000)","v":0.37868180931618117},{"$f":"(('MDB calcs'!J207/'MDB calcs'!J28)*1000)","v":0.38221853027457536},0.36891357063814845,null,{"$f":"LOOKUP($C$23,'2021 Determination Charges'!$M$13:$O$13,'2021 Determination Charges'!$M59:$O59)","v":0.39},0.39,0,null,{"$f":"'2021 Determination Charges'!J59","v":0.36537932857703598},0.36891357063814845,9.6728024403474056E-3]
[null,{"$f":"'2021 Determination Revenue'!B$49","v":"Lowbidgee"},{"$f":"$C$33","v":"$/ML"},null,null,null,0,{"$f":"(('MDB calcs'!H208/'MDB calcs'!H29)*1000)","v":0},{"$f":"(('MDB calcs'!I208/'MDB calcs'!I29)*1000)","v":0},{"$f":"(('MDB calcs'!J208/'MDB calcs'!J29)*1000)","v":0},0,null,0,0,"na",null,{"$f":"G122","v":0},0,"na"]
[null,"Check=0",null,null,null,null,null,{"$f":"SUM(H114:H121)-((SUMPRODUCT('MDB calcs'!H200:H207/'MDB calcs'!H21:H28))*1000)","v":0},{"$f":"SUM(I114:I121)-((SUMPRODUCT('MDB calcs'!I200:I207/'MDB calcs'!I21:I28))*1000)","v":0},{"$f":"SUM(J114:J121)-((SUMPRODUCT('MDB calcs'!J200:J207/'MDB calcs'!J21:J28))*1000)","v":0}]
[null,{"$f":"B$43","v":"General security entitlement charges"}]
[null,{"$f":"'2021 Determination Revenue'!B$41","v":"Border"},{"$f":"$C$33","v":"$/ML"},null,null,null,{"$f":"'2021 Determination Charges'!G62","v":1.750815175285994},{"$f":"IF('MDB calcs'!H129=0,0,(('MDB calcs'!H188/'MDB calcs'!H129)*1000))","v":1.7477040529084122},{"$f":"IF('MDB calcs'!I129=0,0,(('MDB calcs'!I188/'MDB calcs'!I129)*1000))","v":1.7496440126492829},{"$f":"IF('MDB calcs'!J129=0,0,(('MDB calcs'!J188/'MDB calcs'!J129)*1000))","v":1.7514409793506718},{"$f":"LOOKUP($C$23,$H$70:$J$70,$H125:$J125)","v":1.7477040529084122},null,{"$f":"LOOKUP($C$23,'2021 Determination Charges'!$M$13:$O$13,'2021 Determination Charges'!$M62:$O62)","v":1.86},{"$f":"ROUND(ROUND(K125*$C$25,2)*$C$26,2)","v":1.86},{"$f":"IF(M125=0,\"na\",N125/M125-1)","v":0},null,{"$f":"'2021 Determination Charges'!J62","v":1.750815175285994},{"$f":"K125","v":1.7477040529084122},{"$f":"IF(Q125=0,\"na\",R125/Q125-1)","v":-1.7769564837553098E-3}]
[null,{"$f":"'2021 Determination Revenue'!B$42","v":"Gwydir"},{"$f":"$C$33","v":"$/ML"},null,null,null,0,{"$f":"IF('MDB calcs'!H130=0,0,(('MDB calcs'!H189/'MDB calcs'!H130)*1000))","v":0},{"$f":"IF('MDB calcs'!I130=0,0,(('MDB calcs'!I189/'MDB calcs'!I130)*1000))","v":0},{"$f":"IF('MDB calcs'!J130=0,0,(('MDB calcs'!J189/'MDB calcs'!J130)*1000))","v":0},0,null,0,0,"na",null,{"$f":"G126","v":0},0,"na"]
[null,{"$f":"'2021 Determination Revenue'!B$43","v":"Namoi"},"$/ML",null,null,null,0,{"$f":"IF('MDB calcs'!H131=0,0,(('MDB calcs'!H190/'MDB calcs'!H131)*1000))","v":0},{"$f":"IF('MDB calcs'!I131=0,0,(('MDB calcs'!I190/'MDB calcs'!I131)*1000))","v":0},{"$f":"IF('MDB calcs'!J131=0,0,(('MDB calcs'!J190/'MDB calcs'!J131)*1000))","v":0},0,null,0,0,"na",null,{"$f":"G127","v":0},0,"na"]
[null,{"$f":"'2021 Determination Revenue'!B$44","v":"Peel"},"$/ML",null,null,null,0,{"$f":"IF('MDB calcs'!H132=0,0,(('MDB calcs'!H191/'MDB calcs'!H132)*1000))","v":0},{"$f":"IF('MDB calcs'!I132=0,0,(('MDB calcs'!I191/'MDB calcs'!I132)*1000))","v":0},{"$f":"IF('MDB calcs'!J132=0,0,(('MDB calcs'!J191/'MDB calcs'!J132)*1000))","v":0},0,null,0,0,"na",null,{"$f":"G128","v":0},0,"na"]
[null,{"$f":"'2021 Determination Revenue'!B$45","v":"Lachlan"},"$/ML",null,null,null,0,{"$f":"IF('MDB calcs'!H133=0,0,(('MDB calcs'!H192/'MDB calcs'!H133)*1000))","v":0},{"$f":"IF('MDB calcs'!I133=0,0,(('MDB calcs'!I192/'MDB calcs'!I133)*1000))","v":0},{"$f":"IF('MDB calcs'!J133=0,0,(('MDB calcs'!J192/'MDB calcs'!J133)*1000))","v":0},0,null,0,0,"na",null,{"$f":"G129","v":0},0,"na"]
[null,{"$f":"'2021 Determination Revenue'!B$46","v":"Macquarie"},"$/ML",null,null,null,0,{"$f":"IF('MDB calcs'!H134=0,0,(('MDB calcs'!H193/'MDB calcs'!H134)*1000))","v":0},{"$f":"IF('MDB calcs'!I134=0,0,(('MDB calcs'!I193/'MDB calcs'!I134)*1000))","v":0},{"$f":"IF('MDB calcs'!J134=0,0,(('MDB calcs'!J193/'MDB calcs'!J134)*1000))","v":0},0,null,0,0,"na",null,{"$f":"G130","v":0},0,"na"]
[null,{"$f":"'2021 Determination Revenue'!B$47","v":"Murray"},"$/ML",null,null,null,{"$f":"'2021 Determination Charges'!G63","v":3.7624107165371456},{"$f":"IF('MDB calcs'!H135=0,0,(('MDB calcs'!H194/'MDB calcs'!H135)*1000))","v":3.6707117846475952},{"$f":"IF('MDB calcs'!I135=0,0,(('MDB calcs'!I194/'MDB calcs'!I135)*1000))","v":3.7037610642207772},{"$f":"IF('MDB calcs'!J135=0,0,(('MDB calcs'!J194/'MDB calcs'!J135)*1000))","v":3.7094966730831596},3.6707117846475952,null,{"$f":"LOOKUP($C$23,'2021 Determination Charges'!$M$13:$O$13,'2021 Determination Charges'!$M63:$O63)","v":3.99},3.9,-2.2556390977443663E-2,null,{"$f":"'2021 Determination Charges'!J63","v":3.7624107165371456},3.6707117846475952,-2.4372387492545888E-2]
[null,{"$f":"'2021 Determination Revenue'!B$48","v":"Murrumbidgee"},"$/ML",null,null,null,{"$f":"'2021 Determination Charges'!G64","v":0.63270816474550273},{"$f":"IF('MDB calcs'!H136=0,0,(('MDB calcs'!H195/'MDB calcs'!H136)*1000))","v":0.62158076706348075},{"$f":"IF('MDB calcs'!I136=0,0,(('MDB calcs'!I195/'MDB calcs'!I136)*1000))","v":0.6274697944743225},{"$f":"IF('MDB calcs'!J136=0,0,(('MDB calcs'!J195/'MDB calcs'!J136)*1000))","v":0.63113688722316241},0.62158076706348075,null,{"$f":"LOOKUP($C$23,'2021 Determination Charges'!$M$13:$O$13,'2021 Determination Charges'!$M64:$O64)","v":0.67},0.66,-1.4925373134328401E-2,null,{"$f":"'2021 Determination Charges'!J64","v":0.63270816474550273},0.62158076706348075,-1.7586935497343914E-2]
[null,{"$f":"'2021 Determination Revenue'!B$49","v":"Lowbidgee"},{"$f":"$C$33","v":"$/ML"},null,null,null,0,{"$f":"IF('MDB calcs'!H137=0,0,(('MDB calcs'!H196/'MDB calcs'!H137)*1000))","v":0},{"$f":"IF('MDB calcs'!I137=0,0,(('MDB calcs'!I196/'MDB calcs'!I137)*1000))","v":0},{"$f":"IF('MDB calcs'!J137=0,0,(('MDB calcs'!J196/'MDB calcs'!J137)*1000))","v":0},0,null,0,0,"na",null,{"$f":"G133","v":0},0,"na"]
[]
[null,{"$f":"B$54","v":"High security entitlement charges"}]
[null,{"$f":"'2021 Determination Revenue'!B$41","v":"Border"},{"$f":"$C$33","v":"$/ML"},null,null,null,{"$f":"'2021 Determination Charges'!G67","v":4.782665345178934},{"$f":"(H125*'MDB calcs'!H112)","v":5.0442353922589449},{"$f":"(I125*'MDB calcs'!I112)","v":4.881665407199236},{"$f":"(J125*'MDB calcs'!J112)","v":4.7310783390024511},{"$f":"LOOKUP($C$23,$H$70:$J$70,$H136:$J136)","v":5.0442353922589449},null,{"$f":"LOOKUP($C$23,'2021 Determination Charges'!$M$13:$O$13,'2021 Determination Charges'!$M67:$O67)","v":5.09},{"$f":"ROUND(ROUND(K136*$C$25,2)*$C$26,2)","v":5.36},{"$f":"IF(M136=0,\"na\",N136/M136-1)","v":5.3045186640471531E-2},null,{"$f":"'2021 Determination Charges'!J67","v":4.782665345178934},{"$f":"K136","v":5.0442353922589449},{"$f":"IF(Q136=0,\"na\",R136/Q136-1)","v":5.4691271122216722E-2}]
[null,{"$f":"'2021 Determination Revenue'!B$42","v":"Gwydir"},{"$f":"$C$33","v":"$/ML"},null,null,null,0,{"$f":"(H126*'MDB calcs'!H113)","v":0},{"$f":"(I126*'MDB calcs'!I113)","v":0},{"$f":"(J126*'MDB calcs'!J113)","v":0},0,null,0,0,"na",null,{"$f":"G137","v":0},0,"na"]
[null,{"$f":"'2021 Determination Revenue'!B$43","v":"Namoi"},"$/ML",null,null,null,0,{"$f":"(H127*'MDB calcs'!H114)","v":0},{"$f":"(I127*'MDB calcs'!I114)","v":0},{"$f":"(J127*'MDB calcs'!J114)","v":0},0,null,0,0,"na",null,{"$f":"G138","v":0},0,"na"]
[null,{"$f":"'2021 Determination Revenue'!B$44","v":"Peel"},"$/ML",null,null,null,0,{"$f":"(H128*'MDB calcs'!H115)","v":0},{"$f":"(I128*'MDB calcs'!I115)","v":0},{"$f":"(J128*'MDB calcs'!J115)","v":0},0,null,0,0,"na",null,{"$f":"G139","v":0},0,"na"]
[null,{"$f":"'2021 Determination Revenue'!B$45","v":"Lachlan"},"$/ML",null,null,null,0,{"$f":"(H129*'MDB calcs'!H116)","v":0},{"$f":"(I129*'MDB calcs'!I116)","v":0},{"$f":"(J129*'MDB calcs'!J116)","v":0},0,null,0,0,"na",null,{"$f":"G140","v":0},0,"na"]
[null,{"$f":"'2021 Determination Revenue'!B$46","v":"Macquarie"},"$/ML",null,null,null,0,{"$f":"(H130*'MDB calcs'!H117)","v":0},{"$f":"(I130*'MDB calcs'!I117)","v":0},{"$f":"(J130*'MDB calcs'!J117)","v":0},0,null,0,0,"na",null,{"$f":"G141","v":0},0,"na"]
[null,{"$f":"'2021 Determination Revenue'!B$47","v":"Murray"},"$/ML",null,null,null,{"$f":"'2021 Determination Charges'!G68","v":8.5430699040641063},{"$f":"(H131*'MDB calcs'!H118)","v":8.8219039720664654},{"$f":"(I131*'MDB calcs'!I118)","v":8.884845163127947},{"$f":"(J131*'MDB calcs'!J118)","v":8.5300510973237582},8.8219039720664654,null,{"$f":"LOOKUP($C$23,'2021 Determination Charges'!$M$13:$O$13,'2021 Determination Charges'!$M68:$O68)","v":9.08},9.3699999999999992,3.1938325991189398E-2,null,{"$f":"'2021 Determination Charges'!J68","v":8.5430699040641063},8.8219039720664654,3.2638626528118664E-2]
[null,{"$f":"'2021 Determination Revenue'!B$48","v":"Murrumbidgee"},"$/ML",null,null,null,{"$f":"'2021 Determination Charges'!G69","v":1.8412236356578928},{"$f":"(H132*'MDB calcs'!H119)","v":1.8847126267383649},{"$f":"(I132*'MDB calcs'!I119)","v":1.8544429081125746},{"$f":"(J132*'MDB calcs'!J119)","v":1.8355734829025552},1.8847126267383649,null,{"$f":"LOOKUP($C$23,'2021 Determination Charges'!$M$13:$O$13,'2021 Determination Charges'!$M69:$O69)","v":1.95},2.0099999999999998,3.076923076923066E-2,null,{"$f":"'2021 Determination Charges'!J69","v":1.8412236356578928},1.8847126267383649,2.3619613738519618E-2]
[null,{"$f":"'2021 Determination Revenue'!B$49","v":"Lowbidgee"},{"$f":"$C$33","v":"$/ML"},null,null,null,0,{"$f":"(H133*'MDB calcs'!H120)","v":0},{"$f":"(I133*'MDB calcs'!I120)","v":0},{"$f":"(J133*'MDB calcs'!J120)","v":0},0,null,0,0,"na",null,{"$f":"G144","v":0},0,"na"]
[null,"Check=0",null,null,null,null,null,{"$f":"SUMPRODUCT(H125:H133,'MDB calcs'!H112:H120)-SUM(H136:H144)","v":0},{"$f":"SUMPRODUCT(I125:I133,'MDB calcs'!I112:I120)-SUM(I136:I144)","v":0},{"$f":"SUMPRODUCT(J125:J133,'MDB calcs'!J112:J120)-SUM(J136:J144)","v":0}]
[]
[]
[]
[null,"TABLE 4.4 - FISH RIVER WATER SUPPLY SCHEME CHARGES"]
[null,{"$f":"'2021 Determination Revenue'!B$20","v":"Financial year"},{"$f":"'2021 Determination Revenue'!C$36","v":"Units"},null,null,null,{"$f":"'2021 Determination Revenue'!G$20","v":"2021-22"},{"$f":"'2021 Determination Revenue'!H$20","v":"2022-23"},{"$f":"'2021 Determination Revenue'!I$20","v":"2023-24"},{"$f":"'2021 Determination Revenue'!J$20","v":"2024-25"},null,null,{"$f":"M$29","v":"Analysis of 2022-23 Charges based on ∆ in demand and CPI \n(expressed in $2022-23)"},null,null,null,{"$f":"Q110","v":"Analysis of 2022-23 Charges based on ∆ in demand and CPI \n(expressed in $2020-21)"}]
[null,null,null,null,null,null,{"$f":"G$30","v":"As per 2021 Price Review"},{"$f":"H$30","v":"Re-calculated using updated demand"},{"$f":"I$30","v":"Re-calculated using updated demand"},{"$f":"J$30","v":"Re-calculated using updated demand"},{"$f":"K$30","v":"Prices for selected year (ie 2022-23)"},null,{"$f":"G151","v":"As per 2021 Price Review"},{"$f":"H151","v":"Re-calculated using updated demand"},{"$f":"$O$30","v":" Difference "},null,{"$f":"Q111","v":"As per 2021 Price Review"},{"$f":"R111","v":"Re-calculated using updated demand"},{"$f":"S111","v":"Difference"}]
[null,null,null,null,null,null,{"$f":"'2021 Determination Revenue'!$G$37","v":"$2020-21"},{"$f":"'2021 Determination Revenue'!$G$37","v":"$2020-21"},{"$f":"'2021 Determination Revenue'!$G$37","v":"$2020-21"},{"$f":"'2021 Determination Revenue'!$G$37","v":"$2020-21"},{"$f":"'2021 Determination Revenue'!$G$37","v":"$2020-21"},null,{"$f":"M$31","v":"$2022-23"},{"$f":"N$31","v":"$2022-23"},{"$f":"$O$31","v":"%"},null,{"$f":"Q$31","v":"$2020-21"},{"$f":"R$31","v":"$2020-21"},{"$f":"S$31","v":"%"}]
[null,"MAQ "]
[null,{"$f":"'Updated Volumes'!B$31","v":"Energy Australia "},"$/kL",null,null,null,{"$f":"'2021 Determination Charges'!G80","v":0.48010269747526763},{"$f":"IF('FRWS calcs'!H14=0,0,('FRWS calcs'!H43/'FRWS calcs'!H14))","v":0.48010269747526763},{"$f":"IF('FRWS calcs'!I14=0,0,('FRWS calcs'!I43/'FRWS calcs'!I14))","v":0},{"$f":"IF('FRWS calcs'!J14=0,0,('FRWS calcs'!J43/'FRWS calcs'!J14))","v":0},{"$f":"LOOKUP($C$23,$H$70:$J$70,$H154:$J154)","v":0.48010269747526763},null,{"$f":"LOOKUP($C$23,'2021 Determination Charges'!$M$13:$O$13,'2021 Determination Charges'!$M80:$O80)","v":0.51},{"$f":"ROUND(ROUND(K154*$C$25,2)*$C$26,2)","v":0.51},{"$f":"IF(M154=0,\"na\",N154/M154-1)","v":0},null,{"$f":"'2021 Determination Charges'!J80","v":0.48010269747526763},{"$f":"K154","v":0.48010269747526763},{"$f":"IF(Q154=0,\"na\",R154/Q154-1)","v":0}]
[null,{"$f":"'Updated Volumes'!B$32","v":"Minor customers (raw) "},{"$f":"Outputs!$C$154","v":"$/kL"},null,null,null,{"$f":"'2021 Determination Charges'!G81","v":0.48010269747526763},{"$f":"IF('FRWS calcs'!H15=0,0,('FRWS calcs'!H44/'FRWS calcs'!H15))","v":0.48010269747526757},{"$f":"IF('FRWS calcs'!I15=0,0,('FRWS calcs'!I44/'FRWS calcs'!I15))","v":0},{"$f":"IF('FRWS calcs'!J15=0,0,('FRWS calcs'!J44/'FRWS calcs'!J15))","v":0},{"$f":"LOOKUP($C$23,$H$70:$J$70,$H155:$J155)","v":0.48010269747526757},null,{"$f":"LOOKUP($C$23,'2021 Determination Charges'!$M$13:$O$13,'2021 Determination Charges'!$M81:$O81)","v":0.51},{"$f":"ROUND(ROUND(K155*$C$25,2)*$C$26,2)","v":0.51},{"$f":"IF(M155=0,\"na\",N155/M155-1)","v":0},null,{"$f":"'2021 Determination Charges'!J81","v":0.48010269747526763},0.48010269747526757,-1.1102230246251565E-16]
[null,{"$f":"'Updated Volumes'!B$33","v":"Minor customers (filtered) "},{"$f":"Outputs!$C$154","v":"$/kL"},null,null,null,{"$f":"'2021 Determination Charges'!G82","v":0.84692177902568677},{"$f":"IF('FRWS calcs'!H16=0,0,('FRWS calcs'!H45/'FRWS calcs'!H16))","v":0.84692177902568677},{"$f":"IF('FRWS calcs'!I16=0,0,('FRWS calcs'!I45/'FRWS calcs'!I16))","v":0},{"$f":"IF('FRWS calcs'!J16=0,0,('FRWS calcs'!J45/'FRWS calcs'!J16))","v":0},{"$f":"LOOKUP($C$23,$H$70:$J$70,$H156:$J156)","v":0.84692177902568677},null,{"$f":"LOOKUP($C$23,'2021 Determination Charges'!$M$13:$O$13,'2021 Determination Charges'!$M82:$O82)","v":0.9},{"$f":"ROUND(ROUND(K156*$C$25,2)*$C$26,2)","v":0.9},{"$f":"IF(M156=0,\"na\",N156/M156-1)","v":0},null,{"$f":"'2021 Determination Charges'!J82","v":0.84692177902568677},0.84692177902568677,0]
[]
[null,"Usage up to MAQ "]
[null,{"$f":"'Updated Volumes'!B$31","v":"Energy Australia "},{"$f":"Outputs!$C$154","v":"$/kL"},null,null,null,{"$f":"'2021 Determination Charges'!G85","v":0.32463815347506425},{"$f":"IF('FRWS calcs'!H14=0,0,(IF('FRWS calcs'!H20<='FRWS calcs'!H14,(('FRWS calcs'!H58-'FRWS calcs'!H43)/'FRWS calcs'!H20),((('FRWS calcs'!H58-'FRWS calcs'!H43)-(('FRWS calcs'!H20-'FRWS calcs'!H14)*H154))/'FRWS calcs'!H20))))","v":0.33716361203148831},{"$f":"IF('FRWS calcs'!I14=0,0,(IF('FRWS calcs'!I20<='FRWS calcs'!I14,(('FRWS calcs'!I58-'FRWS calcs'!I43)/'FRWS calcs'!I20),((('FRWS calcs'!I58-'FRWS calcs'!I43)-(('FRWS calcs'!I20-'FRWS calcs'!I14)*I154))/'FRWS calcs'!I20))))","v":0},{"$f":"IF('FRWS calcs'!J14=0,0,(IF('FRWS calcs'!J20<='FRWS calcs'!J14,(('FRWS calcs'!J58-'FRWS calcs'!J43)/'FRWS calcs'!J20),((('FRWS calcs'!J58-'FRWS calcs'!J43)-(('FRWS calcs'!J20-'FRWS calcs'!J14)*J154))/'FRWS calcs'!J20))))","v":0},{"$f":"LOOKUP($C$23,$H$70:$J$70,$H159:$J159)","v":0.33716361203148831},null,{"$f":"LOOKUP($C$23,'2021 Determination Charges'!$M$13:$O$13,'2021 Determination Charges'!$M85:$O85)","v":0.35},{"$f":"ROUND(ROUND(K159*$C$25,2)*$C$26,2)","v":0.36},{"$f":"IF(M159=0,\"na\",N159/M159-1)","v":2.8571428571428692E-2},null,{"$f":"'2021 Determination Charges'!J85","v":0.32463815347506425},{"$f":"K159","v":0.33716361203148831},{"$f":"IF(Q159=0,\"na\",R159/Q159-1)","v":3.8582829597649804E-2}]
[null,{"$f":"'Updated Volumes'!B$32","v":"Minor customers (raw) "},{"$f":"Outputs!$C$154","v":"$/kL"},null,null,null,{"$f":"'2021 Determination Charges'!G86","v":0.32463815347506425},{"$f":"IF('FRWS calcs'!H15=0,0,(IF('FRWS calcs'!H21<='FRWS calcs'!H15,(('FRWS calcs'!H59-'FRWS calcs'!H44)/'FRWS calcs'!H21),((('FRWS calcs'!H59-'FRWS calcs'!H44)-(('FRWS calcs'!H21-'FRWS calcs'!H15)*H155))/'FRWS calcs'!H21))))","v":0.32248895250231108},{"$f":"IF('FRWS calcs'!I15=0,0,(IF('FRWS calcs'!I21<='FRWS calcs'!I15,(('FRWS calcs'!I59-'FRWS calcs'!I44)/'FRWS calcs'!I21),((('FRWS calcs'!I59-'FRWS calcs'!I44)-(('FRWS calcs'!I21-'FRWS calcs'!I15)*I155))/'FRWS calcs'!I21))))","v":0},{"$f":"IF('FRWS calcs'!J15=0,0,(IF('FRWS calcs'!J21<='FRWS calcs'!J15,(('FRWS calcs'!J59-'FRWS calcs'!J44)/'FRWS calcs'!J21),((('FRWS calcs'!J59-'FRWS calcs'!J44)-(('FRWS calcs'!J21-'FRWS calcs'!J15)*J155))/'FRWS calcs'!J21))))","v":0},{"$f":"LOOKUP($C$23,$H$70:$J$70,$H160:$J160)","v":0.32248895250231108},null,{"$f":"LOOKUP($C$23,'2021 Determination Charges'!$M$13:$O$13,'2021 Determination Charges'!$M86:$O86)","v":0.35},{"$f":"ROUND(ROUND(K160*$C$25,2)*$C$26,2)","v":0.35},{"$f":"IF(M160=0,\"na\",N160/M160-1)","v":0},null,{"$f":"'2021 Determination Charges'!J86","v":0.32463815347506425},0.32248895250231108,-6.6202969359799857E-3]
[null,{"$f":"'Updated Volumes'!B$33","v":"Minor customers (filtered) "},{"$f":"Outputs!$C$154","v":"$/kL"},null,null,null,{"$f":"'2021 Determination Charges'!G87","v":0.52463815347506426},{"$f":"IF('FRWS calcs'!H16=0,0,(IF('FRWS calcs'!H22<='FRWS calcs'!H16,(('FRWS calcs'!H60-'FRWS calcs'!H45)/'FRWS calcs'!H22),((('FRWS calcs'!H60-'FRWS calcs'!H45)-(('FRWS calcs'!H22-'FRWS calcs'!H16)*H156))/'FRWS calcs'!H22))))","v":0.56015314135921601},{"$f":"IF('FRWS calcs'!I16=0,0,(IF('FRWS calcs'!I22<='FRWS calcs'!I16,(('FRWS calcs'!I60-'FRWS calcs'!I45)/'FRWS calcs'!I22),((('FRWS calcs'!I60-'FRWS calcs'!I45)-(('FRWS calcs'!I22-'FRWS calcs'!I16)*I156))/'FRWS calcs'!I22))))","v":0},{"$f":"IF('FRWS calcs'!J16=0,0,(IF('FRWS calcs'!J22<='FRWS calcs'!J16,(('FRWS calcs'!J60-'FRWS calcs'!J45)/'FRWS calcs'!J22),((('FRWS calcs'!J60-'FRWS calcs'!J45)-(('FRWS calcs'!J22-'FRWS calcs'!J16)*J156))/'FRWS calcs'!J22))))","v":0},{"$f":"LOOKUP($C$23,$H$70:$J$70,$H161:$J161)","v":0.56015314135921601},null,{"$f":"LOOKUP($C$23,'2021 Determination Charges'!$M$13:$O$13,'2021 Determination Charges'!$M87:$O87)","v":0.56000000000000005},{"$f":"ROUND(ROUND(K161*$C$25,2)*$C$26,2)","v":0.6},{"$f":"IF(M161=0,\"na\",N161/M161-1)","v":7.1428571428571397E-2},null,{"$f":"'2021 Determination Charges'!J87","v":0.52463815347506426},0.56015314135921601,6.7694252979715319E-2]
[]
[null,"Usage in excess of MAQ "]
[null,{"$f":"'Updated Volumes'!B$31","v":"Energy Australia "},{"$f":"Outputs!$C$154","v":"$/kL"},null,null,null,{"$f":"(G154+G159)","v":0.80474085095033188},{"$f":"(H154+H159)","v":0.81726630950675594},0,{"$f":"(J154+J159)","v":0},{"$f":"LOOKUP($C$23,$H$70:$J$70,$H164:$J164)","v":0.81726630950675594},null,{"$f":"LOOKUP($C$23,'2021 Determination Charges'!$M$13:$O$13,'2021 Determination Charges'!$M90:$O90)","v":0.86},{"$f":"ROUND(ROUND(K164*$C$25,2)*$C$26,2)","v":0.87},{"$f":"IF(M164=0,\"na\",N164/M164-1)","v":1.1627906976744207E-2},null,{"$f":"'2021 Determination Charges'!J90","v":0.80474085095033188},0.81726630950675594,{"$f":"IF(Q164=0,\"na\",R164/Q164-1)","v":1.556458646486325E-2}]
[null,{"$f":"'Updated Volumes'!B$32","v":"Minor customers (raw) "},{"$f":"Outputs!$C$154","v":"$/kL"},null,null,null,{"$f":"(G155+G160)","v":0.80474085095033188},0.8025916499775787,0,{"$f":"(J155+J160)","v":0},{"$f":"LOOKUP($C$23,$H$70:$J$70,$H165:$J165)","v":0.8025916499775787},null,{"$f":"LOOKUP($C$23,'2021 Determination Charges'!$M$13:$O$13,'2021 Determination Charges'!$M91:$O91)","v":0.86},{"$f":"ROUND(ROUND(K165*$C$25,2)*$C$26,2)","v":0.85},{"$f":"IF(M165=0,\"na\",N165/M165-1)","v":-1.1627906976744207E-2},null,{"$f":"'2021 Determination Charges'!J91","v":0.80474085095033188},0.8025916499775787,-2.6706746280061866E-3]
[null,{"$f":"'Updated Volumes'!B$33","v":"Minor customers (filtered) "},{"$f":"Outputs!$C$154","v":"$/kL"},null,null,null,{"$f":"(G156+G161)","v":1.371559932500751},1.4070749203849027,0,{"$f":"(J156+J161)","v":0},{"$f":"LOOKUP($C$23,$H$70:$J$70,$H166:$J166)","v":1.4070749203849027},null,{"$f":"LOOKUP($C$23,'2021 Determination Charges'!$M$13:$O$13,'2021 Determination Charges'!$M92:$O92)","v":1.46},{"$f":"ROUND(ROUND(K166*$C$25,2)*$C$26,2)","v":1.49},{"$f":"IF(M166=0,\"na\",N166/M166-1)","v":2.0547945205479534E-2},null,{"$f":"'2021 Determination Charges'!J92","v":1.371559932500751},1.4070749203849027,2.5893865111236813E-2]
[]
[]
[]
[]
[]
[]
[null,"CUSTOMER BILLS "]
[]
[null,"TABLE 4.5 - INDICATIVE BILLS FOR HIGH SECURITY CUSTOMERS  - WaterNSW CHARGES"]
[null,{"$f":"'2021 Determination Revenue'!B$20","v":"Financial year"},{"$f":"'2021 Determination Revenue'!C$36","v":"Units"},"Volumes",null,null,null,null,{"$f":"C23","v":"2022-23"},{"$f":"I176","v":"2022-23"},"Bill analysis of based on ∆ in demand and CPI"]
[null,null,null,"Entitle-ment","Usage",null,null,null,{"$f":"G151","v":"As per 2021 Price Review"},{"$f":"H151","v":"Re-calculated using updated demand"},"Difference "]
[null,null,null,null,null,null,null,null,{"$f":"$M$31","v":"$2022-23"},{"$f":"I178","v":"$2022-23"},{"$f":"$O$31","v":"%"}]
[null,{"$f":"'2021 Determination Revenue'!B$126","v":"Small consumption customers"},{"$f":"\"Entitlement = \"&'2021 Determination Revenue'!H$126&\" kL pa, Usage = \"&'2021 Determination Revenue'!H$131*'2021 Determination Revenue'!H$126&\" kL pa\"","v":"Entitlement = 100 kL pa, Usage = 100 kL pa"}]
[null,{"$f":"'2021 Determination Revenue'!B$41","v":"Border"},"$",{"$f":"'2021 Determination Revenue'!G$136","v":100},{"$f":"D180*'2021 Determination Revenue'!G$131","v":100},null,null,null,{"$f":"$E180*M74+$D180*M96","v":1431},{"$f":"$E180*N74+$D180*N96","v":1501},{"$f":"IFERROR(J180/I180-1,\"na\")","v":4.8916841369671449E-2}]
[null,{"$f":"'2021 Determination Revenue'!B$42","v":"Gwydir"},{"$f":"C$180","v":"$"},{"$f":"D180","v":100},{"$f":"E180","v":100},null,null,null,3636,3809,4.7579757975797499E-2]
[null,{"$f":"'2021 Determination Revenue'!B$43","v":"Namoi"},"$",{"$f":"D181","v":100},{"$f":"E181","v":100},null,null,null,6286,6784,7.922367165128863E-2]
[null,{"$f":"'2021 Determination Revenue'!B$44","v":"Peel"},"$",100,100,null,null,null,9025,9147,1.3518005540166245E-2]
[null,{"$f":"'2021 Determination Revenue'!B$45","v":"Lachlan"},"$",100,100,null,null,null,5914,6417,8.505241799120733E-2]
[null,{"$f":"'2021 Determination Revenue'!B$46","v":"Macquarie"},"$",100,100,null,null,null,4395,4887,0.11194539249146751]
[null,{"$f":"'2021 Determination Revenue'!B$47","v":"Murray"},"$",100,100,null,null,null,546,563,3.1135531135531025E-2]
[null,{"$f":"'2021 Determination Revenue'!B$48","v":"Murrumbidgee"},"$",100,100,null,null,null,960,977,1.7708333333333437E-2]
[null,{"$f":"'2021 Determination Revenue'!B$49","v":"Lowbidgee"},"$",100,100,null,null,null,0,0,"na"]
[]
[null,{"$f":"'2021 Determination Revenue'!B$127","v":"Medium consumption customers"},{"$f":"\"Entitlement = \"&'2021 Determination Revenue'!H$127&\" kL pa, Usage = \"&'2021 Determination Revenue'!H$132*'2021 Determination Revenue'!H$127&\" kL pa\"","v":"Entitlement = 500 kL pa, Usage = 500 kL pa"}]
[null,{"$f":"'2021 Determination Revenue'!B$41","v":"Border"},{"$f":"C$180","v":"$"},{"$f":"'2021 Determination Revenue'!G$137","v":500},{"$f":"D191*'2021 Determination Revenue'!G$132","v":500},null,null,null,{"$f":"$E191*M74+$D191*M96","v":7155},{"$f":"$E191*N74+$D191*N96","v":7505},{"$f":"IFERROR(J191/I191-1,\"na\")","v":4.8916841369671449E-2}]
[null,{"$f":"'2021 Determination Revenue'!B$42","v":"Gwydir"},"$",{"$f":"D191","v":500},{"$f":"E191","v":500},null,null,null,18180,19045,4.7579757975797499E-2]
[null,{"$f":"'2021 Determination Revenue'!B$43","v":"Namoi"},"$",{"$f":"D192","v":500},{"$f":"E192","v":500},null,null,null,31430,33920,7.922367165128863E-2]
[null,{"$f":"'2021 Determination Revenue'!B$44","v":"Peel"},"$",500,500,null,null,null,45125,45735,1.3518005540166245E-2]
[null,{"$f":"'2021 Determination Revenue'!B$45","v":"Lachlan"},"$",500,500,null,null,null,29570,32085,8.505241799120733E-2]
[null,{"$f":"'2021 Determination Revenue'!B$46","v":"Macquarie"},"$",500,500,null,null,null,21975,24435,0.11194539249146751]
[null,{"$f":"'2021 Determination Revenue'!B$47","v":"Murray"},"$",500,500,null,null,null,2730,2815,3.1135531135531025E-2]
[null,{"$f":"'2021 Determination Revenue'!B$48","v":"Murrumbidgee"},"$",500,500,null,null,null,4800,4885,1.7708333333333437E-2]
[null,{"$f":"'2021 Determination Revenue'!B$49","v":"Lowbidgee"},"$",500,500,null,null,null,0,0,"na"]
[]
[null,{"$f":"'2021 Determination Revenue'!B$128","v":"Large consumption customers"},{"$f":"\"Entitlement = \"&'2021 Determination Revenue'!H$128&\" kL pa, Usage = \"&'2021 Determination Revenue'!H$133*'2021 Determination Revenue'!H$128&\" kL pa\"","v":"Entitlement = 1000 kL pa, Usage = 1000 kL pa"}]
[null,{"$f":"'2021 Determination Revenue'!B$41","v":"Border"},{"$f":"C$180","v":"$"},{"$f":"'2021 Determination Revenue'!G$138","v":1000},{"$f":"D202*'2021 Determination Revenue'!G$133","v":1000},null,null,null,{"$f":"$E202*M74+$D202*M96","v":14310},{"$f":"$E202*N74+$D202*N96","v":15010},{"$f":"IFERROR(J202/I202-1,\"na\")","v":4.8916841369671449E-2}]
[null,{"$f":"'2021 Determination Revenue'!B$42","v":"Gwydir"},"$",{"$f":"D202","v":1000},{"$f":"E202","v":1000},null,null,null,36360,38090,4.7579757975797499E-2]
[null,{"$f":"'2021 Determination Revenue'!B$43","v":"Namoi"},"$",{"$f":"D203","v":1000},{"$f":"E203","v":1000},null,null,null,62860,67840,7.922367165128863E-2]
[null,{"$f":"'2021 Determination Revenue'!B$44","v":"Peel"},"$",1000,1000,null,null,null,90250,91470,1.3518005540166245E-2]
[null,{"$f":"'2021 Determination Revenue'!B$45","v":"Lachlan"},"$",1000,1000,null,null,null,59140,64170,8.505241799120733E-2]
[null,{"$f":"'2021 Determination Revenue'!B$46","v":"Macquarie"},"$",1000,1000,null,null,null,43950,48870,0.11194539249146751]
[null,{"$f":"'2021 Determination Revenue'!B$47","v":"Murray"},"$",1000,1000,null,null,null,5460,5630,3.1135531135531025E-2]
[null,{"$f":"'2021 Determination Revenue'!B$48","v":"Murrumbidgee"},"$",1000,1000,null,null,null,9600,9770,1.7708333333333437E-2]
[null,{"$f":"'2021 Determination Revenue'!B$49","v":"Lowbidgee"},"$",1000,1000,null,null,null,0,0,"na"]
[]
[]
[]
[null,"TABLE 4.6 - INDICATIVE BILLS FOR GENERAL SECURITY CUSTOMERS  - WaterNSW CHARGES"]
[null,{"$f":"'2021 Determination Revenue'!B$20","v":"Financial year"},{"$f":"'2021 Determination Revenue'!C$36","v":"Units"},"Volumes",null,null,null,null,{"$f":"$I$176","v":"2022-23"},"2022-23","Bill analysis of based on ∆ in demand and CPI"]
[null,null,null,"Entitle-ment","Usage",null,null,null,{"$f":"I$177","v":"As per 2021 Price Review"},{"$f":"J$177","v":"Re-calculated using updated demand"},"Difference"]
[null,null,null,null,null,null,null,null,{"$f":"$M$31","v":"$2022-23"},{"$f":"I217","v":"$2022-23"},{"$f":"$O$31","v":"%"}]
[null,{"$f":"'2021 Determination Revenue'!B$126","v":"Small consumption customers"},{"$f":"\"Entitlement = \"&'2021 Determination Revenue'!H$136&\" kL pa, Usage = \"&'2021 Determination Revenue'!H$141*'2021 Determination Revenue'!H$136&\" kL pa\"","v":"Entitlement = 100 kL pa, Usage = 60 kL pa"}]
[null,{"$f":"'2021 Determination Revenue'!B$41","v":"Border"},{"$f":"C$180","v":"$"},{"$f":"'2021 Determination Revenue'!G136","v":100},{"$f":"D219*'2021 Determination Revenue'!G141","v":60},null,null,null,{"$f":"M74*$E219+M85*$D219","v":696.4},{"$f":"N74*$E219+N85*$D219","v":715.2},{"$f":"IFERROR(J219/I219-1,\"na\")","v":2.6995979322228747E-2}]
[null,{"$f":"'2021 Determination Revenue'!B$42","v":"Gwydir"},"$",{"$f":"D219","v":100},{"$f":"E219","v":60},null,null,null,1509.2,1560.2,3.3792737874370538E-2]
[null,{"$f":"'2021 Determination Revenue'!B$43","v":"Namoi"},"$",{"$f":"D220","v":100},{"$f":"E220","v":60},null,null,null,3009,3092,2.7583914921901043E-2]
[null,{"$f":"'2021 Determination Revenue'!B$44","v":"Peel"},"$",100,60,null,null,null,2157.6000000000004,2139.6,-8.3426028921025353E-3]
[null,{"$f":"'2021 Determination Revenue'!B$45","v":"Lachlan"},"$",100,60,null,null,null,2355.6,2480.7999999999997,5.3149940567158938E-2]
[null,{"$f":"'2021 Determination Revenue'!B$46","v":"Macquarie"},"$",100,60,null,null,null,1778.3999999999999,1857,4.4197031039136414E-2]
[null,{"$f":"'2021 Determination Revenue'!B$47","v":"Murray"},"$",100,60,null,null,null,288.8,292.8,1.3850415512465464E-2]
[null,{"$f":"'2021 Determination Revenue'!B$48","v":"Murrumbidgee"},"$",100,60,null,null,null,463.2,464.8,3.4542314335059832E-3]
[null,{"$f":"'2021 Determination Revenue'!B$49","v":"Lowbidgee"},"$",100,60,null,null,null,181,181,0]
[]
[null,{"$f":"'2021 Determination Revenue'!B$127","v":"Medium consumption customers"},{"$f":"\"Entitlement = \"&'2021 Determination Revenue'!H$137&\" kL pa, Usage = \"&'2021 Determination Revenue'!H$142*'2021 Determination Revenue'!H$137&\" kL pa\"","v":"Entitlement = 500 kL pa, Usage = 300 kL pa"}]
[null,{"$f":"'2021 Determination Revenue'!B$41","v":"Border"},{"$f":"C$180","v":"$"},{"$f":"'2021 Determination Revenue'!G137","v":500},{"$f":"D230*'2021 Determination Revenue'!G142","v":300},null,null,null,{"$f":"M74*$E230+M85*$D230","v":3482},{"$f":"N74*$E230+N85*$D230","v":3576},{"$f":"IFERROR(J230/I230-1,\"na\")","v":2.6995979322228525E-2}]
[null,{"$f":"'2021 Determination Revenue'!B$42","v":"Gwydir"},"$",{"$f":"D230","v":500},{"$f":"E230","v":300},null,null,null,7546,7801,3.3792737874370538E-2]
[null,{"$f":"'2021 Determination Revenue'!B$43","v":"Namoi"},"$",{"$f":"D231","v":500},{"$f":"E231","v":300},null,null,null,15045,15460,2.7583914921901043E-2]
[null,{"$f":"'2021 Determination Revenue'!B$44","v":"Peel"},"$",500,300,null,null,null,10788,10698,-8.3426028921023132E-3]
[null,{"$f":"'2021 Determination Revenue'!B$45","v":"Lachlan"},"$",500,300,null,null,null,11778,12403.999999999998,5.3149940567158938E-2]
[null,{"$f":"'2021 Determination Revenue'!B$46","v":"Macquarie"},"$",500,300,null,null,null,8892,9285,4.4197031039136192E-2]
[null,{"$f":"'2021 Determination Revenue'!B$47","v":"Murray"},"$",500,300,null,null,null,1444,1464,1.3850415512465464E-2]
[null,{"$f":"'2021 Determination Revenue'!B$48","v":"Murrumbidgee"},"$",500,300,null,null,null,2316,2324,3.4542314335059832E-3]
[null,{"$f":"'2021 Determination Revenue'!B$49","v":"Lowbidgee"},"$",500,300,null,null,null,905,905,0]
[]
[null,{"$f":"'2021 Determination Revenue'!B$128","v":"Large consumption customers"},{"$f":"\"Entitlement = \"&'2021 Determination Revenue'!H$138&\" kL pa, Usage = \"&'2021 Determination Revenue'!H$143*'2021 Determination Revenue'!H$138&\" kL pa\"","v":"Entitlement = 1000 kL pa, Usage = 600 kL pa"}]
[null,{"$f":"'2021 Determination Revenue'!B$41","v":"Border"},{"$f":"C$180","v":"$"},{"$f":"'2021 Determination Revenue'!G138","v":1000},{"$f":"D241*'2021 Determination Revenue'!G143","v":600},null,null,null,{"$f":"M74*$E241+M85*$D241","v":6964},{"$f":"('2021 Determination Revenue'!J$138*ROUND(Outputs!N85,2))+('2021 Determination Revenue'!J$138*'2021 Determination Revenue'!J$143*ROUND(Outputs!N74,2))","v":7152},{"$f":"IFERROR(J241/I241-1,\"na\")","v":2.6995979322228525E-2}]
[null,{"$f":"'2021 Determination Revenue'!B$42","v":"Gwydir"},"$",{"$f":"D241","v":1000},{"$f":"E241","v":600},null,null,null,15092,{"$f":"('2021 Determination Revenue'!J$138*ROUND(Outputs!N86,2))+('2021 Determination Revenue'!J$138*'2021 Determination Revenue'!J$143*ROUND(Outputs!N75,2))","v":15602},3.3792737874370538E-2]
[null,{"$f":"'2021 Determination Revenue'!B$43","v":"Namoi"},"$",{"$f":"D242","v":1000},{"$f":"E242","v":600},null,null,null,30090,{"$f":"('2021 Determination Revenue'!J$138*ROUND(Outputs!N87,2))+('2021 Determination Revenue'!J$138*'2021 Determination Revenue'!J$143*ROUND(Outputs!N76,2))","v":30920},2.7583914921901043E-2]
[null,{"$f":"'2021 Determination Revenue'!B$44","v":"Peel"},"$",1000,600,null,null,null,21576,{"$f":"('2021 Determination Revenue'!J$138*ROUND(Outputs!N88,2))+('2021 Determination Revenue'!J$138*'2021 Determination Revenue'!J$143*ROUND(Outputs!N77,2))","v":21396},-8.3426028921023132E-3]
[null,{"$f":"'2021 Determination Revenue'!B$45","v":"Lachlan"},"$",1000,600,null,null,null,23556,{"$f":"('2021 Determination Revenue'!J$138*ROUND(Outputs!N89,2))+('2021 Determination Revenue'!J$138*'2021 Determination Revenue'!J$143*ROUND(Outputs!N78,2))","v":24807.999999999996},5.3149940567158938E-2]
[null,{"$f":"'2021 Determination Revenue'!B$46","v":"Macquarie"},"$",1000,600,null,null,null,17784,{"$f":"('2021 Determination Revenue'!J$138*ROUND(Outputs!N90,2))+('2021 Determination Revenue'!J$138*'2021 Determination Revenue'!J$143*ROUND(Outputs!N79,2))","v":18570},4.4197031039136192E-2]
[null,{"$f":"'2021 Determination Revenue'!B$47","v":"Murray"},"$",1000,600,null,null,null,2888,{"$f":"('2021 Determination Revenue'!J$138*ROUND(Outputs!N91,2))+('2021 Determination Revenue'!J$138*'2021 Determination Revenue'!J$143*ROUND(Outputs!N80,2))","v":2928},1.3850415512465464E-2]
[null,{"$f":"'2021 Determination Revenue'!B$48","v":"Murrumbidgee"},"$",1000,600,null,null,null,4632,{"$f":"('2021 Determination Revenue'!J$138*ROUND(Outputs!N92,2))+('2021 Determination Revenue'!J$138*'2021 Determination Revenue'!J$143*ROUND(Outputs!N81,2))","v":4648},3.4542314335059832E-3]
[null,{"$f":"'2021 Determination Revenue'!B$49","v":"Lowbidgee"},"$",1000,600,null,null,null,1810,{"$f":"('2021 Determination Revenue'!J$138*ROUND(Outputs!N93,2))+('2021 Determination Revenue'!J$138*'2021 Determination Revenue'!J$143*ROUND(Outputs!N82,2))","v":1810},0]
[]
[]
[]
[null,"TABLE 4.7 - INDICATIVE BILLS FOR HIGH SECURITY AND GENERAL SECURITY CUSTOMERS - MDBA/BRC CHARGES"]
[null,{"$f":"'2021 Determination Revenue'!B$20","v":"Financial year"},{"$f":"'2021 Determination Revenue'!C$36","v":"Units"},"Volumes",null,null,null,null,{"$f":"$I$176","v":"2022-23"},"2022-23","Bill analysis of based on ∆ in demand and CPI"]
[null,null,null,"Entitle-ment","Usage",null,null,null,{"$f":"I$177","v":"As per 2021 Price Review"},{"$f":"J$177","v":"Re-calculated using updated demand"},{"$f":"K$177","v":"Difference "}]
[null,"HIGH SECURITY",null,null,null,null,null,null,{"$f":"$M$31","v":"$2022-23"},{"$f":"I256","v":"$2022-23"},{"$f":"$O$31","v":"%"}]
[null,{"$f":"'2021 Determination Revenue'!B$126","v":"Small consumption customers"},{"$f":"\"Entitlement = \"&'2021 Determination Revenue'!H$126&\" kL pa, Usage = \"&'2021 Determination Revenue'!H$131*'2021 Determination Revenue'!H$126&\" kL pa\"","v":"Entitlement = 100 kL pa, Usage = 100 kL pa"}]
[null,{"$f":"'2021 Determination Revenue'!B$41","v":"Border"},{"$f":"C$180","v":"$"},{"$f":"D180","v":100},{"$f":"E180","v":100},null,null,null,{"$f":"$D258*M$114+$E258*M$136","v":599},{"$f":"$D258*N$114+$E258*N$136","v":631},{"$f":"IFERROR(J258/I258-1,\"na\")","v":5.3422370617696169E-2}]
[null,{"$f":"'2021 Determination Revenue'!B$47","v":"Murray"},{"$f":"C$180","v":"$"},{"$f":"D258","v":100},{"$f":"E258","v":100},null,null,null,{"$f":"$D259*M$120+$E259*M$142","v":1102},{"$f":"$D259*N$120+$E259*N$142","v":1137.9999999999998},{"$f":"IFERROR(J259/I259-1,\"na\")","v":3.2667876588021505E-2}]
[null,{"$f":"'2021 Determination Revenue'!B$48","v":"Murrumbidgee"},{"$f":"C$180","v":"$"},{"$f":"D259","v":100},{"$f":"E259","v":100},null,null,null,{"$f":"$D260*M$121+$E260*M$143","v":234},{"$f":"$D260*N$121+$E260*N$143","v":239.99999999999997},{"$f":"IFERROR(J260/I260-1,\"na\")","v":2.564102564102555E-2}]
[]
[null,{"$f":"'2021 Determination Revenue'!B$127","v":"Medium consumption customers"},{"$f":"\"Entitlement = \"&'2021 Determination Revenue'!H$127&\" kL pa, Usage = \"&'2021 Determination Revenue'!H$132*'2021 Determination Revenue'!H$127&\" kL pa\"","v":"Entitlement = 500 kL pa, Usage = 500 kL pa"}]
[null,{"$f":"'2021 Determination Revenue'!B$41","v":"Border"},{"$f":"C$180","v":"$"},{"$f":"D191","v":500},{"$f":"E191","v":500},null,null,null,{"$f":"$D263*M$114+$E263*M$136","v":2995},{"$f":"$D263*N$114+$E263*N$136","v":3155},{"$f":"IFERROR(J263/I263-1,\"na\")","v":5.3422370617696169E-2}]
[null,{"$f":"'2021 Determination Revenue'!B$47","v":"Murray"},{"$f":"C$180","v":"$"},{"$f":"D192","v":500},500,null,null,null,{"$f":"$D264*M$120+$E264*M$142","v":5510},{"$f":"$D264*N$120+$E264*N$142","v":5690},{"$f":"IFERROR(J264/I264-1,\"na\")","v":3.2667876588021727E-2}]
[null,{"$f":"'2021 Determination Revenue'!B$48","v":"Murrumbidgee"},{"$f":"C$180","v":"$"},{"$f":"D193","v":500},500,null,null,null,{"$f":"$D265*M$121+$E265*M$143","v":1170},{"$f":"$D265*N$121+$E265*N$143","v":1200},{"$f":"IFERROR(J265/I265-1,\"na\")","v":2.564102564102555E-2}]
[]
[null,{"$f":"'2021 Determination Revenue'!B$128","v":"Large consumption customers"},{"$f":"\"Entitlement = \"&'2021 Determination Revenue'!H$128&\" kL pa, Usage = \"&'2021 Determination Revenue'!H$133*'2021 Determination Revenue'!H$128&\" kL pa\"","v":"Entitlement = 1000 kL pa, Usage = 1000 kL pa"}]
[null,{"$f":"'2021 Determination Revenue'!B$41","v":"Border"},{"$f":"C$180","v":"$"},{"$f":"D202","v":1000},{"$f":"E202","v":1000},null,null,null,{"$f":"$D268*M$114+$E268*M$136","v":5990},{"$f":"$D268*N$114+$E268*N$136","v":6310},{"$f":"IFERROR(J268/I268-1,\"na\")","v":5.3422370617696169E-2}]
[null,{"$f":"'2021 Determination Revenue'!B$47","v":"Murray"},{"$f":"C$180","v":"$"},{"$f":"D268","v":1000},{"$f":"E268","v":1000},null,null,null,{"$f":"$D269*M$120+$E269*M$142","v":11020},{"$f":"$D269*N$120+$E269*N$142","v":11380},{"$f":"IFERROR(J269/I269-1,\"na\")","v":3.2667876588021727E-2}]
[null,{"$f":"'2021 Determination Revenue'!B$48","v":"Murrumbidgee"},{"$f":"C$180","v":"$"},{"$f":"D269","v":1000},{"$f":"E269","v":1000},null,null,null,{"$f":"$D270*M$121+$E270*M$143","v":2340},{"$f":"$D270*N$121+$E270*N$143","v":2400},{"$f":"IFERROR(J270/I270-1,\"na\")","v":2.564102564102555E-2}]
[]
[null,"GENERAL SECURITY"]
[null,{"$f":"'2021 Determination Revenue'!B$126","v":"Small consumption customers"},{"$f":"\"Entitlement = \"&'2021 Determination Revenue'!H$136&\" kL pa, Usage = \"&'2021 Determination Revenue'!H$141*'2021 Determination Revenue'!H$136&\" kL pa\"","v":"Entitlement = 100 kL pa, Usage = 60 kL pa"}]
[null,{"$f":"'2021 Determination Revenue'!B$41","v":"Border"},{"$f":"C$180","v":"$"},{"$f":"D219","v":100},{"$f":"E219","v":60},null,null,null,{"$f":"$D274*M$114+$E274*M$125","v":201.60000000000002},{"$f":"$D274*N$114+$E274*N$125","v":206.60000000000002},{"$f":"IFERROR(J274/I274-1,\"na\")","v":2.4801587301587213E-2}]
[null,{"$f":"'2021 Determination Revenue'!B$47","v":"Murray"},{"$f":"C$180","v":"$"},{"$f":"D274","v":100},{"$f":"E274","v":60},null,null,null,{"$f":"$D275*M$120+$E275*M$131","v":433.4},{"$f":"$D275*N$120+$E275*N$131","v":435},{"$f":"IFERROR(J275/I275-1,\"na\")","v":3.6917397323488199E-3}]
[null,{"$f":"'2021 Determination Revenue'!B$48","v":"Murrumbidgee"},{"$f":"C$180","v":"$"},{"$f":"D275","v":100},{"$f":"E275","v":60},null,null,null,{"$f":"$D276*M$121+$E276*M$132","v":79.2},{"$f":"$D276*N$121+$E276*N$132","v":78.599999999999994},{"$f":"IFERROR(J276/I276-1,\"na\")","v":-7.5757575757576801E-3}]
[]
[null,{"$f":"'2021 Determination Revenue'!B$127","v":"Medium consumption customers"},{"$f":"\"Entitlement = \"&'2021 Determination Revenue'!H$137&\" kL pa, Usage = \"&'2021 Determination Revenue'!H$142*'2021 Determination Revenue'!H$137&\" kL pa\"","v":"Entitlement = 500 kL pa, Usage = 300 kL pa"}]
[null,{"$f":"'2021 Determination Revenue'!B$41","v":"Border"},{"$f":"C$180","v":"$"},{"$f":"D230","v":500},{"$f":"E230","v":300},null,null,null,{"$f":"$D279*M$114+$E279*M$125","v":1008},{"$f":"$D279*N$114+$E279*N$125","v":1033},{"$f":"IFERROR(J279/I279-1,\"na\")","v":2.4801587301587213E-2}]
[null,{"$f":"'2021 Determination Revenue'!B$47","v":"Murray"},{"$f":"C$180","v":"$"},{"$f":"D279","v":500},{"$f":"E279","v":300},null,null,null,{"$f":"$D280*M$120+$E280*M$131","v":2167},{"$f":"$D280*N$120+$E280*N$131","v":2175},{"$f":"IFERROR(J280/I280-1,\"na\")","v":3.6917397323488199E-3}]
[null,{"$f":"'2021 Determination Revenue'!B$48","v":"Murrumbidgee"},{"$f":"C$180","v":"$"},{"$f":"D280","v":500},{"$f":"E280","v":300},null,null,null,{"$f":"$D281*M$121+$E281*M$132","v":396},{"$f":"$D281*N$121+$E281*N$132","v":393},{"$f":"IFERROR(J281/I281-1,\"na\")","v":-7.575757575757569E-3}]
[]
[null,{"$f":"'2021 Determination Revenue'!B$128","v":"Large consumption customers"},{"$f":"\"Entitlement = \"&'2021 Determination Revenue'!H$138&\" kL pa, Usage = \"&'2021 Determination Revenue'!H$143*'2021 Determination Revenue'!H$138&\" kL pa\"","v":"Entitlement = 1000 kL pa, Usage = 600 kL pa"}]
[null,{"$f":"'2021 Determination Revenue'!B$41","v":"Border"},{"$f":"C$180","v":"$"},{"$f":"D241","v":1000},{"$f":"E241","v":600},null,null,null,{"$f":"$D284*M$114+$E284*M$125","v":2016},{"$f":"$D284*N$114+$E284*N$125","v":2066},{"$f":"IFERROR(J284/I284-1,\"na\")","v":2.4801587301587213E-2}]
[null,{"$f":"'2021 Determination Revenue'!B$47","v":"Murray"},{"$f":"C$180","v":"$"},{"$f":"D284","v":1000},{"$f":"E284","v":600},null,null,null,{"$f":"$D285*M$120+$E285*M$131","v":4334},{"$f":"$D285*N$120+$E285*N$131","v":4350},{"$f":"IFERROR(J285/I285-1,\"na\")","v":3.6917397323488199E-3}]
[null,{"$f":"'2021 Determination Revenue'!B$48","v":"Murrumbidgee"},{"$f":"C$180","v":"$"},{"$f":"D285","v":1000},{"$f":"E285","v":600},null,null,null,{"$f":"$D286*M$121+$E286*M$132","v":792},{"$f":"$D286*N$121+$E286*N$132","v":786},{"$f":"IFERROR(J286/I286-1,\"na\")","v":-7.575757575757569E-3}]
[]
[]
[]
[null,"TABLE 4.8 - INDICATIVE BILLS FOR CUSTOMERS IN THE FRWS"]
[null,{"$f":"'2021 Determination Revenue'!B$20","v":"Financial year"},{"$f":"'2021 Determination Revenue'!C$36","v":"Units"},null,"Volumes (ML)",null,null,null,{"$f":"$I$176","v":"2022-23"},"2022-23","Bill analysis of based on ∆ in demand and CPI"]
[null,null,null,"MAQ","Usage up to MAQ","> MAQ","No. customers",null,{"$f":"I$177","v":"As per 2021 Price Review"},{"$f":"J$177","v":"Re-calculated using updated demand"},{"$f":"K$177","v":"Difference "}]
[null,null,null,null,null,null,null,null,{"$f":"$M$31","v":"$2022-23"},{"$f":"I293","v":"$2022-23"},{"$f":"$O$31","v":"%"}]
[null,"Note: indicative bills for FRWS customers based on total usage in each customer class / customers within class."]
[null,"Raw water - major customer",{"$f":"C286","v":"$"},{"$f":"LOOKUP($I$291,'FRWS calcs'!$H$11:$J$11,'FRWS calcs'!$H14:$J14)","v":8184},{"$f":"LOOKUP($I$291,'FRWS calcs'!$H$11:$J$11,'FRWS calcs'!$H25:$J25)","v":1781.0928000000001},{"$f":"LOOKUP($I$291,'FRWS calcs'!$H$11:$J$11,'FRWS calcs'!$H30:$J30)","v":0},1,null,{"$f":"($D295*M154+$E295*M159+$F295*M164)*1000","v":4797222.4800000004},{"$f":"($D295*N154+$E295*N159+$F295*N164)*1000","v":4815033.4079999998},{"$f":"IFERROR(J295/I295-1,\"na\")","v":3.7127583876408465E-3}]
[null,"Raw water - minor customer",{"$f":"C284","v":"$"},{"$f":"LOOKUP($I$291,'FRWS calcs'!$H$11:$J$11,'FRWS calcs'!$H15:$J15)","v":17.400000000000002},{"$f":"LOOKUP($I$291,'FRWS calcs'!$H$11:$J$11,'FRWS calcs'!$H26:$J26)","v":17.400000000000002},{"$f":"LOOKUP($I$291,'FRWS calcs'!$H$11:$J$11,'FRWS calcs'!$H31:$J31)","v":33.897899999999993},{"$f":"LOOKUP(I291,'Updated Volumes'!$AA$116:$AD$116,'Updated Volumes'!AA120:AD120)","v":87},null,{"$f":"($D296*M155+$E296*M160+$F296*M165)*1000/$G296","v":507.08268965517237},{"$f":"($D296*N155+$E296*N160+$F296*N165)*1000/$G296","v":503.18637931034476},{"$f":"IFERROR(J296/I296-1,\"na\")","v":-7.6837770728817034E-3}]
[null,"Filtered water - minor customer",{"$f":"C296","v":"$"},{"$f":"LOOKUP($I$291,'FRWS calcs'!$H$11:$J$11,'FRWS calcs'!$H16:$J16)","v":46.6},{"$f":"LOOKUP($I$291,'FRWS calcs'!$H$11:$J$11,'FRWS calcs'!$H27:$J27)","v":46.6},{"$f":"LOOKUP($I$291,'FRWS calcs'!$H$11:$J$11,'FRWS calcs'!$H32:$J32)","v":53.539550000000013},{"$f":"LOOKUP(I292,'Updated Volumes'!$AA$116:$AD$116,'Updated Volumes'!AA121:AD121)","v":0},null,{"$f":"($D297*M156+$E297*M161+$F297*M166)*1000/$G297","v":{"$error":"#DIV/0!"}},{"$f":"($D297*N156+$E297*N161+$F297*N166)*1000/$G297","v":{"$error":"#DIV/0!"}},{"$f":"IFERROR(J297/I297-1,\"na\")","v":"na"}]
[]
[]
[]
[null,"REVENUE FORECASTS"]
[]
[]
[null,{"$f":"\"TABLE 4.9 - Comparison of WaterNSW'S Forecast Revenue in \"&$C$23&\" under different scenarios ($'000, \"&$H$308&\")\"","v":"TABLE 4.9 - Comparison of WaterNSW'S Forecast Revenue in 2022-23 under different scenarios ($'000, $2020-21)"}]
[null,{"$f":"'2021 Determination Revenue'!B$20","v":"Financial year"},{"$f":"'2021 Determination Revenue'!C$36","v":"Units"},"Volumes","Prices",{"$f":"E305","v":"Prices"},null,{"$f":"$C$23","v":"2022-23"},{"$f":"H305","v":"2022-23"},{"$f":"I305","v":"2022-23"},"2022-23"]
[null,null,null,null,"Detm","Re- calc'd",null,{"$f":"\"Notional revenue requirement for \"&$C$23","v":"Notional revenue requirement for 2022-23"},{"$f":"\"Forecast revenue using updated demand (but charges are per \"&'2021 Determination Revenue'!$F$19&\" Price Review)\"","v":"Forecast revenue using updated demand (but charges are per 2021 Price Review)"},"Forecast revenue using updated demand and charges (based on ∆ in demand)","Difference between A and B\n(Revenue analysis based on ∆ in demand only)",null,"Difference between A and C\n(Revenue analysis based on ∆ in demand and updated charges)"]
[null,null,null,null,null,null,null,"A","B","C","B/A",null,"C/A"]
[null,null,null,null,null,null,null,{"$f":"'2021 Determination Charges'!$G$14","v":"$2020-21"},{"$f":"H308","v":"$2020-21"},{"$f":"I308","v":"$2020-21"},"%",null,"%"]
[]
[null,"WaterNSW revenue from MDB valley customers (ie, excluding MDBA/BRC revenue)"]
[null,"Forecast revenue from usage charges"]
[null,{"$f":"'2021 Determination Revenue'!B$41","v":"Border"},{"$f":"'2021 Determination Revenue'!C$41","v":"$'000"},{"$f":"LOOKUP($H$305,'MDB calcs'!$H$17:$J$17,'MDB calcs'!$H21:$J21)","v":133341.98300000001},{"$f":"LOOKUP($H$305,'2021 Determination Charges'!$H$13:$J$13,'2021 Determination Charges'!$H17:$J17)","v":6.9519630133429891},{"$f":"K74","v":7.2705780953424162},null,null,{"$f":"($D312*E312)/1000","v":926.98853394180969},{"$f":"($D312*F312)/1000","v":969.47330078932089},"na",null,"na"]
[null,{"$f":"'2021 Determination Revenue'!B$42","v":"Gwydir"},{"$f":"'2021 Determination Revenue'!C$41","v":"$'000"},{"$f":"LOOKUP($H$305,'MDB calcs'!$H$17:$J$17,'MDB calcs'!$H22:$J22)","v":209344.94},{"$f":"LOOKUP($H$305,'2021 Determination Charges'!$H$13:$J$13,'2021 Determination Charges'!$H18:$J18)","v":17.000321673640542},{"$f":"K75","v":17.905305953530359},null,null,{"$f":"($D313*E313)/1000","v":3558.9313207489786},3748.3852005234558,"na",null,"na"]
[null,{"$f":"'2021 Determination Revenue'!B$43","v":"Namoi"},{"$f":"'2021 Determination Revenue'!C$41","v":"$'000"},{"$f":"LOOKUP($H$305,'MDB calcs'!$H$17:$J$17,'MDB calcs'!$H23:$J23)","v":131738.60500000001},{"$f":"LOOKUP($H$305,'2021 Determination Charges'!$H$13:$J$13,'2021 Determination Charges'!$H19:$J19)","v":30.541139003181428},32.048586324496789,null,null,4023.4470473902124,4222.0360546112843,"na",null,"na"]
[null,{"$f":"'2021 Determination Revenue'!B$44","v":"Peel"},{"$f":"'2021 Determination Revenue'!C$41","v":"$'000"},{"$f":"LOOKUP($H$305,'MDB calcs'!$H$17:$J$17,'MDB calcs'!$H24:$J24)","v":12429.869500000001},{"$f":"LOOKUP($H$305,'2021 Determination Charges'!$H$13:$J$13,'2021 Determination Charges'!$H20:$J20)","v":24.243385466098346},24.623881886728814,null,null,301.34211758179913,306.07163843545294,"na",null,"na"]
[null,{"$f":"'2021 Determination Revenue'!B$45","v":"Lachlan"},{"$f":"'2021 Determination Revenue'!C$41","v":"$'000"},{"$f":"LOOKUP($H$305,'MDB calcs'!$H$17:$J$17,'MDB calcs'!$H25:$J25)","v":169332.16299999997},{"$f":"LOOKUP($H$305,'2021 Determination Charges'!$H$13:$J$13,'2021 Determination Charges'!$H21:$J21)","v":30.830708271304754},33.15543742580887,null,null,5220.6305184020239,5614.2819345233675,"na",null,"na"]
[null,{"$f":"'2021 Determination Revenue'!B$46","v":"Macquarie"},{"$f":"'2021 Determination Revenue'!C$41","v":"$'000"},{"$f":"LOOKUP($H$305,'MDB calcs'!$H$17:$J$17,'MDB calcs'!$H26:$J26)","v":216717.58599999998},{"$f":"LOOKUP($H$305,'2021 Determination Charges'!$H$13:$J$13,'2021 Determination Charges'!$H22:$J22)","v":21.403751008100738},22.966883209992105,null,null,4638.5692498206581,4977.3274872134198,"na",null,"na"]
[null,{"$f":"'2021 Determination Revenue'!B$47","v":"Murray"},{"$f":"'2021 Determination Revenue'!C$41","v":"$'000"},{"$f":"LOOKUP($H$305,'MDB calcs'!$H$17:$J$17,'MDB calcs'!$H27:$J27)","v":1334267.5226470593},{"$f":"LOOKUP($H$305,'2021 Determination Charges'!$H$13:$J$13,'2021 Determination Charges'!$H23:$J23)","v":2.8971969792079886},2.9953140458274081,null,null,3865.6358360683867,3996.550251476076,"na",null,"na"]
[null,{"$f":"'2021 Determination Revenue'!B$48","v":"Murrumbidgee"},{"$f":"'2021 Determination Revenue'!C$41","v":"$'000"},{"$f":"LOOKUP($H$305,'MDB calcs'!$H$17:$J$17,'MDB calcs'!$H28:$J28)","v":1516646.6497058824},{"$f":"LOOKUP($H$305,'2021 Determination Charges'!$H$13:$J$13,'2021 Determination Charges'!$H24:$J24)","v":4.9143369749081769},4.9617497679059168,null,null,7453.3127085202277,7525.2211621734477,"na",null,"na"]
[null,{"$f":"'2021 Determination Revenue'!B$49","v":"Lowbidgee"},{"$f":"'2021 Determination Revenue'!C$41","v":"$'000"},{"$f":"LOOKUP($H$305,'MDB calcs'!$H$17:$J$17,'MDB calcs'!$H29:$J29)","v":42618.833333333336},{"$f":"LOOKUP($H$305,'2021 Determination Charges'!$H$13:$J$13,'2021 Determination Charges'!$H25:$J25)","v":0},0,null,null,0,0,"na",null,"na"]
[]
[null,"Forecast revenue from GS entitlement charges"]
[null,{"$f":"'2021 Determination Revenue'!B$41","v":"Border"},{"$f":"'2021 Determination Revenue'!C$41","v":"$'000"},{"$f":"LOOKUP($H$305,'MDB calcs'!$H$17:$J$17,'MDB calcs'!$H32:$J32)","v":263218},{"$f":"LOOKUP($H$305,'2021 Determination Charges'!$H$13:$J$13,'2021 Determination Charges'!$H28:$J28)","v":2.3827542194568725},{"$f":"K85","v":2.3785067330768124},null,null,{"$f":"($D323*E323)/1000","v":627.18380013699914},{"$f":"($D323*F323)/1000","v":626.06578526701242},"na",null,"na"]
[null,{"$f":"'2021 Determination Revenue'!B$42","v":"Gwydir"},{"$f":"'2021 Determination Revenue'!C$41","v":"$'000"},{"$f":"LOOKUP($H$305,'MDB calcs'!$H$17:$J$17,'MDB calcs'!$H33:$J33)","v":509665},{"$f":"LOOKUP($H$305,'2021 Determination Charges'!$H$13:$J$13,'2021 Determination Charges'!$H29:$J29)","v":3.9954232071705036},3.9462627248695576,null,null,{"$f":"($D324*E324)/1000","v":2036.3273688825548},2011.2719916706433,"na",null,"na"]
[null,{"$f":"'2021 Determination Revenue'!B$43","v":"Namoi"},{"$f":"'2021 Determination Revenue'!C$41","v":"$'000"},{"$f":"LOOKUP($H$305,'MDB calcs'!$H$17:$J$17,'MDB calcs'!$H34:$J34)","v":256691},{"$f":"LOOKUP($H$305,'2021 Determination Charges'!$H$13:$J$13,'2021 Determination Charges'!$H30:$J30)","v":9.9882450597985013},9.8749300530986606,null,null,2563.8926126447373,2534.8056702599483,"na",null,"na"]
[null,{"$f":"'2021 Determination Revenue'!B$44","v":"Peel"},{"$f":"'2021 Determination Revenue'!C$41","v":"$'000"},{"$f":"LOOKUP($H$305,'MDB calcs'!$H$17:$J$17,'MDB calcs'!$H35:$J35)","v":29311},{"$f":"LOOKUP($H$305,'2021 Determination Charges'!$H$13:$J$13,'2021 Determination Charges'!$H31:$J31)","v":5.7520008738709567},5.3604474013309034,null,null,168.59689761403163,157.12007378041011,"na",null,"na"]
[null,{"$f":"'2021 Determination Revenue'!B$45","v":"Lachlan"},{"$f":"'2021 Determination Revenue'!C$41","v":"$'000"},{"$f":"LOOKUP($H$305,'MDB calcs'!$H$17:$J$17,'MDB calcs'!$H36:$J36)","v":633166},{"$f":"LOOKUP($H$305,'2021 Determination Charges'!$H$13:$J$13,'2021 Determination Charges'!$H32:$J32)","v":3.6701633265390821},3.4510782504986266,null,null,2323.8226328114442,2185.1054115552133,"na",null,"na"]
[null,{"$f":"'2021 Determination Revenue'!B$46","v":"Macquarie"},{"$f":"'2021 Determination Revenue'!C$41","v":"$'000"},{"$f":"LOOKUP($H$305,'MDB calcs'!$H$17:$J$17,'MDB calcs'!$H37:$J37)","v":632466},{"$f":"LOOKUP($H$305,'2021 Determination Charges'!$H$13:$J$13,'2021 Determination Charges'!$H33:$J33)","v":3.9019030401740467},3.6955970829717706,null,null,2467.8210082067185,2337.3395046788241,"na",null,"na"]
[null,{"$f":"'2021 Determination Revenue'!B$47","v":"Murray"},{"$f":"'2021 Determination Revenue'!C$41","v":"$'000"},{"$f":"LOOKUP($H$305,'MDB calcs'!$H$17:$J$17,'MDB calcs'!$H38:$J38)","v":2083603},{"$f":"LOOKUP($H$305,'2021 Determination Charges'!$H$13:$J$13,'2021 Determination Charges'!$H34:$J34)","v":0.98233260529967825},0.95839760897374482,null,null,2046.7911634002255,1996.9201332505218,"na",null,"na"]
[null,{"$f":"'2021 Determination Revenue'!B$48","v":"Murrumbidgee"},{"$f":"'2021 Determination Revenue'!C$41","v":"$'000"},{"$f":"LOOKUP($H$305,'MDB calcs'!$H$17:$J$17,'MDB calcs'!$H39:$J39)","v":2264995},{"$f":"LOOKUP($H$305,'2021 Determination Charges'!$H$13:$J$13,'2021 Determination Charges'!$H35:$J35)","v":1.41716484827431},1.3922498627577859,null,null,3209.8712955170708,3153.4389778970713,"na",null,"na"]
[null,{"$f":"'2021 Determination Revenue'!B$49","v":"Lowbidgee"},{"$f":"'2021 Determination Revenue'!C$41","v":"$'000"},{"$f":"LOOKUP($H$305,'MDB calcs'!$H$17:$J$17,'MDB calcs'!$H40:$J40)","v":747000},{"$f":"LOOKUP($H$305,'2021 Determination Charges'!$H$13:$J$13,'2021 Determination Charges'!$H36:$J36)","v":1.704125639116524},1.704125639116524,null,null,1272.9818524200434,1272.9818524200434,"na",null,"na"]
[]
[null,"Forecast revenue from HS entitlement charges"]
[null,{"$f":"'2021 Determination Revenue'!B$41","v":"Border"},{"$f":"'2021 Determination Revenue'!C$41","v":"$'000"},{"$f":"LOOKUP($H$305,'MDB calcs'!$H$17:$J$17,'MDB calcs'!$H43:$J43)","v":3141},{"$f":"LOOKUP($H$305,'2021 Determination Charges'!$H$13:$J$13,'2021 Determination Charges'!$H39:$J39)","v":6.5089200689694469},{"$f":"K96","v":6.8648624026169678},null,null,{"$f":"($D334*E334)/1000","v":20.444517936633034},{"$f":"($D334*F334)/1000","v":21.562532806619895},"na",null,"na"]
[null,{"$f":"'2021 Determination Revenue'!B$42","v":"Gwydir"},{"$f":"'2021 Determination Revenue'!C$41","v":"$'000"},{"$f":"LOOKUP($H$305,'MDB calcs'!$H$17:$J$17,'MDB calcs'!$H44:$J44)","v":27220},{"$f":"LOOKUP($H$305,'2021 Determination Charges'!$H$13:$J$13,'2021 Determination Charges'!$H40:$J40)","v":17.214683086073457},17.94543151686295,null,null,{"$f":"($D335*E335)/1000","v":468.58367360291948},488.47464588900954,"na",null,"na"]
[null,{"$f":"'2021 Determination Revenue'!B$43","v":"Namoi"},{"$f":"'2021 Determination Revenue'!C$41","v":"$'000"},{"$f":"LOOKUP($H$305,'MDB calcs'!$H$17:$J$17,'MDB calcs'!$H45:$J45)","v":8841},{"$f":"LOOKUP($H$305,'2021 Determination Charges'!$H$13:$J$13,'2021 Determination Charges'!$H41:$J41)","v":28.617101909525374},31.805007602641432,null,null,253.00379798211384,281.18807221495291,"na",null,"na"]
[null,{"$f":"'2021 Determination Revenue'!B$44","v":"Peel"},{"$f":"'2021 Determination Revenue'!C$41","v":"$'000"},{"$f":"LOOKUP($H$305,'MDB calcs'!$H$17:$J$17,'MDB calcs'!$H46:$J46)","v":17367},{"$f":"LOOKUP($H$305,'2021 Determination Charges'!$H$13:$J$13,'2021 Determination Charges'!$H42:$J42)","v":60.696349462197254},61.464500099426232,null,null,1054.1135011099798,1067.4539732267353,"na",null,"na"]
[null,{"$f":"'2021 Determination Revenue'!B$45","v":"Lachlan"},{"$f":"'2021 Determination Revenue'!C$41","v":"$'000"},{"$f":"LOOKUP($H$305,'MDB calcs'!$H$17:$J$17,'MDB calcs'!$H47:$J47)","v":57269},{"$f":"LOOKUP($H$305,'2021 Determination Charges'!$H$13:$J$13,'2021 Determination Charges'!$H43:$J43)","v":24.823103170025366},27.237938918900689,null,null,1421.5942954441825,1559.8895239465235,"na",null,"na"]
[null,{"$f":"'2021 Determination Revenue'!B$46","v":"Macquarie"},{"$f":"'2021 Determination Revenue'!C$41","v":"$'000"},{"$f":"LOOKUP($H$305,'MDB calcs'!$H$17:$J$17,'MDB calcs'!$H48:$J48)","v":42669},{"$f":"LOOKUP($H$305,'2021 Determination Charges'!$H$13:$J$13,'2021 Determination Charges'!$H44:$J44)","v":19.956038554293137},23.024320828920839,null,null,851.50420907313389,982.42474544922334,"na",null,"na"]
[null,{"$f":"'2021 Determination Revenue'!B$47","v":"Murray"},{"$f":"'2021 Determination Revenue'!C$41","v":"$'000"},{"$f":"LOOKUP($H$305,'MDB calcs'!$H$17:$J$17,'MDB calcs'!$H49:$J49)","v":276894},{"$f":"LOOKUP($H$305,'2021 Determination Charges'!$H$13:$J$13,'2021 Determination Charges'!$H45:$J45)","v":2.2305210005994605},2.3033384720604508,null,null,617.617881939987,637.78060288270649,"na",null,"na"]
[null,{"$f":"'2021 Determination Revenue'!B$48","v":"Murrumbidgee"},{"$f":"'2021 Determination Revenue'!C$41","v":"$'000"},{"$f":"LOOKUP($H$305,'MDB calcs'!$H$17:$J$17,'MDB calcs'!$H50:$J50)","v":440475},{"$f":"LOOKUP($H$305,'2021 Determination Charges'!$H$13:$J$13,'2021 Determination Charges'!$H46:$J46)","v":4.1240457444005791},4.2214801920445719,null,null,1816.5390492648453,1859.4564875908329,"na",null,"na"]
[null,{"$f":"'2021 Determination Revenue'!B$49","v":"Lowbidgee"},{"$f":"'2021 Determination Revenue'!C$41","v":"$'000"},{"$f":"LOOKUP($H$305,'MDB calcs'!$H$17:$J$17,'MDB calcs'!$H51:$J51)","v":0},{"$f":"LOOKUP($H$305,'2021 Determination Charges'!$H$13:$J$13,'2021 Determination Charges'!$H47:$J47)","v":0},0,null,null,0,0,"na",null,"na"]
[]
[]
[null,"Total forecast revenue"]
[null,{"$f":"'2021 Determination Revenue'!B$41","v":"Border"},{"$f":"'2021 Determination Revenue'!C$41","v":"$'000"},null,null,null,null,{"$f":"LOOKUP($H$305,'2021 Determination Revenue'!$H$36:$J$36,'2021 Determination Revenue'!$H41:$J41)","v":1617.101618862953},{"$f":"I312+I323+I334","v":1574.616852015442},{"$f":"J312+J323+J334","v":1617.1016188629533},{"$f":"I346/H346-1","v":-2.6272168892752523E-2},null,{"$f":"J346/H346-1","v":0}]
[null,{"$f":"'2021 Determination Revenue'!B$42","v":"Gwydir"},{"$f":"'2021 Determination Revenue'!C$41","v":"$'000"},null,null,null,null,{"$f":"LOOKUP($H$305,'2021 Determination Revenue'!$H$36:$J$36,'2021 Determination Revenue'!$H42:$J42)","v":6248.1318380831081},{"$f":"I313+I324+I335","v":6063.8423632344529},{"$f":"J313+J324+J335","v":6248.131838083109},{"$f":"I347/H347-1","v":-2.9495132245031863E-2},null,{"$f":"J347/H347-1","v":0}]
[null,{"$f":"'2021 Determination Revenue'!B$43","v":"Namoi"},{"$f":"'2021 Determination Revenue'!C$41","v":"$'000"},null,null,null,null,{"$f":"LOOKUP($H$305,'2021 Determination Revenue'!$H$36:$J$36,'2021 Determination Revenue'!$H43:$J43)","v":7038.0297970861857},6840.3434580170633,7038.0297970861848,-2.8088306638168303E-2,null,0]
[null,{"$f":"'2021 Determination Revenue'!B$44","v":"Peel"},{"$f":"'2021 Determination Revenue'!C$41","v":"$'000"},null,null,null,null,{"$f":"LOOKUP($H$305,'2021 Determination Revenue'!$H$36:$J$36,'2021 Determination Revenue'!$H44:$J44)","v":1530.6456854425985},1524.0525163058105,1530.6456854425983,-4.3074430611167447E-3,null,0]
[null,{"$f":"'2021 Determination Revenue'!B$45","v":"Lachlan"},{"$f":"'2021 Determination Revenue'!C$41","v":"$'000"},null,null,null,null,{"$f":"LOOKUP($H$305,'2021 Determination Revenue'!$H$36:$J$36,'2021 Determination Revenue'!$H45:$J45)","v":9359.2768700251036},8966.0474466576507,9359.2768700251036,-4.2014936498656841E-2,null,0]
[null,{"$f":"'2021 Determination Revenue'!B$46","v":"Macquarie"},{"$f":"'2021 Determination Revenue'!C$41","v":"$'000"},null,null,null,null,{"$f":"LOOKUP($H$305,'2021 Determination Revenue'!$H$36:$J$36,'2021 Determination Revenue'!$H46:$J46)","v":8297.0917373414668},7957.8944671005111,8297.0917373414668,-4.0881465575989928E-2,null,0]
[null,{"$f":"'2021 Determination Revenue'!B$47","v":"Murray"},{"$f":"'2021 Determination Revenue'!C$41","v":"$'000"},null,null,null,null,{"$f":"LOOKUP($H$305,'2021 Determination Revenue'!$H$36:$J$36,'2021 Determination Revenue'!$H47:$J47)","v":6631.2509876093045},6530.0448814085994,6631.2509876093036,-1.5261993007022578E-2,null,0]
[null,{"$f":"'2021 Determination Revenue'!B$48","v":"Murrumbidgee"},{"$f":"'2021 Determination Revenue'!C$41","v":"$'000"},null,null,null,null,{"$f":"LOOKUP($H$305,'2021 Determination Revenue'!$H$36:$J$36,'2021 Determination Revenue'!$H48:$J48)","v":12538.116627661353},12479.723053302145,12538.116627661351,-4.6572843508554396E-3,null,0]
[null,{"$f":"'2021 Determination Revenue'!B$49","v":"Lowbidgee"},{"$f":"'2021 Determination Revenue'!C$41","v":"$'000"},null,null,null,null,{"$f":"LOOKUP($H$305,'2021 Determination Revenue'!$H$36:$J$36,'2021 Determination Revenue'!$H49:$J49)","v":1272.9818524200434},1272.9818524200434,1272.9818524200434,0,null,0]
[]
[]
[null,"Revenue from FRWS customers"]
[null,"Forecast revenue for MAQ charges"]
[null,{"$f":"'Updated Volumes'!B$31","v":"Energy Australia "},{"$f":"'2021 Determination Revenue'!C$41","v":"$'000"},{"$f":"LOOKUP($H$305,'FRWS calcs'!$H$11:$J$11,'FRWS calcs'!$H14:$J14)","v":8184},{"$f":"LOOKUP($H$305,'2021 Determination Charges'!$H$76:$J$76,'2021 Determination Charges'!$H80:$J80)","v":0.48010269747526763},{"$f":"K154","v":0.48010269747526763},null,null,{"$f":"D359*E359","v":3929.1604761375902},{"$f":"D359*K154","v":3929.1604761375902},"na",null,"na"]
[null,{"$f":"'Updated Volumes'!B$32","v":"Minor customers (raw) "},{"$f":"'2021 Determination Revenue'!C$41","v":"$'000"},{"$f":"LOOKUP($H$305,'FRWS calcs'!$H$11:$J$11,'FRWS calcs'!$H15:$J15)","v":17.400000000000002},{"$f":"LOOKUP($H$305,'2021 Determination Charges'!$H$76:$J$76,'2021 Determination Charges'!$H81:$J81)","v":0.48010269747526763},{"$f":"K155","v":0.48010269747526757},null,null,{"$f":"D360*E360","v":8.3537869360696568},{"$f":"D360*K155","v":8.3537869360696568},"na",null,"na"]
[null,{"$f":"'Updated Volumes'!B$33","v":"Minor customers (filtered) "},{"$f":"'2021 Determination Revenue'!C$41","v":"$'000"},{"$f":"LOOKUP($H$305,'FRWS calcs'!$H$11:$J$11,'FRWS calcs'!$H16:$J16)","v":46.6},{"$f":"LOOKUP($H$305,'2021 Determination Charges'!$H$76:$J$76,'2021 Determination Charges'!$H82:$J82)","v":0.84692177902568677},0.84692177902568677,null,null,39.466554902597004,{"$f":"D361*K156","v":39.466554902597004},"na",null,"na"]
[]
[null,"Forecast revenue for usage < MAQ charges"]
[null,{"$f":"'Updated Volumes'!B$31","v":"Energy Australia "},{"$f":"'2021 Determination Revenue'!C$41","v":"$'000"},{"$f":"LOOKUP($H$305,'FRWS calcs'!$H$11:$J$11,'FRWS calcs'!$H25:$J25)","v":1781.0928000000001},{"$f":"LOOKUP($H$305,'2021 Determination Charges'!$H$76:$J$76,'2021 Determination Charges'!$H85:$J85)","v":0.32463815347506425},{"$f":"K159","v":0.33716361203148831},null,null,{"$f":"D364*E364","v":578.21067775973199},{"$f":"D364*K159","v":600.51968181127722},"na",null,"na"]
[null,{"$f":"'Updated Volumes'!B$32","v":"Minor customers (raw) "},{"$f":"'2021 Determination Revenue'!C$41","v":"$'000"},{"$f":"LOOKUP($H$305,'FRWS calcs'!$H$11:$J$11,'FRWS calcs'!$H26:$J26)","v":17.400000000000002},{"$f":"LOOKUP($H$305,'2021 Determination Charges'!$H$76:$J$76,'2021 Determination Charges'!$H86:$J86)","v":0.32463815347506425},0.32248895250231108,null,null,{"$f":"D365*E365","v":5.648703870466119},{"$f":"D365*K160","v":5.6113077735402133},"na",null,"na"]
[null,{"$f":"'Updated Volumes'!B$33","v":"Minor customers (filtered) "},{"$f":"'2021 Determination Revenue'!C$41","v":"$'000"},{"$f":"LOOKUP($H$305,'FRWS calcs'!$H$11:$J$11,'FRWS calcs'!$H27:$J27)","v":46.6},{"$f":"LOOKUP($H$305,'2021 Determination Charges'!$H$76:$J$76,'2021 Determination Charges'!$H87:$J87)","v":0.52463815347506426},0.56015314135921601,null,null,24.448137951937994,{"$f":"D366*K161","v":26.103136387339468},"na",null,"na"]
[]
[null,"Forecast revenue for usage > MAQ charges"]
[null,{"$f":"'Updated Volumes'!B$31","v":"Energy Australia "},{"$f":"'2021 Determination Revenue'!C$41","v":"$'000"},{"$f":"LOOKUP($H$305,'FRWS calcs'!$H$11:$J$11,'FRWS calcs'!$H30:$J30)","v":0},{"$f":"LOOKUP($H$305,'2021 Determination Charges'!$H$76:$J$76,'2021 Determination Charges'!$H90:$J90)","v":0.80474085095033188},{"$f":"K164","v":0.81726630950675594},null,null,{"$f":"D369*E369","v":0},{"$f":"D369*K164","v":0},"na",null,"na"]
[null,{"$f":"'Updated Volumes'!B$32","v":"Minor customers (raw) "},{"$f":"'2021 Determination Revenue'!C$41","v":"$'000"},{"$f":"LOOKUP($H$305,'FRWS calcs'!$H$11:$J$11,'FRWS calcs'!$H31:$J31)","v":33.897899999999993},{"$f":"LOOKUP($H$305,'2021 Determination Charges'!$H$76:$J$76,'2021 Determination Charges'!$H91:$J91)","v":0.80474085095033188},0.8025916499775787,null,null,{"$f":"'FRWS calcs'!J31*ROUND('2021 Determination Charges'!J91,2)","v":40.496668},{"$f":"'FRWS calcs'!J31*ROUND(Outputs!J165,2)","v":0},"na",null,"na"]
[null,{"$f":"'Updated Volumes'!B$33","v":"Minor customers (filtered) "},{"$f":"'2021 Determination Revenue'!C$41","v":"$'000"},{"$f":"LOOKUP($H$305,'FRWS calcs'!$H$11:$J$11,'FRWS calcs'!$H32:$J32)","v":53.539550000000013},{"$f":"LOOKUP($H$305,'2021 Determination Charges'!$H$76:$J$76,'2021 Determination Charges'!$H92:$J92)","v":1.371559932500751},1.4070749203849027,null,null,{"$f":"'FRWS calcs'!J32*ROUND('2021 Determination Charges'!J92,2)","v":130.60642235000003},{"$f":"'FRWS calcs'!J32*ROUND(Outputs!J166,2)","v":0},"na",null,"na"]
[]
[null,"Total forecast revenue"]
[null,{"$f":"'Updated Volumes'!B$31","v":"Energy Australia "},{"$f":"'2021 Determination Revenue'!C$41","v":"$'000"},null,null,null,null,{"$f":"'2021 Determination Revenue'!I65","v":4529.6798008468986},{"$f":"I359+I364+I369","v":4507.3711538973221},{"$f":"J359+J364+J369","v":4529.6801579488674},{"$f":"I374/H374-1","v":-4.924994244715819E-3},null,7.8836029038242827E-8]
[null,{"$f":"'Updated Volumes'!B$32","v":"Minor customers (raw) "},{"$f":"'2021 Determination Revenue'!C$41","v":"$'000"},null,null,null,null,{"$f":"'2021 Determination Revenue'!I66","v":41.171185727299736},{"$f":"I360+I365+I370","v":54.499158806535775},{"$f":"J360+J365+J370","v":13.96509470960987},{"$f":"I375/H375-1","v":0.32372089469355614},null,-0.66080416526964603]
[null,{"$f":"'Updated Volumes'!B$33","v":"Minor customers (filtered) "},{"$f":"'2021 Determination Revenue'!C$41","v":"$'000"},null,null,null,null,{"$f":"'2021 Determination Revenue'!I67","v":140.90384934363004},{"$f":"I361+I366+I371","v":194.52111520453502},65.569691289936472,0.38052378349256855,null,-0.534649396766812]
[]
[]
[null,"Total revenue from MDB and FRWS customers",null,null,null,null,null,{"$f":"SUM(H346:H354)+SUM(H374:H376)","v":59244.381850449943},{"$f":"SUM(I346:I354)+SUM(I374:I376)","v":57965.938318370107},{"$f":"SUM(J346:J354)+SUM(J374:J376)","v":59141.841958480531},{"$f":"I379/H379-1","v":-2.1579152185383532E-2},null,-1.7307952039782304E-3]

{"sheet":" Calculations>>","index":6,"n_rows":5,"n_cols":4,"rows_kept":5,"cut":false,"hidden":false,"merged":[]}
[]
[]
[]
[]
[null,null,null,"Page intentionally left blank"]

{"sheet":"FRWS calcs","index":7,"n_rows":63,"n_cols":10,"rows_kept":63,"cut":false,"hidden":false,"merged":[]}
[]
[null,"6  FISH RIVER WATER SUPPLY SCHEME (FRWS) CALCULATIONS"]
[null,"This worksheet calculates the usage, MAQ and required revenue components needed to calculate the FRWS charges for each customer type and each water type."]
[]
[null,"List of tables",null,null,null,"Row number"]
[null,{"$f":"B10","v":"TABLE 6.1 - FISH RIVER USAGE AND MAQ VALUES"},null,null,null,{"$f":"ROW(B10)","v":10}]
[null,{"$f":"B39","v":"TABLE 6.2 - FISH RIVER REQUIRED REVENUE CALCULATIONS"},null,null,null,{"$f":"ROW(B39)","v":39}]
[]
[]
[null,"TABLE 6.1 - FISH RIVER USAGE AND MAQ VALUES"]
[null,{"$f":"'2021 Determination Revenue'!B$19","v":"Financial year ending 30 June"},{"$f":"'2021 Determination Revenue'!C$19","v":"Units"},null,null,null,{"$f":"'2021 Determination Revenue'!G$20","v":"2021-22"},{"$f":"'2021 Determination Revenue'!H$20","v":"2022-23"},{"$f":"'2021 Determination Revenue'!I$20","v":"2023-24"},{"$f":"'2021 Determination Revenue'!J$20","v":"2024-25"}]
[]
[null,"MAQ Level"]
[null,{"$f":"'Updated Volumes'!B$31","v":"Energy Australia "},{"$f":"'Updated Volumes'!$C$20","v":"ML"},null,null,null,{"$f":"'Updated Volumes'!AA124","v":8184},{"$f":"'Updated Volumes'!AB124","v":8184},{"$f":"'Updated Volumes'!AC124","v":0},{"$f":"'Updated Volumes'!AD124","v":0}]
[null,{"$f":"'Updated Volumes'!B$32","v":"Minor customers (raw) "},{"$f":"'Updated Volumes'!$C$20","v":"ML"},null,null,null,{"$f":"'Updated Volumes'!AA125","v":17.400000000000002},{"$f":"'Updated Volumes'!AB125","v":17.400000000000002},{"$f":"'Updated Volumes'!AC125","v":0},{"$f":"'Updated Volumes'!AD125","v":0}]
[null,{"$f":"'Updated Volumes'!B$33","v":"Minor customers (filtered) "},{"$f":"'Updated Volumes'!$C$20","v":"ML"},null,null,null,{"$f":"'Updated Volumes'!AA126","v":46.6},{"$f":"'Updated Volumes'!AB126","v":46.6},{"$f":"'Updated Volumes'!AC126","v":0},{"$f":"'Updated Volumes'!AD126","v":0}]
[]
[null,"Total usage"]
[null,"Note: these averages are lagged by 2 years."]
[null,{"$f":"'Updated Volumes'!B$31","v":"Energy Australia "},"ML",null,null,null,{"$f":"AVERAGE('Updated Volumes'!F31:Y31)/1000","v":1849.8123999999998},{"$f":"AVERAGE('Updated Volumes'!G31:Z31)/1000","v":1781.0928000000001},{"$f":"AVERAGE('Updated Volumes'!H31:AA31)/1000","v":1712.7983649999996},{"$f":"AVERAGE('Updated Volumes'!I31:AB31)/1000","v":1685.9273050000002}]
[null,{"$f":"'Updated Volumes'!B$32","v":"Minor customers (raw) "},{"$f":"'Updated Volumes'!$C$20","v":"ML"},null,null,null,{"$f":"AVERAGE('Updated Volumes'!F32:Y32)","v":51.160899999999991},{"$f":"AVERAGE('Updated Volumes'!G32:Z32)","v":51.297899999999991},{"$f":"AVERAGE('Updated Volumes'!H32:AA32)","v":51.355939999999997},{"$f":"AVERAGE('Updated Volumes'!I32:AB32)","v":50.620834999999992}]
[null,{"$f":"'Updated Volumes'!B$33","v":"Minor customers (filtered) "},{"$f":"'Updated Volumes'!$C$20","v":"ML"},null,null,null,{"$f":"AVERAGE('Updated Volumes'!F33:Y33)","v":102.73254999999999},{"$f":"AVERAGE('Updated Volumes'!G33:Z33)","v":100.13955000000001},{"$f":"AVERAGE('Updated Volumes'!H33:AA33)","v":98.8261775},{"$f":"AVERAGE('Updated Volumes'!I33:AB33)","v":95.333155000000005}]
[]
[null,"Usage up to MAQ"]
[null,{"$f":"'Updated Volumes'!B$31","v":"Energy Australia "},{"$f":"'Updated Volumes'!$C$20","v":"ML"},null,null,null,{"$f":"IF(G20>G14,G14,G20)","v":1849.8123999999998},1781.0928000000001,{"$f":"IF(I20>I14,I14,I20)","v":0},0]
[null,{"$f":"'Updated Volumes'!B$32","v":"Minor customers (raw) "},{"$f":"'Updated Volumes'!$C$20","v":"ML"},null,null,null,17.400000000000002,17.400000000000002,0,0]
[null,{"$f":"'Updated Volumes'!B$33","v":"Minor customers (filtered) "},{"$f":"'Updated Volumes'!$C$20","v":"ML"},null,null,null,46.6,46.6,0,0]
[]
[null,"Usage In excess of MAQ"]
[null,{"$f":"'Updated Volumes'!B$31","v":"Energy Australia "},{"$f":"'Updated Volumes'!$C$20","v":"ML"},null,null,null,{"$f":"IF(G20<G14,0,G20-G14)","v":0},0,{"$f":"IF(I20<I14,0,I20-I14)","v":1712.7983649999996},1685.9273050000002]
[null,{"$f":"'Updated Volumes'!B$32","v":"Minor customers (raw) "},{"$f":"'Updated Volumes'!$C$20","v":"ML"},null,null,null,33.760899999999992,33.897899999999993,51.355939999999997,50.620834999999992]
[null,{"$f":"'Updated Volumes'!B$33","v":"Minor customers (filtered) "},{"$f":"'Updated Volumes'!$C$20","v":"ML"},null,null,null,56.132549999999988,53.539550000000013,98.8261775,95.333155000000005]
[null,"Check=0",null,null,null,null,{"$f":"G25+G30-G20","v":0},{"$f":"H25+H30-H20","v":0},{"$f":"I25+I30-I20","v":0},{"$f":"J25+J30-J20","v":0}]
[null,"Check=0",null,null,null,null,{"$f":"G27+G32-G22","v":0},{"$f":"H27+H32-H22","v":0},{"$f":"I27+I32-I22","v":0},{"$f":"J27+J32-J22","v":0}]
[null,"Check=0",null,null,null,null,{"$f":"G26+G31-G21","v":0},{"$f":"H26+H31-H21","v":0},{"$f":"I26+I31-I21","v":0},{"$f":"J26+J31-J21","v":0}]
[]
[]
[]
[null,"TABLE 6.2 - FISH RIVER REQUIRED REVENUE CALCULATIONS"]
[null,{"$f":"'2021 Determination Revenue'!B$19","v":"Financial year ending 30 June"},{"$f":"'2021 Determination Revenue'!C$19","v":"Units"},null,null,null,{"$f":"'2021 Determination Revenue'!G$20","v":"2021-22"},{"$f":"'2021 Determination Revenue'!H$20","v":"2022-23"},{"$f":"'2021 Determination Revenue'!I$20","v":"2023-24"},{"$f":"'2021 Determination Revenue'!J$20","v":"2024-25"}]
[]
[null,"Revenue to be recovered from MAQ (fixed) charge"]
[null,{"$f":"'Updated Volumes'!B$31","v":"Energy Australia "},{"$f":"'2021 Determination Revenue'!$C$41","v":"$'000"},null,null,null,{"$f":"G14*Outputs!G154","v":3929.1604761375902},{"$f":"G43","v":3929.1604761375902},3929.1604761375902,3929.1604761375902]
[null,{"$f":"'Updated Volumes'!B$32","v":"Minor customers (raw) "},{"$f":"'2021 Determination Revenue'!$C$41","v":"$'000"},null,null,null,{"$f":"G15*Outputs!G155","v":8.3537869360696568},8.3537869360696568,8.3537869360696568,8.3537869360696568]
[null,{"$f":"'Updated Volumes'!B$33","v":"Minor customers (filtered) "},{"$f":"'2021 Determination Revenue'!$C$41","v":"$'000"},null,null,null,{"$f":"G16*Outputs!G156","v":39.466554902597004},39.466554902597004,39.466554902597004,39.466554902597004]
[]
[null,"Revenue to be recovered from Usage up to MAQ"]
[null,{"$f":"'Updated Volumes'!B$31","v":"Energy Australia "},{"$f":"'2021 Determination Revenue'!$C$41","v":"$'000"},null,null,null,{"$f":"IF(G20<G14,G20*Outputs!G159,G14*Outputs!G159)","v":600.51968181127688},{"$f":"G48","v":600.51968181127688},600.51968181127688,600.51968181127688]
[null,{"$f":"'Updated Volumes'!B$32","v":"Minor customers (raw) "},{"$f":"'2021 Determination Revenue'!$C$41","v":"$'000"},null,null,null,{"$f":"IF(G21<G15,G21*Outputs!G160,G15*Outputs!G160)","v":5.648703870466119},5.648703870466119,5.648703870466119,5.648703870466119]
[null,{"$f":"'Updated Volumes'!B$33","v":"Minor customers (filtered) "},{"$f":"'2021 Determination Revenue'!$C$41","v":"$'000"},null,null,null,{"$f":"IF(G22<G16,G22*Outputs!G161,G16*Outputs!G161)","v":24.448137951937994},24.448137951937994,24.448137951937994,24.448137951937994]
[]
[null,"Revenue to be recovered in excess of MAQ"]
[null,{"$f":"'Updated Volumes'!B$31","v":"Energy Australia "},{"$f":"'2021 Determination Revenue'!$C$41","v":"$'000"},null,null,null,{"$f":"IF(G20<G14,0,((G20-G14)*Outputs!G164))","v":0},{"$f":"G53","v":0},0,0]
[null,{"$f":"'Updated Volumes'!B$32","v":"Minor customers (raw) "},{"$f":"'2021 Determination Revenue'!$C$41","v":"$'000"},null,null,null,{"$f":"IF(G21<G15,0,((G21-G15)*Outputs!G165))","v":27.168775394849053},27.168775394849053,27.168775394849053,27.168775394849053]
[null,{"$f":"'Updated Volumes'!B$33","v":"Minor customers (filtered) "},{"$f":"'2021 Determination Revenue'!$C$41","v":"$'000"},null,null,null,{"$f":"IF(G22<G16,0,((G22-G16)*Outputs!G166))","v":76.989156489095009},76.989156489095009,76.989156489095009,76.989156489095009]
[]
[null,"Total revenue to be recovered"]
[null,{"$f":"'Updated Volumes'!B$31","v":"Energy Australia "},{"$f":"'2021 Determination Revenue'!$C$41","v":"$'000"},null,null,null,{"$f":"G43+G48+G53","v":4529.6801579488674},{"$f":"G58","v":4529.6801579488674},4529.6801579488674,4529.6801579488674]
[null,{"$f":"'Updated Volumes'!B$32","v":"Minor customers (raw) "},{"$f":"'2021 Determination Revenue'!$C$41","v":"$'000"},null,null,null,{"$f":"G44+G49+G54","v":41.171266201384825},41.171266201384825,41.171266201384825,41.171266201384825]
[null,{"$f":"'Updated Volumes'!B$33","v":"Minor customers (filtered) "},{"$f":"'2021 Determination Revenue'!$C$41","v":"$'000"},null,null,null,{"$f":"G45+G50+G55","v":140.90384934363001},140.90384934363001,140.90384934363001,140.90384934363001]
[null,"Check=0",null,null,null,null,{"$f":"G43+G48+G53-G58","v":0},{"$f":"H43+H48+H53-H58","v":0},{"$f":"I43+I48+I53-I58","v":0},{"$f":"J43+J48+J53-J58","v":0}]
[null,"Check=0",null,null,null,null,{"$f":"G45+G50+G55-G60","v":0},{"$f":"H45+H50+H55-H60","v":0},{"$f":"I45+I50+I55-I60","v":0},{"$f":"J45+J50+J55-J60","v":0}]
[null,"Check=0",null,null,null,null,{"$f":"G44+G49+G54-G59","v":0},{"$f":"H44+H49+H54-H59","v":0},{"$f":"I44+I49+I54-I59","v":0},{"$f":"J44+J49+J54-J59","v":0}]

{"sheet":"MDB calcs","index":8,"n_rows":209,"n_cols":10,"rows_kept":209,"cut":false,"hidden":false,"merged":[]}
[]
[null,"5  MDB VALLEY CALCULATIONS"]
[null,"This worksheet calculates the usage volumes, entitlement numbers, entitlement premiums and revenue to be recovered from charges in the MDB valleys."]
[]
[null,"List of tables",null,null,null,null,null,"Row number"]
[null,{"$f":"B16","v":"TABLE 5.1 - USAGE AND ENTITLEMENT VOLUMES FOR CALCULATIONS"},null,null,null,null,null,{"$f":"ROW(B16)","v":16}]
[null,{"$f":"B55","v":"TABLE 5.2 - TWENTY YEAR AVERAGE ACTUAL ALLOCATIONS "},null,null,null,null,null,{"$f":"ROW(B55)","v":55}]
[null,{"$f":"B95","v":"TABLE 5.3 - RELIABILITY RATIO AND HIGH SECURITY ENTITLEMENT PREMIUM"},null,null,null,null,null,{"$f":"ROW(B95)","v":95}]
[null,{"$f":"B125","v":"TABLE 5.4 - TOTAL NUMBER OF 'GS ENTITLEMENT EQUIVALENTS'"},null,null,null,null,null,{"$f":"ROW(B125)","v":125}]
[null,{"$f":"B142","v":"TABLE 5.5 - REVENUE TO BE RECOVERED FROM CHARGES (EXCLUDING MDBA/BRC REVENUE)"},null,null,null,null,null,{"$f":"ROW(B142)","v":142}]
[null,{"$f":"B184","v":"TABLE 5.6 - REVENUE TO BE RECOVERED FROM CHARGES (ONLY MDBA/BRC REVENUE)"},null,null,null,null,null,{"$f":"ROW(B184)","v":184}]
[]
[]
[]
[]
[null,"TABLE 5.1 - USAGE AND ENTITLEMENT VOLUMES FOR CALCULATIONS"]
[null,{"$f":"'2021 Determination Revenue'!B$20","v":"Financial year"},{"$f":"'2021 Determination Revenue'!C$36","v":"Units"},null,null,null,{"$f":"'2021 Determination Revenue'!G$20","v":"2021-22"},{"$f":"'2021 Determination Revenue'!H$20","v":"2022-23"},{"$f":"'2021 Determination Revenue'!I$20","v":"2023-24"},{"$f":"'2021 Determination Revenue'!J$20","v":"2024-25"}]
[]
[]
[null,"Usage Volume (20-yr average)","Note: these 20-year averages are lagged by 2 years."]
[null,{"$f":"'2021 Determination Revenue'!B$41","v":"Border"},{"$f":"'Updated Volumes'!$C$20","v":"ML"},null,null,null,{"$f":"AVERAGE('Updated Volumes'!F20:Y20)","v":139453.17299999995},{"$f":"AVERAGE('Updated Volumes'!G20:Z20)","v":133341.98300000001},{"$f":"AVERAGE('Updated Volumes'!H20:AA20)","v":131183.54164999997},{"$f":"AVERAGE('Updated Volumes'!I20:AB20)","v":131660.49079999997}]
[null,{"$f":"'2021 Determination Revenue'!B$42","v":"Gwydir"},{"$f":"'Updated Volumes'!$C$20","v":"ML"},null,null,null,{"$f":"AVERAGE('Updated Volumes'!F21:Y21)","v":220489.07500000004},{"$f":"AVERAGE('Updated Volumes'!G21:Z21)","v":209344.94},{"$f":"AVERAGE('Updated Volumes'!H21:AA21)","v":198212.14374999999},{"$f":"AVERAGE('Updated Volumes'!I21:AB21)","v":194730.09075}]
[null,{"$f":"'2021 Determination Revenue'!B$43","v":"Namoi"},{"$f":"'Updated Volumes'!$C$20","v":"ML"},null,null,null,{"$f":"AVERAGE('Updated Volumes'!F22:Y22)","v":138240.94949999999},{"$f":"AVERAGE('Updated Volumes'!G22:Z22)","v":131738.60500000001},{"$f":"AVERAGE('Updated Volumes'!H22:AA22)","v":124633.65847499999},{"$f":"AVERAGE('Updated Volumes'!I22:AB22)","v":119377.933225}]
[null,{"$f":"'2021 Determination Revenue'!B$44","v":"Peel"},{"$f":"'Updated Volumes'!$C$20","v":"ML"},null,null,null,{"$f":"AVERAGE('Updated Volumes'!F23:Y23)","v":12624.954500000002},{"$f":"AVERAGE('Updated Volumes'!G23:Z23)","v":12429.869500000001},{"$f":"AVERAGE('Updated Volumes'!H23:AA23)","v":12327.567224999997},{"$f":"AVERAGE('Updated Volumes'!I23:AB23)","v":11858.810699999998}]
[null,{"$f":"'2021 Determination Revenue'!B$45","v":"Lachlan"},{"$f":"'Updated Volumes'!$C$20","v":"ML"},null,null,null,{"$f":"AVERAGE('Updated Volumes'!F24:Y24)","v":182100.32299999997},{"$f":"AVERAGE('Updated Volumes'!G24:Z24)","v":169332.16299999997},{"$f":"AVERAGE('Updated Volumes'!H24:AA24)","v":156458.56814999998},{"$f":"AVERAGE('Updated Volumes'!I24:AB24)","v":153062.55429999996}]
[null,{"$f":"'2021 Determination Revenue'!B$46","v":"Macquarie"},{"$f":"'Updated Volumes'!$C$20","v":"ML"},null,null,null,{"$f":"AVERAGE('Updated Volumes'!F25:Y25)","v":232544.636},{"$f":"AVERAGE('Updated Volumes'!G25:Z25)","v":216717.58599999998},{"$f":"AVERAGE('Updated Volumes'!H25:AA25)","v":201061.64079999999},{"$f":"AVERAGE('Updated Volumes'!I25:AB25)","v":193101.80359999998}]
[null,{"$f":"'2021 Determination Revenue'!B$47","v":"Murray"},{"$f":"'Updated Volumes'!$C$20","v":"ML"},null,null,null,{"$f":"AVERAGE('Updated Volumes'!F26:Y26)","v":1380890.5885294122},{"$f":"AVERAGE('Updated Volumes'!G26:Z26)","v":1334267.5226470593},{"$f":"AVERAGE('Updated Volumes'!H26:AA26)","v":1289920.5567647063},{"$f":"AVERAGE('Updated Volumes'!I26:AB26)","v":1298656.2120147063}]
[null,{"$f":"'2021 Determination Revenue'!B$48","v":"Murrumbidgee"},{"$f":"'Updated Volumes'!$C$20","v":"ML"},null,null,null,{"$f":"AVERAGE('Updated Volumes'!F27:Y27)","v":1530959.1429411764},{"$f":"AVERAGE('Updated Volumes'!G27:Z27)","v":1516646.6497058824},{"$f":"AVERAGE('Updated Volumes'!H27:AA27)","v":1477524.1830330882},{"$f":"AVERAGE('Updated Volumes'!I27:AB27)","v":1463852.4472830882}]
[null,{"$f":"'2021 Determination Revenue'!B$49","v":"Lowbidgee"},{"$f":"'Updated Volumes'!$C$20","v":"ML"},null,null,null,{"$f":"AVERAGE('Updated Volumes'!F28:Y28)","v":42618.833333333336},{"$f":"AVERAGE('Updated Volumes'!G28:Z28)","v":42618.833333333336},{"$f":"AVERAGE('Updated Volumes'!H28:AA28)","v":42618.833333333336},{"$f":"AVERAGE('Updated Volumes'!I28:AB28)","v":42618.833333333336}]
[]
[null,"General security and supplementary entitlements","Note: these annual figures are lagged by two years."]
[null,{"$f":"'2021 Determination Revenue'!B$41","v":"Border"},{"$f":"'Updated Volumes'!$C$20","v":"ML"},null,null,null,{"$f":"ROUND(('Updated Volumes'!Y41+'Updated Volumes'!Y63),0)","v":263218},{"$f":"ROUND(('Updated Volumes'!Z41+'Updated Volumes'!Z63),0)","v":263218},{"$f":"ROUND(('Updated Volumes'!AA41+'Updated Volumes'!AA63),0)","v":263218},{"$f":"ROUND(('Updated Volumes'!AB41+'Updated Volumes'!AB63),0)","v":263218}]
[null,{"$f":"'2021 Determination Revenue'!B$42","v":"Gwydir"},{"$f":"'Updated Volumes'!$C$20","v":"ML"},null,null,null,{"$f":"ROUND(('Updated Volumes'!Y42+'Updated Volumes'!Y64),0)","v":509665},{"$f":"ROUND(('Updated Volumes'!Z42+'Updated Volumes'!Z64),0)","v":509665},{"$f":"ROUND(('Updated Volumes'!AA42+'Updated Volumes'!AA64),0)","v":509665},{"$f":"ROUND(('Updated Volumes'!AB42+'Updated Volumes'!AB64),0)","v":509665}]
[null,{"$f":"'2021 Determination Revenue'!B$43","v":"Namoi"},{"$f":"'Updated Volumes'!$C$20","v":"ML"},null,null,null,{"$f":"ROUND(('Updated Volumes'!Y43+'Updated Volumes'!Y65),0)","v":256529},{"$f":"ROUND(('Updated Volumes'!Z43+'Updated Volumes'!Z65),0)","v":256691},{"$f":"ROUND(('Updated Volumes'!AA43+'Updated Volumes'!AA65),0)","v":256691},{"$f":"ROUND(('Updated Volumes'!AB43+'Updated Volumes'!AB65),0)","v":256691}]
[null,{"$f":"'2021 Determination Revenue'!B$44","v":"Peel"},{"$f":"'Updated Volumes'!$C$20","v":"ML"},null,null,null,{"$f":"ROUND(('Updated Volumes'!Y44+'Updated Volumes'!Y66),0)","v":29635},{"$f":"ROUND(('Updated Volumes'!Z44+'Updated Volumes'!Z66),0)","v":29311},{"$f":"ROUND(('Updated Volumes'!AA44+'Updated Volumes'!AA66),0)","v":29311},{"$f":"ROUND(('Updated Volumes'!AB44+'Updated Volumes'!AB66),0)","v":29311}]
[null,{"$f":"'2021 Determination Revenue'!B$45","v":"Lachlan"},{"$f":"'Updated Volumes'!$C$20","v":"ML"},null,null,null,{"$f":"ROUND(('Updated Volumes'!Y45+'Updated Volumes'!Y67),0)","v":633166},{"$f":"ROUND(('Updated Volumes'!Z45+'Updated Volumes'!Z67),0)","v":633166},{"$f":"ROUND(('Updated Volumes'!AA45+'Updated Volumes'!AA67),0)","v":633166},{"$f":"ROUND(('Updated Volumes'!AB45+'Updated Volumes'!AB67),0)","v":633166}]
[null,{"$f":"'2021 Determination Revenue'!B$46","v":"Macquarie"},{"$f":"'Updated Volumes'!$C$20","v":"ML"},null,null,null,{"$f":"ROUND(('Updated Volumes'!Y46+'Updated Volumes'!Y68),0)","v":632466},{"$f":"ROUND(('Updated Volumes'!Z46+'Updated Volumes'!Z68),0)","v":632466},{"$f":"ROUND(('Updated Volumes'!AA46+'Updated Volumes'!AA68),0)","v":632466},{"$f":"ROUND(('Updated Volumes'!AB46+'Updated Volumes'!AB68),0)","v":632466}]
[null,{"$f":"'2021 Determination Revenue'!B$47","v":"Murray"},{"$f":"'Updated Volumes'!$C$20","v":"ML"},null,null,null,{"$f":"ROUND(('Updated Volumes'!Y47+'Updated Volumes'!Y69),0)","v":2083603},{"$f":"ROUND(('Updated Volumes'!Z47+'Updated Volumes'!Z69),0)","v":2083603},{"$f":"ROUND(('Updated Volumes'!AA47+'Updated Volumes'!AA69),0)","v":2083603},{"$f":"ROUND(('Updated Volumes'!AB47+'Updated Volumes'!AB69),0)","v":2083603}]
[null,{"$f":"'2021 Determination Revenue'!B$48","v":"Murrumbidgee"},{"$f":"'Updated Volumes'!$C$20","v":"ML"},null,null,null,{"$f":"ROUND(('Updated Volumes'!Y48+'Updated Volumes'!Y70),0)","v":2264995},{"$f":"ROUND(('Updated Volumes'!Z48+'Updated Volumes'!Z70),0)","v":2264995},{"$f":"ROUND(('Updated Volumes'!AA48+'Updated Volumes'!AA70),0)","v":2264995},{"$f":"ROUND(('Updated Volumes'!AB48+'Updated Volumes'!AB70),0)","v":2264995}]
[null,{"$f":"'2021 Determination Revenue'!B$49","v":"Lowbidgee"},{"$f":"'Updated Volumes'!$C$20","v":"ML"},null,null,null,{"$f":"ROUND(('Updated Volumes'!Y49+'Updated Volumes'!Y71),0)","v":747000},{"$f":"ROUND(('Updated Volumes'!Z49+'Updated Volumes'!Z71),0)","v":747000},{"$f":"ROUND(('Updated Volumes'!AA49+'Updated Volumes'!AA71),0)","v":747000},{"$f":"ROUND(('Updated Volumes'!AB49+'Updated Volumes'!AB71),0)","v":747000}]
[]
[null,{"$f":"'Updated Volumes'!B51","v":"High security entitlements"},"Note: these annual figures are lagged by two years."]
[null,{"$f":"'2021 Determination Revenue'!B$41","v":"Border"},{"$f":"'Updated Volumes'!$C$20","v":"ML"},null,null,null,{"$f":"ROUND('Updated Volumes'!Y52,0)","v":3141},{"$f":"ROUND('Updated Volumes'!Z52,0)","v":3141},{"$f":"ROUND('Updated Volumes'!AA52,0)","v":3141},{"$f":"ROUND('Updated Volumes'!AB52,0)","v":3141}]
[null,{"$f":"'2021 Determination Revenue'!B$42","v":"Gwydir"},{"$f":"'Updated Volumes'!$C$20","v":"ML"},null,null,null,{"$f":"ROUND('Updated Volumes'!Y53,0)","v":26920},{"$f":"ROUND('Updated Volumes'!Z53,0)","v":27220},{"$f":"ROUND('Updated Volumes'!AA53,0)","v":27220},{"$f":"ROUND('Updated Volumes'!AB53,0)","v":27220}]
[null,{"$f":"'2021 Determination Revenue'!B$43","v":"Namoi"},{"$f":"'Updated Volumes'!$C$20","v":"ML"},null,null,null,{"$f":"ROUND('Updated Volumes'!Y54,0)","v":8859},{"$f":"ROUND('Updated Volumes'!Z54,0)","v":8841},{"$f":"ROUND('Updated Volumes'!AA54,0)","v":8841},{"$f":"ROUND('Updated Volumes'!AB54,0)","v":8841}]
[null,{"$f":"'2021 Determination Revenue'!B$44","v":"Peel"},{"$f":"'Updated Volumes'!$C$20","v":"ML"},null,null,null,{"$f":"ROUND('Updated Volumes'!Y55,0)","v":17367},{"$f":"ROUND('Updated Volumes'!Z55,0)","v":17367},{"$f":"ROUND('Updated Volumes'!AA55,0)","v":17367},{"$f":"ROUND('Updated Volumes'!AB55,0)","v":17367}]
[null,{"$f":"'2021 Determination Revenue'!B$45","v":"Lachlan"},{"$f":"'Updated Volumes'!$C$20","v":"ML"},null,null,null,{"$f":"ROUND('Updated Volumes'!Y56,0)","v":57269},{"$f":"ROUND('Updated Volumes'!Z56,0)","v":57269},{"$f":"ROUND('Updated Volumes'!AA56,0)","v":57269},{"$f":"ROUND('Updated Volumes'!AB56,0)","v":57269}]
[null,{"$f":"'2021 Determination Revenue'!B$46","v":"Macquarie"},{"$f":"'Updated Volumes'!$C$20","v":"ML"},null,null,null,{"$f":"ROUND('Updated Volumes'!Y57,0)","v":42672},{"$f":"ROUND('Updated Volumes'!Z57,0)","v":42669},{"$f":"ROUND('Updated Volumes'!AA57,0)","v":42663},{"$f":"ROUND('Updated Volumes'!AB57,0)","v":42669}]
[null,{"$f":"'2021 Determination Revenue'!B$47","v":"Murray"},{"$f":"'Updated Volumes'!$C$20","v":"ML"},null,null,null,{"$f":"ROUND('Updated Volumes'!Y58,0)","v":276920},{"$f":"ROUND('Updated Volumes'!Z58,0)","v":276894},{"$f":"ROUND('Updated Volumes'!AA58,0)","v":267182},{"$f":"ROUND('Updated Volumes'!AB58,0)","v":276894}]
[null,{"$f":"'2021 Determination Revenue'!B$48","v":"Murrumbidgee"},{"$f":"'Updated Volumes'!$C$20","v":"ML"},null,null,null,{"$f":"ROUND('Updated Volumes'!Y59,0)","v":440472},{"$f":"ROUND('Updated Volumes'!Z59,0)","v":440475},{"$f":"ROUND('Updated Volumes'!AA59,0)","v":440472},{"$f":"ROUND('Updated Volumes'!AB59,0)","v":440475}]
[null,{"$f":"'2021 Determination Revenue'!B$49","v":"Lowbidgee"},{"$f":"'Updated Volumes'!$C$20","v":"ML"},null,null,null,{"$f":"ROUND('Updated Volumes'!Y60,0)","v":0},{"$f":"ROUND('Updated Volumes'!Z60,0)","v":0},{"$f":"ROUND('Updated Volumes'!AA60,0)","v":0},{"$f":"ROUND('Updated Volumes'!AB60,0)","v":0}]
[]
[]
[]
[null,"TABLE 5.2 - TWENTY YEAR AVERAGE ACTUAL ALLOCATIONS "]
[null,{"$f":"'2021 Determination Revenue'!B$20","v":"Financial year"},{"$f":"'2021 Determination Revenue'!C$36","v":"Units"},null,null,null,{"$f":"'2021 Determination Revenue'!G$20","v":"2021-22"},{"$f":"'2021 Determination Revenue'!H$20","v":"2022-23"},{"$f":"'2021 Determination Revenue'!I$20","v":"2023-24"},{"$f":"'2021 Determination Revenue'!J$20","v":"2024-25"}]
[]
[null,"Note: the 20-year averages in this table are lagged by 2 years."]
[null,{"$f":"'Updated Volumes'!B79","v":"General security entitlements"}]
[null,{"$f":"'2021 Determination Revenue'!B$41","v":"Border"},{"$f":"'Updated Volumes'!$C$80","v":"%"},null,null,null,{"$f":"AVERAGE('Updated Volumes'!F80:Y80)","v":0.42760133154527258},{"$f":"AVERAGE('Updated Volumes'!G80:Z80)","v":0.43310133154527258},{"$f":"AVERAGE('Updated Volumes'!H80:AA80)","v":0.44802129419085912},{"$f":"AVERAGE('Updated Volumes'!I80:AB80)","v":0.46275666871531873}]
[null,{"$f":"'2021 Determination Revenue'!B$42","v":"Gwydir"},{"$f":"'Updated Volumes'!$C$80","v":"%"},null,null,null,{"$f":"AVERAGE('Updated Volumes'!F81:Y81)","v":0.30058735463744057},{"$f":"AVERAGE('Updated Volumes'!G81:Z81)","v":0.30723833502959741},{"$f":"AVERAGE('Updated Volumes'!H81:AA81)","v":0.37392657032371507},{"$f":"AVERAGE('Updated Volumes'!I81:AB81)","v":0.38928848707519498}]
[null,{"$f":"'2021 Determination Revenue'!B$43","v":"Namoi"},{"$f":"'Updated Volumes'!$C$80","v":"%"},null,null,null,{"$f":"AVERAGE('Updated Volumes'!F82:Y82)","v":0.40397542597925151},{"$f":"AVERAGE('Updated Volumes'!G82:Z82)","v":0.38813939359058758},{"$f":"AVERAGE('Updated Volumes'!H82:AA82)","v":0.41423858387398838},{"$f":"AVERAGE('Updated Volumes'!I82:AB82)","v":0.4336455535535178}]
[null,{"$f":"'2021 Determination Revenue'!B$44","v":"Peel"},{"$f":"'Updated Volumes'!$C$80","v":"%"},null,null,null,{"$f":"AVERAGE('Updated Volumes'!F83:Y83)","v":0.56035006572893387},{"$f":"AVERAGE('Updated Volumes'!G83:Z83)","v":0.55285006572893391},{"$f":"AVERAGE('Updated Volumes'!H83:AA83)","v":0.55285006572893391},{"$f":"AVERAGE('Updated Volumes'!I83:AB83)","v":0.55049256901538068}]
[null,{"$f":"'2021 Determination Revenue'!B$45","v":"Lachlan"},{"$f":"'Updated Volumes'!$C$80","v":"%"},null,null,null,{"$f":"AVERAGE('Updated Volumes'!F84:Y84)","v":0.26793211389612581},{"$f":"AVERAGE('Updated Volumes'!G84:Z84)","v":0.2599321138961258},{"$f":"AVERAGE('Updated Volumes'!H84:AA84)","v":0.3149321138961258},{"$f":"AVERAGE('Updated Volumes'!I84:AB84)","v":0.32642871959093211}]
[null,{"$f":"'2021 Determination Revenue'!B$46","v":"Macquarie"},{"$f":"'Updated Volumes'!$C$80","v":"%"},null,null,null,{"$f":"AVERAGE('Updated Volumes'!F85:Y85)","v":0.31853018759898749},{"$f":"AVERAGE('Updated Volumes'!G85:Z85)","v":0.30253018759898753},{"$f":"AVERAGE('Updated Volumes'!H85:AA85)","v":0.29603018759898758},{"$f":"AVERAGE('Updated Volumes'!I85:AB85)","v":0.31115669697893694}]
[null,{"$f":"'2021 Determination Revenue'!B$47","v":"Murray"},{"$f":"'Updated Volumes'!$C$80","v":"%"},null,null,null,{"$f":"AVERAGE('Updated Volumes'!F86:Y86)","v":0.53440439295202624},{"$f":"AVERAGE('Updated Volumes'!G86:Z86)","v":0.51440439295202622},{"$f":"AVERAGE('Updated Volumes'!H86:AA86)","v":0.51590439295202628},{"$f":"AVERAGE('Updated Volumes'!I86:AB86)","v":0.53662461259962757}]
[null,{"$f":"'2021 Determination Revenue'!B$48","v":"Murrumbidgee"},{"$f":"'Updated Volumes'!$C$80","v":"%"},null,null,null,{"$f":"AVERAGE('Updated Volumes'!F87:Y87)","v":0.53446303236490977},{"$f":"AVERAGE('Updated Volumes'!G87:Z87)","v":0.53946303236490967},{"$f":"AVERAGE('Updated Volumes'!H87:AA87)","v":0.55346303236490968},{"$f":"AVERAGE('Updated Volumes'!I87:AB87)","v":0.5614361839831552}]
[null,{"$f":"'2021 Determination Revenue'!B$49","v":"Lowbidgee"},{"$f":"'Updated Volumes'!$C$80","v":"%"}]
[]
[null,{"$f":"'Updated Volumes'!B90","v":"High security entitlements"}]
[null,{"$f":"'2021 Determination Revenue'!B$41","v":"Border"},{"$f":"'Updated Volumes'!$C$80","v":"%"},null,null,null,{"$f":"AVERAGE('Updated Volumes'!F91:Y91)","v":1.000016020506248},{"$f":"AVERAGE('Updated Volumes'!G91:Z91)","v":1.000016020506248},{"$f":"AVERAGE('Updated Volumes'!H91:AA91)","v":1.000016020506248},{"$f":"AVERAGE('Updated Volumes'!I91:AB91)","v":1.0000168215315604}]
[null,{"$f":"'2021 Determination Revenue'!B$42","v":"Gwydir"},{"$f":"'Updated Volumes'!$C$80","v":"%"},null,null,null,{"$f":"AVERAGE('Updated Volumes'!F92:Y92)","v":0.99987741410629316},{"$f":"AVERAGE('Updated Volumes'!G92:Z92)","v":0.99987741410629316},{"$f":"AVERAGE('Updated Volumes'!H92:AA92)","v":0.99987741410629316},{"$f":"AVERAGE('Updated Volumes'!I92:AB92)","v":0.99987128481160781}]
[null,{"$f":"'2021 Determination Revenue'!B$43","v":"Namoi"},{"$f":"'Updated Volumes'!$C$80","v":"%"},null,null,null,{"$f":"AVERAGE('Updated Volumes'!F93:Y93)","v":1.0000902323482967},{"$f":"AVERAGE('Updated Volumes'!G93:Z93)","v":1.0000902323482967},{"$f":"AVERAGE('Updated Volumes'!H93:AA93)","v":1.0000902323482967},{"$f":"AVERAGE('Updated Volumes'!I93:AB93)","v":1.0000947439657115}]
[null,{"$f":"'2021 Determination Revenue'!B$44","v":"Peel"},{"$f":"'Updated Volumes'!$C$80","v":"%"},null,null,null,{"$f":"AVERAGE('Updated Volumes'!F94:Y94)","v":0.96899999999999997},{"$f":"AVERAGE('Updated Volumes'!G94:Z94)","v":0.96899999999999997},{"$f":"AVERAGE('Updated Volumes'!H94:AA94)","v":0.96899999999999997},{"$f":"AVERAGE('Updated Volumes'!I94:AB94)","v":0.96745000000000003}]
[null,{"$f":"'2021 Determination Revenue'!B$45","v":"Lachlan"},{"$f":"'Updated Volumes'!$C$80","v":"%"},null,null,null,{"$f":"AVERAGE('Updated Volumes'!F95:Y95)","v":0.82218759622145221},{"$f":"AVERAGE('Updated Volumes'!G95:Z95)","v":0.82218759622145221},{"$f":"AVERAGE('Updated Volumes'!H95:AA95)","v":0.82218759622145221},{"$f":"AVERAGE('Updated Volumes'!I95:AB95)","v":0.81329697603252493}]
[null,{"$f":"'2021 Determination Revenue'!B$46","v":"Macquarie"},{"$f":"'Updated Volumes'!$C$80","v":"%"},null,null,null,{"$f":"AVERAGE('Updated Volumes'!F96:Y96)","v":0.9999946310895288},{"$f":"AVERAGE('Updated Volumes'!G96:Z96)","v":0.9999946310895288},{"$f":"AVERAGE('Updated Volumes'!H96:AA96)","v":0.9999946310895288},{"$f":"AVERAGE('Updated Volumes'!I96:AB96)","v":0.99999436264400521}]
[null,{"$f":"'2021 Determination Revenue'!B$47","v":"Murray"},{"$f":"'Updated Volumes'!$C$80","v":"%"},null,null,null,{"$f":"AVERAGE('Updated Volumes'!F97:Y97)","v":0.94581241191776555},{"$f":"AVERAGE('Updated Volumes'!G97:Z97)","v":0.94481241191776566},{"$f":"AVERAGE('Updated Volumes'!H97:AA97)","v":0.94581241191776577},{"$f":"AVERAGE('Updated Volumes'!I97:AB97)","v":0.94305303251365413}]
[null,{"$f":"'2021 Determination Revenue'!B$48","v":"Murrumbidgee"},{"$f":"'Updated Volumes'!$C$80","v":"%"},null,null,null,{"$f":"AVERAGE('Updated Volumes'!F98:Y98)","v":0.96618488094668109},{"$f":"AVERAGE('Updated Volumes'!G98:Z98)","v":0.96618488094668087},{"$f":"AVERAGE('Updated Volumes'!H98:AA98)","v":0.96618488094668087},{"$f":"AVERAGE('Updated Volumes'!I98:AB98)","v":0.96449412499401499}]
[null,{"$f":"'2021 Determination Revenue'!B$49","v":"Lowbidgee"},{"$f":"'Updated Volumes'!$C$80","v":"%"},null,null,null,{"$f":"AVERAGE('Updated Volumes'!F99:Y99)","v":0},{"$f":"AVERAGE('Updated Volumes'!G99:Z99)","v":0},{"$f":"AVERAGE('Updated Volumes'!H99:AA99)","v":0},{"$f":"AVERAGE('Updated Volumes'!I99:AB99)","v":0}]
[]
[null,{"$f":"'Updated Volumes'!B101","v":"Supplementary entitlements"}]
[null,{"$f":"'2021 Determination Revenue'!B$41","v":"Border"},{"$f":"'Updated Volumes'!$C$80","v":"%"},null,null,null,{"$f":"AVERAGE('Updated Volumes'!F102:Y102)","v":0},{"$f":"AVERAGE('Updated Volumes'!G102:Z102)","v":0},{"$f":"AVERAGE('Updated Volumes'!H102:AA102)","v":0},{"$f":"AVERAGE('Updated Volumes'!I102:AB102)","v":0}]
[null,{"$f":"'2021 Determination Revenue'!B$42","v":"Gwydir"},{"$f":"'Updated Volumes'!$C$80","v":"%"},null,null,null,{"$f":"AVERAGE('Updated Volumes'!F103:Y103)","v":0},{"$f":"AVERAGE('Updated Volumes'!G103:Z103)","v":0},{"$f":"AVERAGE('Updated Volumes'!H103:AA103)","v":0},{"$f":"AVERAGE('Updated Volumes'!I103:AB103)","v":0}]
[null,{"$f":"'2021 Determination Revenue'!B$43","v":"Namoi"},{"$f":"'Updated Volumes'!$C$80","v":"%"},null,null,null,{"$f":"AVERAGE('Updated Volumes'!F104:Y104)","v":0},{"$f":"AVERAGE('Updated Volumes'!G104:Z104)","v":0},{"$f":"AVERAGE('Updated Volumes'!H104:AA104)","v":0},{"$f":"AVERAGE('Updated Volumes'!I104:AB104)","v":0}]
[null,{"$f":"'2021 Determination Revenue'!B$44","v":"Peel"},{"$f":"'Updated Volumes'!$C$80","v":"%"},null,null,null,{"$f":"AVERAGE('Updated Volumes'!F105:Y105)","v":0},{"$f":"AVERAGE('Updated Volumes'!G105:Z105)","v":0},{"$f":"AVERAGE('Updated Volumes'!H105:AA105)","v":0},{"$f":"AVERAGE('Updated Volumes'!I105:AB105)","v":0}]
[null,{"$f":"'2021 Determination Revenue'!B$45","v":"Lachlan"},{"$f":"'Updated Volumes'!$C$80","v":"%"},null,null,null,{"$f":"AVERAGE('Updated Volumes'!F106:Y106)","v":0},{"$f":"AVERAGE('Updated Volumes'!G106:Z106)","v":0},{"$f":"AVERAGE('Updated Volumes'!H106:AA106)","v":0},{"$f":"AVERAGE('Updated Volumes'!I106:AB106)","v":0}]
[null,{"$f":"'2021 Determination Revenue'!B$46","v":"Macquarie"},{"$f":"'Updated Volumes'!$C$80","v":"%"},null,null,null,{"$f":"AVERAGE('Updated Volumes'!F107:Y107)","v":0},{"$f":"AVERAGE('Updated Volumes'!G107:Z107)","v":0},{"$f":"AVERAGE('Updated Volumes'!H107:AA107)","v":0},{"$f":"AVERAGE('Updated Volumes'!I107:AB107)","v":0}]
[null,{"$f":"'2021 Determination Revenue'!B$47","v":"Murray"},{"$f":"'Updated Volumes'!$C$80","v":"%"},null,null,null,{"$f":"AVERAGE('Updated Volumes'!F108:Y108)","v":0},{"$f":"AVERAGE('Updated Volumes'!G108:Z108)","v":0},{"$f":"AVERAGE('Updated Volumes'!H108:AA108)","v":0},{"$f":"AVERAGE('Updated Volumes'!I108:AB108)","v":0}]
[null,{"$f":"'2021 Determination Revenue'!B$48","v":"Murrumbidgee"},{"$f":"'Updated Volumes'!$C$80","v":"%"},null,null,null,{"$f":"AVERAGE('Updated Volumes'!F109:Y109)","v":0},{"$f":"AVERAGE('Updated Volumes'!G109:Z109)","v":0},{"$f":"AVERAGE('Updated Volumes'!H109:AA109)","v":0},{"$f":"AVERAGE('Updated Volumes'!I109:AB109)","v":0}]
[null,{"$f":"'2021 Determination Revenue'!B$49","v":"Lowbidgee"},{"$f":"'Updated Volumes'!$C$80","v":"%"},null,null,null,{"$f":"AVERAGE('Updated Volumes'!F110:Y110)","v":1},{"$f":"AVERAGE('Updated Volumes'!G110:Z110)","v":1},{"$f":"AVERAGE('Updated Volumes'!H110:AA110)","v":1},{"$f":"AVERAGE('Updated Volumes'!I110:AB110)","v":1}]
[]
[]
[]
[]
[null,"TABLE 5.3 - RELIABILITY RATIO AND HIGH SECURITY ENTITLEMENT PREMIUM"]
[null,{"$f":"'2021 Determination Revenue'!B$20","v":"Financial year"},{"$f":"'2021 Determination Revenue'!C$36","v":"Units"},null,null,null,{"$f":"'2021 Determination Revenue'!G$20","v":"2021-22"},{"$f":"'2021 Determination Revenue'!H$20","v":"2022-23"},{"$f":"'2021 Determination Revenue'!I$20","v":"2023-24"},{"$f":"'2021 Determination Revenue'!J$20","v":"2024-25"}]
[]
[null,"Reliability Ratio "]
[null,"Reliability Ratio = 20-year average HS allocations / 20-year average GS allocations"]
[null,{"$f":"'2021 Determination Revenue'!B$41","v":"Border"},"#",null,null,null,{"$f":"G71/G60","v":2.3386644211148129},{"$f":"H71/H60","v":2.3089654722100876},2.2320725230534166,{"$f":"J71/J60","v":2.1609992662185844}]
[null,{"$f":"'2021 Determination Revenue'!B$42","v":"Gwydir"},{"$f":"C$100","v":"#"},null,null,null,3.3264121017742587,3.2544031785941403,{"$f":"I72/I61","v":2.6739940230529244},2.568458400411088]
[null,{"$f":"'2021 Determination Revenue'!B$43","v":"Namoi"},"#",null,null,null,2.4756214562409102,2.576626461686081,2.4142855621882986,2.3062492760975264]
[null,{"$f":"'2021 Determination Revenue'!B$44","v":"Peel"},"#",null,null,null,1.7292761422977116,1.7527356150756201,1.7527356150756201,1.7574260842982781]
[null,{"$f":"'2021 Determination Revenue'!B$45","v":"Lachlan"},"#",null,null,null,3.0686414713997472,3.1630858684510801,2.6106819849202001,2.4914994521674361]
[null,{"$f":"'2021 Determination Revenue'!B$46","v":"Macquarie"},"#",null,null,null,3.1394030142865725,3.3054375136112051,3.3780157327878841,3.2137966894271845]
[null,{"$f":"'2021 Determination Revenue'!B$47","v":"Murray"},"#",null,null,null,1.769844006508142,1.8367113983917311,1.8333094752416974,1.7573793865792369]
[null,{"$f":"'2021 Determination Revenue'!B$48","v":"Murrumbidgee"},"#",null,null,null,1.8077674646111148,1.7910122158159731,1.7457080680135744,1.717905173391804]
[null,{"$f":"'2021 Determination Revenue'!B$49","v":"Lowbidgee"},"#",null,null,null,0,0,0,0]
[]
[null,"High Security Premium"]
[null,"High Security Premium = Reliability Ratio * Security Factor"]
[null,{"$f":"'2021 Determination Revenue'!B$41","v":"Border"},{"$f":"C$100","v":"#"},null,null,null,{"$f":"G100*'2021 Determination Revenue'!G107","v":2.9233305263935163},{"$f":"H100*'2021 Determination Revenue'!H107","v":2.8862068402626093},{"$f":"I100*'2021 Determination Revenue'!I107","v":2.7900906538167707},{"$f":"J100*'2021 Determination Revenue'!J107","v":2.7012490827732307}]
[null,{"$f":"'2021 Determination Revenue'!B$42","v":"Gwydir"},"#",null,null,null,{"$f":"G101*'2021 Determination Revenue'!G108","v":4.6480694351307497},{"$f":"H101*'2021 Determination Revenue'!H108","v":4.547449769061215},{"$f":"I101*'2021 Determination Revenue'!I108","v":3.7364311780988326},{"$f":"J101*'2021 Determination Revenue'!J108","v":3.5889639109922205}]
[null,{"$f":"'2021 Determination Revenue'!B$43","v":"Namoi"},"#",null,null,null,{"$f":"G102*'2021 Determination Revenue'!G109","v":3.0945268203011378},{"$f":"H102*'2021 Determination Revenue'!H109","v":3.2207830771076011},{"$f":"I102*'2021 Determination Revenue'!I109","v":3.0178569527353734},{"$f":"J102*'2021 Determination Revenue'!J109","v":2.882811595121908}]
[null,{"$f":"'2021 Determination Revenue'!B$44","v":"Peel"},"#",null,null,null,{"$f":"G103*'2021 Determination Revenue'!G110","v":11.312829798706295},{"$f":"H103*'2021 Determination Revenue'!H110","v":11.466300384584633},{"$f":"I103*'2021 Determination Revenue'!I110","v":11.466300384584633},{"$f":"J103*'2021 Determination Revenue'!J110","v":11.496985177310387}]
[null,{"$f":"'2021 Determination Revenue'!B$45","v":"Lachlan"},"#",null,null,null,{"$f":"G104*'2021 Determination Revenue'!G111","v":7.6569287012949392},{"$f":"H104*'2021 Determination Revenue'!H111","v":7.8925880382356546},{"$f":"I104*'2021 Determination Revenue'!I111","v":6.5142200568549509},{"$f":"J104*'2021 Determination Revenue'!J111","v":6.2168336843402772}]
[null,{"$f":"'2021 Determination Revenue'!B$46","v":"Macquarie"},"#",null,null,null,{"$f":"G105*'2021 Determination Revenue'!G112","v":5.9172556350879297},{"$f":"H105*'2021 Determination Revenue'!H112","v":6.2302032153370206},{"$f":"I105*'2021 Determination Revenue'!I112","v":6.3670011589121138},{"$f":"J105*'2021 Determination Revenue'!J112","v":6.0574754130002999}]
[null,{"$f":"'2021 Determination Revenue'!B$47","v":"Murray"},"#",null,null,null,{"$f":"G106*'2021 Determination Revenue'!G113","v":2.3158269747980089},{"$f":"H106*'2021 Determination Revenue'!H113","v":2.4033224316230015},{"$f":"I106*'2021 Determination Revenue'!I113","v":2.3988710419140395},{"$f":"J106*'2021 Determination Revenue'!J113","v":2.299517117570018}]
[null,{"$f":"'2021 Determination Revenue'!B$48","v":"Murrumbidgee"},"#",null,null,null,{"$f":"G107*'2021 Determination Revenue'!G114","v":3.0604944054240759},{"$f":"H107*'2021 Determination Revenue'!H114","v":3.03212828743442},{"$f":"I107*'2021 Determination Revenue'!I114","v":2.9554297664099951},{"$f":"J107*'2021 Determination Revenue'!J114","v":2.9083603257267998}]
[null,{"$f":"'2021 Determination Revenue'!B$49","v":"Lowbidgee"},"#",null,null,null,0,0,0,0]
[]
[]
[]
[]
[null,"TABLE 5.4 - TOTAL NUMBER OF 'GS ENTITLEMENT EQUIVALENTS'"]
[null,{"$f":"'2021 Determination Revenue'!B$20","v":"Financial year"},{"$f":"'2021 Determination Revenue'!C$36","v":"Units"},null,null,null,{"$f":"'2021 Determination Revenue'!G$20","v":"2021-22"},{"$f":"'2021 Determination Revenue'!H$20","v":"2022-23"},{"$f":"'2021 Determination Revenue'!I$20","v":"2023-24"},{"$f":"'2021 Determination Revenue'!J$20","v":"2024-25"}]
[]
[null,"GS entitlement equivalents' are used to calculate entitlement charges.  GS entitlement equivalents = GS entitlements + HS entitlements * HS entitlement premium"]
[null,{"$f":"'2021 Determination Revenue'!B$41","v":"Border"},{"$f":"C$100","v":"#"},null,null,null,{"$f":"G32+(G43*G112)","v":272400.18118340202},{"$f":"H32+(H43*H112)","v":272283.57568526483},271981.67474363849,271702.62336899072]
[null,{"$f":"'2021 Determination Revenue'!B$42","v":"Gwydir"},"#",null,null,null,634791.02919371973,633446.58271384623,611370.65666785021,607356.59765720821]
[null,{"$f":"'2021 Determination Revenue'!B$43","v":"Namoi"},"#",null,null,null,283943.4131010478,285165.9431847083,283371.87331913342,282177.93731247279]
[null,{"$f":"'2021 Determination Revenue'!B$44","v":"Peel"},"#",null,null,null,226104.91511413222,228446.23877908132,228446.23877908132,228979.14157434949]
[null,{"$f":"'2021 Determination Revenue'!B$45","v":"Lachlan"},"#",null,null,null,1071670.6497944598,1085166.6243617176,1006228.8684360262,989197.8482684833]
[null,{"$f":"'2021 Determination Revenue'!B$46","v":"Macquarie"},"#",null,null,null,884967.13246047217,{"$f":"H37+(H48*H117)","v":898302.5409952153},904101.37044266751,890932.41839730972]
[null,{"$f":"'2021 Determination Revenue'!B$47","v":"Murray"},"#",null,null,null,2724901.8058610647,2749068.5613818197,2724538.162720677,2720325.4927524328]
[null,{"$f":"'2021 Determination Revenue'!B$48","v":"Murrumbidgee"},"#",null,null,null,3613057.0917459535,3600571.7074076761,3566779.0600701431,3546055.0144745121]
[null,{"$f":"'2021 Determination Revenue'!B$49","v":"Lowbidgee"},"#",null,null,null,{"$f":"G40+G51","v":747000},{"$f":"H40+H51","v":747000},{"$f":"I40+I51","v":747000},{"$f":"J40+J51","v":747000}]
[]
[]
[]
[]
[null,"TABLE 5.5 - REVENUE TO BE RECOVERED FROM CHARGES (EXCLUDING MDBA/BRC REVENUE)"]
[null,{"$f":"'2021 Determination Revenue'!B$20","v":"Financial year"},{"$f":"'2021 Determination Revenue'!C$36","v":"Units"},null,null,null,{"$f":"'2021 Determination Revenue'!G$20","v":"2021-22"},{"$f":"'2021 Determination Revenue'!H$20","v":"2022-23"},{"$f":"'2021 Determination Revenue'!I$20","v":"2023-24"},{"$f":"'2021 Determination Revenue'!J$20","v":"2024-25"}]
[null,null,null,null,null,null,{"$f":"'2021 Determination Revenue'!G$37","v":"$2020-21"},{"$f":"'2021 Determination Revenue'!H$37","v":"$2020-21"},{"$f":"'2021 Determination Revenue'!I$37","v":"$2020-21"},{"$f":"'2021 Determination Revenue'!J$37","v":"$2020-21"}]
[null,"Revenue to be recovered from charges (total)"]
[null,{"$f":"'2021 Determination Revenue'!B$41","v":"Border"},{"$f":"'2021 Determination Revenue'!C$41","v":"$'000"},null,null,null,{"$f":"'2021 Determination Revenue'!G41","v":1617.101618862953},{"$f":"'2021 Determination Revenue'!H41","v":1617.101618862953},{"$f":"'2021 Determination Revenue'!I41","v":1617.101618862953},{"$f":"'2021 Determination Revenue'!J41","v":1617.101618862953}]
[null,{"$f":"'2021 Determination Revenue'!B$42","v":"Gwydir"},{"$f":"'2021 Determination Revenue'!C$41","v":"$'000"},null,null,null,{"$f":"'2021 Determination Revenue'!G42","v":6248.1318380831081},{"$f":"'2021 Determination Revenue'!H42","v":6248.1318380831081},{"$f":"'2021 Determination Revenue'!I42","v":6248.1318380831081},{"$f":"'2021 Determination Revenue'!J42","v":6248.1318380831081}]
[null,{"$f":"'2021 Determination Revenue'!B$43","v":"Namoi"},{"$f":"'2021 Determination Revenue'!C$41","v":"$'000"},null,null,null,{"$f":"'2021 Determination Revenue'!G43","v":7038.0297970861857},{"$f":"'2021 Determination Revenue'!H43","v":7038.0297970861857},{"$f":"'2021 Determination Revenue'!I43","v":7038.0297970861857},{"$f":"'2021 Determination Revenue'!J43","v":7038.0297970861857}]
[null,{"$f":"'2021 Determination Revenue'!B$44","v":"Peel"},{"$f":"'2021 Determination Revenue'!C$41","v":"$'000"},null,null,null,{"$f":"'2021 Determination Revenue'!G44","v":1530.6456854425985},{"$f":"'2021 Determination Revenue'!H44","v":1530.6456854425985},{"$f":"'2021 Determination Revenue'!I44","v":1530.6456854425985},{"$f":"'2021 Determination Revenue'!J44","v":1530.6456854425985}]
[null,{"$f":"'2021 Determination Revenue'!B$45","v":"Lachlan"},{"$f":"'2021 Determination Revenue'!C$41","v":"$'000"},null,null,null,{"$f":"'2021 Determination Revenue'!G45","v":9359.2768700251036},{"$f":"'2021 Determination Revenue'!H45","v":9359.2768700251036},{"$f":"'2021 Determination Revenue'!I45","v":9359.2768700251036},{"$f":"'2021 Determination Revenue'!J45","v":9359.2768700251036}]
[null,{"$f":"'2021 Determination Revenue'!B$46","v":"Macquarie"},{"$f":"'2021 Determination Revenue'!C$41","v":"$'000"},null,null,null,{"$f":"'2021 Determination Revenue'!G46","v":8297.0917373414668},{"$f":"'2021 Determination Revenue'!H46","v":8297.0917373414668},{"$f":"'2021 Determination Revenue'!I46","v":8297.0917373414668},{"$f":"'2021 Determination Revenue'!J46","v":8297.0917373414668}]
[null,{"$f":"'2021 Determination Revenue'!B$47","v":"Murray"},{"$f":"'2021 Determination Revenue'!C$41","v":"$'000"},null,null,null,{"$f":"'2021 Determination Revenue'!G47","v":6631.2509876093045},{"$f":"'2021 Determination Revenue'!H47","v":6631.2509876093045},{"$f":"'2021 Determination Revenue'!I47","v":6631.2509876093045},{"$f":"'2021 Determination Revenue'!J47","v":6631.2509876093045}]
[null,{"$f":"'2021 Determination Revenue'!B$48","v":"Murrumbidgee"},{"$f":"'2021 Determination Revenue'!C$41","v":"$'000"},null,null,null,{"$f":"'2021 Determination Revenue'!G48","v":12538.116627661353},{"$f":"'2021 Determination Revenue'!H48","v":12538.116627661353},{"$f":"'2021 Determination Revenue'!I48","v":12538.116627661353},{"$f":"'2021 Determination Revenue'!J48","v":12538.116627661353}]
[null,{"$f":"'2021 Determination Revenue'!B$49","v":"Lowbidgee"},{"$f":"'2021 Determination Revenue'!C$41","v":"$'000"},null,null,null,{"$f":"'2021 Determination Revenue'!G49","v":1272.9818524200434},{"$f":"'2021 Determination Revenue'!H49","v":1272.9818524200434},{"$f":"'2021 Determination Revenue'!I49","v":1272.9818524200434},{"$f":"'2021 Determination Revenue'!J49","v":1272.9818524200434}]
[null,"Check=0",null,null,null,null,{"$f":"SUM(G146:G154)-SUM('2021 Determination Revenue'!G41:G49)","v":0},{"$f":"SUM(H146:H154)-SUM('2021 Determination Revenue'!H41:H49)","v":0},{"$f":"SUM(I146:I154)-SUM('2021 Determination Revenue'!I41:I49)","v":0},{"$f":"SUM(J146:J154)-SUM('2021 Determination Revenue'!J41:J49)","v":0}]
[]
[null,"Revenue to be recovered from entitlement charges"]
[null,{"$f":"'2021 Determination Revenue'!B$41","v":"Border"},{"$f":"'2021 Determination Revenue'!C$41","v":"$'000"},null,null,null,{"$f":"G146*'2021 Determination Revenue'!G53","v":652.6722232998743},{"$f":"H146*'2021 Determination Revenue'!H53","v":647.62831807363216},{"$f":"I146*'2021 Determination Revenue'!I53","v":647.62831807363216},{"$f":"J146*'2021 Determination Revenue'!J53","v":647.62831807363216}]
[null,{"$f":"'2021 Determination Revenue'!B$42","v":"Gwydir"},{"$f":"'2021 Determination Revenue'!C$41","v":"$'000"},null,null,null,{"$f":"G147*'2021 Determination Revenue'!G54","v":2554.6758919966856},{"$f":"H147*'2021 Determination Revenue'!H54","v":2499.7466375596523},{"$f":"I147*'2021 Determination Revenue'!I54","v":2499.7466375596523},{"$f":"J147*'2021 Determination Revenue'!J54","v":2499.7466375596523}]
[null,{"$f":"'2021 Determination Revenue'!B$43","v":"Namoi"},{"$f":"'2021 Determination Revenue'!C$41","v":"$'000"},null,null,null,{"$f":"G148*'2021 Determination Revenue'!G55","v":2876.1056537820186},{"$f":"H148*'2021 Determination Revenue'!H55","v":2815.9937424749014},{"$f":"I148*'2021 Determination Revenue'!I55","v":2815.9937424749014},{"$f":"J148*'2021 Determination Revenue'!J55","v":2815.9937424749014}]
[null,{"$f":"'2021 Determination Revenue'!B$44","v":"Peel"},{"$f":"'2021 Determination Revenue'!C$41","v":"$'000"},null,null,null,{"$f":"G149*'2021 Determination Revenue'!G56","v":1219.6498378341644},{"$f":"H149*'2021 Determination Revenue'!H56","v":1224.5740470071455},{"$f":"I149*'2021 Determination Revenue'!I56","v":1224.5740470071455},{"$f":"J149*'2021 Determination Revenue'!J56","v":1224.5740470071455}]
[null,{"$f":"'2021 Determination Revenue'!B$45","v":"Lachlan"},{"$f":"'2021 Determination Revenue'!C$41","v":"$'000"},null,null,null,{"$f":"G150*'2021 Determination Revenue'!G57","v":3796.1468286402342},{"$f":"H150*'2021 Determination Revenue'!H57","v":3744.9949355017366},{"$f":"I150*'2021 Determination Revenue'!I57","v":3744.9949355017366},{"$f":"J150*'2021 Determination Revenue'!J57","v":3744.9949355017366}]
[null,{"$f":"'2021 Determination Revenue'!B$46","v":"Macquarie"},{"$f":"'2021 Determination Revenue'!C$41","v":"$'000"},null,null,null,{"$f":"G151*'2021 Determination Revenue'!G58","v":3361.4474872241217},{"$f":"H151*'2021 Determination Revenue'!H58","v":3319.764250128047},{"$f":"I151*'2021 Determination Revenue'!I58","v":3319.764250128047},{"$f":"J151*'2021 Determination Revenue'!J58","v":3319.764250128047}]
[null,{"$f":"'2021 Determination Revenue'!B$47","v":"Murray"},{"$f":"'2021 Determination Revenue'!C$41","v":"$'000"},null,null,null,{"$f":"G152*'2021 Determination Revenue'!G59","v":2674.8416973078115},{"$f":"H152*'2021 Determination Revenue'!H59","v":2634.7007361332285},{"$f":"I152*'2021 Determination Revenue'!I59","v":2634.7007361332285},{"$f":"J152*'2021 Determination Revenue'!J59","v":2634.7007361332285}]
[null,{"$f":"'2021 Determination Revenue'!B$48","v":"Murrumbidgee"},{"$f":"'2021 Determination Revenue'!C$41","v":"$'000"},null,null,null,{"$f":"G153*'2021 Determination Revenue'!G60","v":5083.1685206040183},{"$f":"H153*'2021 Determination Revenue'!H60","v":5012.8954654879044},{"$f":"I153*'2021 Determination Revenue'!I60","v":5012.8954654879044},{"$f":"J153*'2021 Determination Revenue'!J60","v":5012.8954654879044}]
[null,{"$f":"'2021 Determination Revenue'!B$49","v":"Lowbidgee"},{"$f":"'2021 Determination Revenue'!C$41","v":"$'000"},null,null,null,{"$f":"G154*'2021 Determination Revenue'!G61","v":1272.9818524200434},{"$f":"H154*'2021 Determination Revenue'!H61","v":1272.9818524200434},{"$f":"I154*'2021 Determination Revenue'!I61","v":1272.9818524200434},{"$f":"J154*'2021 Determination Revenue'!J61","v":1272.9818524200434}]
[]
[]
[null,"Revenue to be recovered from usage charges"]
[null,{"$f":"'2021 Determination Revenue'!B$41","v":"Border"},{"$f":"'2021 Determination Revenue'!C$41","v":"$'000"},null,null,null,{"$f":"G146*(1-'2021 Determination Revenue'!G53)","v":964.42939556307874},{"$f":"H146*(1-'2021 Determination Revenue'!H53)","v":969.47330078932089},{"$f":"I146*(1-'2021 Determination Revenue'!I53)","v":969.47330078932089},{"$f":"J146*(1-'2021 Determination Revenue'!J53)","v":969.47330078932089}]
[null,{"$f":"'2021 Determination Revenue'!B$42","v":"Gwydir"},{"$f":"'2021 Determination Revenue'!C$41","v":"$'000"},null,null,null,{"$f":"G147*(1-'2021 Determination Revenue'!G54)","v":3693.4559460864225},{"$f":"H147*(1-'2021 Determination Revenue'!H54)","v":3748.3852005234558},{"$f":"I147*(1-'2021 Determination Revenue'!I54)","v":3748.3852005234558},{"$f":"J147*(1-'2021 Determination Revenue'!J54)","v":3748.3852005234558}]
[null,{"$f":"'2021 Determination Revenue'!B$43","v":"Namoi"},{"$f":"'2021 Determination Revenue'!C$41","v":"$'000"},null,null,null,{"$f":"G148*(1-'2021 Determination Revenue'!G55)","v":4161.924143304167},{"$f":"H148*(1-'2021 Determination Revenue'!H55)","v":4222.0360546112843},{"$f":"I148*(1-'2021 Determination Revenue'!I55)","v":4222.0360546112843},{"$f":"J148*(1-'2021 Determination Revenue'!J55)","v":4222.0360546112843}]
[null,{"$f":"'2021 Determination Revenue'!B$44","v":"Peel"},{"$f":"'2021 Determination Revenue'!C$41","v":"$'000"},null,null,null,{"$f":"G149*(1-'2021 Determination Revenue'!G56)","v":310.99584760843425},{"$f":"H149*(1-'2021 Determination Revenue'!H56)","v":306.07163843545294},{"$f":"I149*(1-'2021 Determination Revenue'!I56)","v":306.07163843545294},{"$f":"J149*(1-'2021 Determination Revenue'!J56)","v":306.07163843545294}]
[null,{"$f":"'2021 Determination Revenue'!B$45","v":"Lachlan"},{"$f":"'2021 Determination Revenue'!C$41","v":"$'000"},null,null,null,{"$f":"G150*(1-'2021 Determination Revenue'!G57)","v":5563.1300413848685},{"$f":"H150*(1-'2021 Determination Revenue'!H57)","v":5614.2819345233675},{"$f":"I150*(1-'2021 Determination Revenue'!I57)","v":5614.2819345233675},{"$f":"J150*(1-'2021 Determination Revenue'!J57)","v":5614.2819345233675}]
[null,{"$f":"'2021 Determination Revenue'!B$46","v":"Macquarie"},{"$f":"'2021 Determination Revenue'!C$41","v":"$'000"},null,null,null,{"$f":"G151*(1-'2021 Determination Revenue'!G58)","v":4935.6442501173442},{"$f":"H151*(1-'2021 Determination Revenue'!H58)","v":4977.3274872134198},{"$f":"I151*(1-'2021 Determination Revenue'!I58)","v":4977.3274872134198},{"$f":"J151*(1-'2021 Determination Revenue'!J58)","v":4977.3274872134198}]
[null,{"$f":"'2021 Determination Revenue'!B$47","v":"Murray"},{"$f":"'2021 Determination Revenue'!C$41","v":"$'000"},null,null,null,{"$f":"G152*(1-'2021 Determination Revenue'!G59)","v":3956.409290301493},{"$f":"H152*(1-'2021 Determination Revenue'!H59)","v":3996.550251476076},{"$f":"I152*(1-'2021 Determination Revenue'!I59)","v":3996.550251476076},{"$f":"J152*(1-'2021 Determination Revenue'!J59)","v":3996.550251476076}]
[null,{"$f":"'2021 Determination Revenue'!B$48","v":"Murrumbidgee"},{"$f":"'2021 Determination Revenue'!C$41","v":"$'000"},null,null,null,{"$f":"G153*(1-'2021 Determination Revenue'!G60)","v":7454.9481070573338},{"$f":"H153*(1-'2021 Determination Revenue'!H60)","v":7525.2211621734477},{"$f":"I153*(1-'2021 Determination Revenue'!I60)","v":7525.2211621734477},{"$f":"J153*(1-'2021 Determination Revenue'!J60)","v":7525.2211621734477}]
[null,{"$f":"'2021 Determination Revenue'!B$49","v":"Lowbidgee"},{"$f":"'2021 Determination Revenue'!C$41","v":"$'000"},null,null,null,{"$f":"G154*(1-'2021 Determination Revenue'!G61)","v":0},{"$f":"H154*(1-'2021 Determination Revenue'!H61)","v":0},{"$f":"I154*(1-'2021 Determination Revenue'!I61)","v":0},{"$f":"J154*(1-'2021 Determination Revenue'!J61)","v":0}]
[null,"Check=0",null,null,null,null,{"$f":"SUM(G146:G154)-SUM(G158:G166)-SUM(G170:G178)","v":0},{"$f":"SUM(H146:H154)-SUM(H158:H166)-SUM(H170:H178)","v":0},{"$f":"SUM(I146:I154)-SUM(I158:I166)-SUM(I170:I178)","v":0},{"$f":"SUM(J146:J154)-SUM(J158:J166)-SUM(J170:J178)","v":0}]
[]
[]
[]
[]
[null,"TABLE 5.6 - REVENUE TO BE RECOVERED FROM CHARGES (ONLY MDBA/BRC REVENUE)"]
[null,{"$f":"'2021 Determination Revenue'!B$20","v":"Financial year"},{"$f":"'2021 Determination Revenue'!C$36","v":"Units"},null,null,null,{"$f":"'2021 Determination Revenue'!G$20","v":"2021-22"},{"$f":"'2021 Determination Revenue'!H$20","v":"2022-23"},{"$f":"'2021 Determination Revenue'!I$20","v":"2023-24"},{"$f":"'2021 Determination Revenue'!J$20","v":"2024-25"}]
[null,null,null,null,null,null,{"$f":"'2021 Determination Revenue'!G$73","v":"$2020-21"},{"$f":"'2021 Determination Revenue'!H$73","v":"$2020-21"},{"$f":"'2021 Determination Revenue'!I$73","v":"$2020-21"},{"$f":"'2021 Determination Revenue'!J$73","v":"$2020-21"}]
[null,"Revenue to be recovered from entitlement charges (MDBA/BRC)"]
[null,{"$f":"'2021 Determination Revenue'!B$41","v":"Border"},{"$f":"'2021 Determination Revenue'!C$41","v":"$'000"},null,null,null,{"$f":"'2021 Determination Revenue'!G76*'2021 Determination Revenue'!G88","v":475.8711087655318},{"$f":"'2021 Determination Revenue'!H76*'2021 Determination Revenue'!H88","v":475.8711087655318},{"$f":"'2021 Determination Revenue'!I76*'2021 Determination Revenue'!I88","v":475.8711087655318},{"$f":"'2021 Determination Revenue'!J76*'2021 Determination Revenue'!J88","v":475.8711087655318}]
[null,{"$f":"'2021 Determination Revenue'!B$42","v":"Gwydir"},{"$f":"'2021 Determination Revenue'!C$41","v":"$'000"},null,null,null,{"$f":"'2021 Determination Revenue'!G77*'2021 Determination Revenue'!G89","v":0},{"$f":"'2021 Determination Revenue'!H77*'2021 Determination Revenue'!H89","v":0},{"$f":"'2021 Determination Revenue'!I77*'2021 Determination Revenue'!I89","v":0},{"$f":"'2021 Determination Revenue'!J77*'2021 Determination Revenue'!J89","v":0}]
[null,{"$f":"'2021 Determination Revenue'!B$43","v":"Namoi"},{"$f":"'2021 Determination Revenue'!C$41","v":"$'000"},null,null,null,{"$f":"'2021 Determination Revenue'!G78*'2021 Determination Revenue'!G90","v":0},{"$f":"'2021 Determination Revenue'!H78*'2021 Determination Revenue'!H90","v":0},{"$f":"'2021 Determination Revenue'!I78*'2021 Determination Revenue'!I90","v":0},{"$f":"'2021 Determination Revenue'!J78*'2021 Determination Revenue'!J90","v":0}]
[null,{"$f":"'2021 Determination Revenue'!B$44","v":"Peel"},{"$f":"'2021 Determination Revenue'!C$41","v":"$'000"},null,null,null,{"$f":"'2021 Determination Revenue'!G79*'2021 Determination Revenue'!G91","v":0},{"$f":"'2021 Determination Revenue'!H79*'2021 Determination Revenue'!H91","v":0},{"$f":"'2021 Determination Revenue'!I79*'2021 Determination Revenue'!I91","v":0},{"$f":"'2021 Determination Revenue'!J79*'2021 Determination Revenue'!J91","v":0}]
[null,{"$f":"'2021 Determination Revenue'!B$45","v":"Lachlan"},{"$f":"'2021 Determination Revenue'!C$41","v":"$'000"},null,null,null,{"$f":"'2021 Determination Revenue'!G80*'2021 Determination Revenue'!G92","v":0},{"$f":"'2021 Determination Revenue'!H80*'2021 Determination Revenue'!H92","v":0},{"$f":"'2021 Determination Revenue'!I80*'2021 Determination Revenue'!I92","v":0},{"$f":"'2021 Determination Revenue'!J80*'2021 Determination Revenue'!J92","v":0}]
[null,{"$f":"'2021 Determination Revenue'!B$46","v":"Macquarie"},{"$f":"'2021 Determination Revenue'!C$41","v":"$'000"},null,null,null,{"$f":"'2021 Determination Revenue'!G81*'2021 Determination Revenue'!G93","v":0},{"$f":"'2021 Determination Revenue'!H81*'2021 Determination Revenue'!H93","v":0},{"$f":"'2021 Determination Revenue'!I81*'2021 Determination Revenue'!I93","v":0},{"$f":"'2021 Determination Revenue'!J81*'2021 Determination Revenue'!J93","v":0}]
[null,{"$f":"'2021 Determination Revenue'!B$47","v":"Murray"},{"$f":"'2021 Determination Revenue'!C$41","v":"$'000"},null,null,null,{"$f":"'2021 Determination Revenue'!G82*'2021 Determination Revenue'!G94","v":10091.038365068456},{"$f":"'2021 Determination Revenue'!H82*'2021 Determination Revenue'!H94","v":10091.038365068456},{"$f":"'2021 Determination Revenue'!I82*'2021 Determination Revenue'!I94","v":10091.038365068456},{"$f":"'2021 Determination Revenue'!J82*'2021 Determination Revenue'!J94","v":10091.038365068456}]
[null,{"$f":"'2021 Determination Revenue'!B$48","v":"Murrumbidgee"},{"$f":"'2021 Determination Revenue'!C$41","v":"$'000"},null,null,null,{"$f":"'2021 Determination Revenue'!G83*'2021 Determination Revenue'!G95","v":2238.0461237575296},{"$f":"'2021 Determination Revenue'!H83*'2021 Determination Revenue'!H95","v":2238.0461237575296},{"$f":"'2021 Determination Revenue'!I83*'2021 Determination Revenue'!I95","v":2238.0461237575296},{"$f":"'2021 Determination Revenue'!J83*'2021 Determination Revenue'!J95","v":2238.0461237575296}]
[null,{"$f":"'2021 Determination Revenue'!B$49","v":"Lowbidgee"},{"$f":"'2021 Determination Revenue'!C$41","v":"$'000"},null,null,null,{"$f":"'2021 Determination Revenue'!G84*'2021 Determination Revenue'!G96","v":0},{"$f":"'2021 Determination Revenue'!H84*'2021 Determination Revenue'!H96","v":0},{"$f":"'2021 Determination Revenue'!I84*'2021 Determination Revenue'!I96","v":0},{"$f":"'2021 Determination Revenue'!J84*'2021 Determination Revenue'!J96","v":0}]
[null,"Check=0",null,null,null,null,{"$f":"SUMPRODUCT('2021 Determination Revenue'!G76:G84,'2021 Determination Revenue'!G88:G96)-SUM(G188:G196)","v":0},{"$f":"SUMPRODUCT('2021 Determination Revenue'!H76:H84,'2021 Determination Revenue'!H88:H96)-SUM(H188:H196)","v":0},{"$f":"SUMPRODUCT('2021 Determination Revenue'!I76:I84,'2021 Determination Revenue'!I88:I96)-SUM(I188:I196)","v":0},{"$f":"SUMPRODUCT('2021 Determination Revenue'!J76:J84,'2021 Determination Revenue'!J88:J96)-SUM(J188:J196)","v":0}]
[]
[null,"Revenue to be recovered from usage charges (MDBA/BRC)"]
[null,{"$f":"'2021 Determination Revenue'!B$41","v":"Border"},{"$f":"'2021 Determination Revenue'!C$41","v":"$'000"},null,null,null,{"$f":"'2021 Determination Revenue'!G76*(1-'2021 Determination Revenue'!G88)","v":118.96777719138292},{"$f":"'2021 Determination Revenue'!H76*(1-'2021 Determination Revenue'!H88)","v":118.96777719138292},{"$f":"'2021 Determination Revenue'!I76*(1-'2021 Determination Revenue'!I88)","v":118.96777719138292},{"$f":"'2021 Determination Revenue'!J76*(1-'2021 Determination Revenue'!J88)","v":118.96777719138292}]
[null,{"$f":"'2021 Determination Revenue'!B$42","v":"Gwydir"},{"$f":"'2021 Determination Revenue'!C$41","v":"$'000"},null,null,null,{"$f":"'2021 Determination Revenue'!G77*(1-'2021 Determination Revenue'!G89)","v":0},{"$f":"'2021 Determination Revenue'!H77*(1-'2021 Determination Revenue'!H89)","v":0},{"$f":"'2021 Determination Revenue'!I77*(1-'2021 Determination Revenue'!I89)","v":0},{"$f":"'2021 Determination Revenue'!J77*(1-'2021 Determination Revenue'!J89)","v":0}]
[null,{"$f":"'2021 Determination Revenue'!B$43","v":"Namoi"},{"$f":"'2021 Determination Revenue'!C$41","v":"$'000"},null,null,null,{"$f":"'2021 Determination Revenue'!G78*(1-'2021 Determination Revenue'!G90)","v":0},{"$f":"'2021 Determination Revenue'!H78*(1-'2021 Determination Revenue'!H90)","v":0},{"$f":"'2021 Determination Revenue'!I78*(1-'2021 Determination Revenue'!I90)","v":0},{"$f":"'2021 Determination Revenue'!J78*(1-'2021 Determination Revenue'!J90)","v":0}]
[null,{"$f":"'2021 Determination Revenue'!B$44","v":"Peel"},{"$f":"'2021 Determination Revenue'!C$41","v":"$'000"},null,null,null,{"$f":"'2021 Determination Revenue'!G79*(1-'2021 Determination Revenue'!G91)","v":0},{"$f":"'2021 Determination Revenue'!H79*(1-'2021 Determination Revenue'!H91)","v":0},{"$f":"'2021 Determination Revenue'!I79*(1-'2021 Determination Revenue'!I91)","v":0},{"$f":"'2021 Determination Revenue'!J79*(1-'2021 Determination Revenue'!J91)","v":0}]
[null,{"$f":"'2021 Determination Revenue'!B$45","v":"Lachlan"},{"$f":"'2021 Determination Revenue'!C$41","v":"$'000"},null,null,null,{"$f":"'2021 Determination Revenue'!G80*(1-'2021 Determination Revenue'!G92)","v":0},{"$f":"'2021 Determination Revenue'!H80*(1-'2021 Determination Revenue'!H92)","v":0},{"$f":"'2021 Determination Revenue'!I80*(1-'2021 Determination Revenue'!I92)","v":0},{"$f":"'2021 Determination Revenue'!J80*(1-'2021 Determination Revenue'!J92)","v":0}]
[null,{"$f":"'2021 Determination Revenue'!B$46","v":"Macquarie"},{"$f":"'2021 Determination Revenue'!C$41","v":"$'000"},null,null,null,{"$f":"'2021 Determination Revenue'!G81*(1-'2021 Determination Revenue'!G93)","v":0},{"$f":"'2021 Determination Revenue'!H81*(1-'2021 Determination Revenue'!H93)","v":0},{"$f":"'2021 Determination Revenue'!I81*(1-'2021 Determination Revenue'!I93)","v":0},{"$f":"'2021 Determination Revenue'!J81*(1-'2021 Determination Revenue'!J93)","v":0}]
[null,{"$f":"'2021 Determination Revenue'!B$47","v":"Murray"},{"$f":"'2021 Determination Revenue'!C$41","v":"$'000"},null,null,null,{"$f":"'2021 Determination Revenue'!G82*(1-'2021 Determination Revenue'!G94)","v":2522.7595912671131},{"$f":"'2021 Determination Revenue'!H82*(1-'2021 Determination Revenue'!H94)","v":2522.7595912671131},{"$f":"'2021 Determination Revenue'!I82*(1-'2021 Determination Revenue'!I94)","v":2522.7595912671131},{"$f":"'2021 Determination Revenue'!J82*(1-'2021 Determination Revenue'!J94)","v":2522.7595912671131}]
[null,{"$f":"'2021 Determination Revenue'!B$48","v":"Murrumbidgee"},{"$f":"'2021 Determination Revenue'!C$41","v":"$'000"},null,null,null,{"$f":"'2021 Determination Revenue'!G83*(1-'2021 Determination Revenue'!G95)","v":559.51153093938228},{"$f":"'2021 Determination Revenue'!H83*(1-'2021 Determination Revenue'!H95)","v":559.51153093938228},{"$f":"'2021 Determination Revenue'!I83*(1-'2021 Determination Revenue'!I95)","v":559.51153093938228},{"$f":"'2021 Determination Revenue'!J83*(1-'2021 Determination Revenue'!J95)","v":559.51153093938228}]
[null,{"$f":"'2021 Determination Revenue'!B$49","v":"Lowbidgee"},{"$f":"'2021 Determination Revenue'!C$41","v":"$'000"},null,null,null,{"$f":"'2021 Determination Revenue'!G84*(1-'2021 Determination Revenue'!G96)","v":0},{"$f":"'2021 Determination Revenue'!H84*(1-'2021 Determination Revenue'!H96)","v":0},{"$f":"'2021 Determination Revenue'!I84*(1-'2021 Determination Revenue'!I96)","v":0},{"$f":"'2021 Determination Revenue'!J84*(1-'2021 Determination Revenue'!J96)","v":0}]
[null,"Check=0",null,null,null,null,{"$f":"SUMPRODUCT('2021 Determination Revenue'!G76:G84,(1-'2021 Determination Revenue'!G88:G96))-SUM(G200:G208)","v":0},{"$f":"SUMPRODUCT('2021 Determination Revenue'!H76:H84,(1-'2021 Determination Revenue'!H88:H96))-SUM(H200:H208)","v":0},{"$f":"SUMPRODUCT('2021 Determination Revenue'!I76:I84,(1-'2021 Determination Revenue'!I88:I96))-SUM(I200:I208)","v":0},{"$f":"SUMPRODUCT('2021 Determination Revenue'!J76:J84,(1-'2021 Determination Revenue'!J88:J96))-SUM(J200:J208)","v":0}]

{"sheet":"WaterNSW Sheets >>","index":9,"n_rows":0,"n_cols":0,"rows_kept":0,"cut":false,"hidden":true,"merged":[]}

{"sheet":"Price tables CPI","index":10,"n_rows":224,"n_cols":13,"rows_kept":224,"cut":false,"hidden":true,"merged":[]}
[]
[]
[]
[]
[null,null,null,null,null,null,null,null,"Escalation Factor ",null,null,null,{"$f":"1+'2021 Determination Revenue'!G25","v":1}]
[]
[]
[]
[]
[null,null,null,null,"2021-22","2022-23","% Variance",null,"Determination Tables (2021-22$)"]
[null,null,null,"Table 1 Entitlement charges for MDB Valleys"]
[null,null,null,null,"nominal $","nominal $"]
[null,null,null,"High Security Charge"]
[null,null,null,"Border",6.58,{"$f":"ROUND(I14*$M$5,2)","v":6.58},{"$f":"F14/E14-1","v":0},null,{"$f":"E14","v":6.58}]
[null,null,null,"Gwydir",17.399999999999999,{"$f":"ROUND(I15*$M$5,2)","v":17.399999999999999},{"$f":"F15/E15-1","v":0},null,{"$f":"E15","v":17.399999999999999}]
[null,null,null,"Namoi",28.93,28.93,{"$f":"F16/E16-1","v":0},null,28.93]
[null,null,null,"Peel",61.36,61.36,0,null,61.36]
[null,null,null,"Lachlan",25.1,25.1,0,null,25.1]
[null,null,null,"Macquarie",20.18,20.18,0,null,20.18]
[null,null,null,"Murray",2.2599999999999998,2.2599999999999998,{"$f":"F20/E20-1","v":0},null,2.2599999999999998]
[null,null,null,"Murrumbidgee",4.17,4.17,0,null,4.17]
[]
[null,null,null,"General Security Charge"]
[null,null,null,"Border",2.41,{"$f":"ROUND(I24*$M$5,2)","v":2.41},{"$f":"F24/E24-1","v":0},null,{"$f":"E24","v":2.41}]
[null,null,null,"Gwydir",4.04,4.04,0,null,4.04]
[null,null,null,"Namoi",10.1,10.1,0,null,10.1]
[null,null,null,"Peel",5.82,5.82,0,null,5.82]
[null,null,null,"Lachlan",3.71,3.71,0,null,3.71]
[null,null,null,"Macquarie",3.94,3.94,0,null,3.94]
[null,null,null,"Murray",0.99,0.99,0,null,0.99]
[null,null,null,"Murrumbidgee",1.43,1.43,{"$f":"F31/E31-1","v":0},null,1.43]
[null,null,null,"Lowbidgee",1.72,1.72,0,null,1.72]
[]
[null,null,null,null,{"$f":"$E$10","v":"2021-22"},{"$f":"$F$10","v":"2022-23"},"% Variance"]
[null,null,null,"Table 2 Usage charges for MDB Valleys (excluding Lowbidgee)"]
[null,null,null,null,"nominal $","nominal $"]
[null,null,null,"Border",7.03,{"$f":"ROUND(I37*$M$5,2)","v":7.03},{"$f":"F37/E37-1","v":0},null,{"$f":"E37","v":7.03}]
[null,null,null,"Gwydir",17.190000000000001,{"$f":"ROUND(I38*$M$5,2)","v":17.190000000000001},0,null,17.190000000000001]
[null,null,null,"Namoi",30.88,30.88,0,null,30.88]
[null,null,null,"Peel",24.51,24.51,0,null,24.51]
[null,null,null,"Lachlan",31.17,31.17,0,null,31.17]
[null,null,null,"Macquarie",21.64,21.64,0,null,21.64]
[null,null,null,"Murray",2.93,2.93,0,null,2.93]
[null,null,null,"Murrumbidgee",4.97,4.97,0,null,4.97]
[null,null,null,"Lowbidgee",0,0,"N/A"]
[null,null,null,null,{"$f":"$E$10","v":"2021-22"},{"$f":"$F$10","v":"2022-23"},"% Variance"]
[null,null,null,"Table 3 MDBA/BRC entitlement charges"]
[null,null,null,null,"nominal $","nominal $"]
[null,null,null,"High Security Licence ($/ML of Entitlement or $/unit share)"]
[null,null,null,"Border ",4.84,{"$f":"ROUND(I50*$M$5,2)","v":4.84},{"$f":"F50/E50-1","v":0},null,{"$f":"E50","v":4.84}]
[null,null,null,"Murray",8.64,{"$f":"ROUND(I51*$M$5,2)","v":8.64},{"$f":"F51/E51-1","v":0},null,8.64]
[null,null,null,"Murrumbidgee",1.86,{"$f":"ROUND(I52*$M$5,2)","v":1.86},{"$f":"F52/E52-1","v":0},null,1.86]
[null,null,null,"General Security Licence ($/ML of Entitlement or $/unit share)"]
[null,null,null,"Border ",1.77,{"$f":"ROUND(I54*$M$5,2)","v":1.77},{"$f":"F54/E54-1","v":0},null,{"$f":"E54","v":1.77}]
[null,null,null,"Murray",3.8,{"$f":"ROUND(I55*$M$5,2)","v":3.8},{"$f":"F55/E55-1","v":0},null,3.8]
[null,null,null,"Murrumbidgee",0.64,{"$f":"ROUND(I56*$M$5,2)","v":0.64},{"$f":"F56/E56-1","v":0},null,0.64]
[]
[null,null,null,null,{"$f":"$E$10","v":"2021-22"},{"$f":"$F$10","v":"2022-23"},"% Variance"]
[null,null,null,"Table 4 MDBA/BRC usage charges"]
[null,null,null,null,"nominal $","nominal $"]
[null,null,null,"Border",0.86,{"$f":"ROUND(I61*$M$5,2)","v":0.86},{"$f":"F61/E61-1","v":0},null,{"$f":"E61","v":0.86}]
[null,null,null,"Murray",1.85,{"$f":"ROUND(I62*$M$5,2)","v":1.85},{"$f":"F62/E62-1","v":0},null,{"$f":"E62","v":1.85}]
[null,null,null,"Murrumbidgee",0.37,{"$f":"ROUND(I63*$M$5,2)","v":0.37},{"$f":"F63/E63-1","v":0},null,0.37]
[]
[null,null,null,null,{"$f":"$E$10","v":"2021-22"},{"$f":"$F$10","v":"2022-23"},"% Variance"]
[null,null,null,"Table 5 Irrigation corporations and districts discount"]
[null,null,null,null,"nominal $","nominal $"]
[null,null,null,"Murray Irrigation Limited",730932.58306757768,{"$f":"ROUND(I68*$M$5,2)","v":699529},{"$f":"F68/E68-1","v":-4.2963720314373122E-2},null,699529]
[null,null,null,"Western Murray Irrigation Limited",18465.244629631849,17672,{"$f":"F69/E69-1","v":-4.2958793427458897E-2},null,17672]
[null,null,null,"West Corurgan",36552.115826952744,34982,-4.2955538726843656E-2,null,34982]
[null,null,null,"Moira Irrigation Scheme",19288.763276426274,18460,-4.296611786610216E-2,null,18460]
[null,null,null,"Eagle Creek Scheme",6904.6681262817192,6608,-4.296631218993574E-2,null,6608]
[null,null,null,"Murrumbidgee Irrigation Limited",625285.00725718867,593966,-5.0087571097489514E-2,null,593966]
[null,null,null,"Coleambally Irrigation Limited",267976.74259035528,254554,-5.0089207222262733E-2,null,254554]
[null,null,null,"Jemalong Irrigation Limited",56068.424461714254,56350,5.0219984062156442E-3,null,56350]
[]
[null,null,null,null,{"$f":"$E$10","v":"2021-22"},{"$f":"$F$10","v":"2022-23"},"% Variance"]
[null,null,null,"Table 6 Entitlement charges for Coastal Valleys"]
[null,null,null,null,"nominal $","nominal $"]
[null,null,null,"High Security Licence ($/ML of Entitlement or $/unit share)"]
[null,null,null,"North Coast",12.82,{"$f":"ROUND(I81*$M$5,2)","v":12.82},{"$f":"F81/E81-1","v":0},null,{"$f":"E81","v":12.82}]
[null,null,null,"Hunter",19.940000000000001,{"$f":"ROUND(I82*$M$5,2)","v":19.940000000000001},{"$f":"F82/E82-1","v":0},null,{"$f":"E82","v":19.940000000000001}]
[null,null,null,"South Coast",33.56,{"$f":"ROUND(I83*$M$5,2)","v":33.56},{"$f":"F83/E83-1","v":0},null,33.56]
[null,null,null,"General Security Licence ($/ML of Entitlement or $/unit share)"]
[null,null,null,"North Coast",9.94,{"$f":"ROUND(I85*$M$5,2)","v":9.94},{"$f":"F85/E85-1","v":0},null,{"$f":"E85","v":9.94}]
[null,null,null,"Hunter",15.49,{"$f":"ROUND(I86*$M$5,2)","v":15.49},{"$f":"F86/E86-1","v":0},null,15.49]
[null,null,null,"South Coast",17.600000000000001,{"$f":"ROUND(I87*$M$5,2)","v":17.600000000000001},{"$f":"F87/E87-1","v":0},null,17.600000000000001]
[]
[null,null,null,null,{"$f":"$E$10","v":"2021-22"},{"$f":"$F$10","v":"2022-23"},"% Variance"]
[null,null,null,"Table 7 Usage charges for Coastal Valleys"]
[null,null,null,null,"nominal $","nominal $"]
[null,null,null,"North Coast",18.98,{"$f":"ROUND(I92*$M$5,2)","v":18.98},{"$f":"F92/E92-1","v":0},null,{"$f":"E92","v":18.98}]
[null,null,null,"Hunter",19.13,{"$f":"ROUND(I93*$M$5,2)","v":19.13},{"$f":"F93/E93-1","v":0},null,19.13]
[null,null,null,"South Coast",18.8,{"$f":"ROUND(I94*$M$5,2)","v":18.8},{"$f":"F94/E94-1","v":0},null,18.8]
[]
[]
[]
[null,null,null,null,{"$f":"$E$10","v":"2021-22"},{"$f":"$F$10","v":"2022-23"},"% Variance"]
[null,null,null,"Table 9 Fish River Supply Scheme customers - bulk raw water"]
[null,null,null,null,"nominal $","nominal $"]
[]
[null,null,null,"Energy Australia",0.49,{"$f":"ROUND(I102*$M$5,2)","v":0.49},{"$f":"F102/E102-1","v":0},null,{"$f":"E102","v":0.49}]
[null,null,null,"Lithgow Council",0.49,{"$f":"ROUND(I103*$M$5,2)","v":0.49},{"$f":"F103/E103-1","v":0},null,{"$f":"E103","v":0.49}]
[null,null,null," Oberon council",0.42,{"$f":"ROUND(I104*$M$5,2)","v":0.42},0,null,{"$f":"E104","v":0.42}]
[null,null,null,"Minor Customers",0.49,{"$f":"ROUND(I105*$M$5,2)","v":0.49},{"$f":"F105/E105-1","v":0},null,0.49]
[null,null,null,"First tier usage charge "]
[null,null,null,"Energy Australia",0.33,{"$f":"ROUND(I107*$M$5,2)","v":0.33},{"$f":"F107/E107-1","v":0},null,{"$f":"E107","v":0.33}]
[null,null,null,"Lithgow Council",0.33,{"$f":"ROUND(I108*$M$5,2)","v":0.33},{"$f":"F108/E108-1","v":0},null,0.33]
[null,null,null," Oberon council",0.26,{"$f":"ROUND(I109*$M$5,2)","v":0.26},0,null,0.26]
[null,null,null,"Minor Customers",0.33,{"$f":"ROUND(I110*$M$5,2)","v":0.33},{"$f":"F110/E110-1","v":0},null,0.33]
[null,null,null,"Second tier usage charge "]
[null,null,null,"Energy Australia",0.82000000000000006,{"$f":"ROUND(I112*$M$5,2)","v":0.82},{"$f":"F112/E112-1","v":0},null,{"$f":"E112","v":0.82000000000000006}]
[null,null,null,"Lithgow Council",0.82000000000000006,{"$f":"ROUND(I113*$M$5,2)","v":0.82},{"$f":"F113/E113-1","v":0},null,0.82000000000000006]
[null,null,null," Oberon council",0.67999999999999994,{"$f":"ROUND(I114*$M$5,2)","v":0.68},0,null,0.67999999999999994]
[null,null,null,"Minor Customers",0.82000000000000006,{"$f":"ROUND(I115*$M$5,2)","v":0.82},{"$f":"F115/E115-1","v":0},null,0.82000000000000006]
[]
[null,null,null,null,{"$f":"$E$10","v":"2021-22"},{"$f":"$F$10","v":"2022-23"},"% Variance"]
[null,null,null,"Table 10 Fish River Supply Scheme customers - bulk filtered water"]
[null,null,null,null,"nominal $","nominal $"]
[]
[null,null,null,"Major Customers",0.86,{"$f":"ROUND(I121*$M$5,2)","v":0.86},{"$f":"F121/E121-1","v":0},null,{"$f":"E121","v":0.86}]
[null,null,null,"Minor Customers",0.86,{"$f":"ROUND(I122*$M$5,2)","v":0.86},{"$f":"F122/E122-1","v":0},null,0.86]
[null,null,null,"First tier usage charge "]
[null,null,null,"Major Customers",0.53,{"$f":"ROUND(I124*$M$5,2)","v":0.53},{"$f":"F124/E124-1","v":0},null,{"$f":"E124","v":0.53}]
[null,null,null,"Minor Customers",0.53,{"$f":"ROUND(I125*$M$5,2)","v":0.53},{"$f":"F125/E125-1","v":0},null,0.53]
[null,null,null,"Second tier usage charge "]
[null,null,null,"Major Customers",1.3900000000000001,{"$f":"ROUND(I127*$M$5,2)","v":1.39},{"$f":"F127/E127-1","v":0},null,{"$f":"E127","v":1.3900000000000001}]
[null,null,null,"Minor Customers",1.3900000000000001,{"$f":"ROUND(I128*$M$5,2)","v":1.39},{"$f":"F128/E128-1","v":0},null,1.3900000000000001]
[]
[null,null,null,null,{"$f":"$E$10","v":"2021-22"},{"$f":"$F$10","v":"2022-23"},"% Variance"]
[null,null,null,"Table 11 Meter service charges"]
[null,null,null,null,"nominal $","nominal $"]
[null,null,null,"50mm",481.16,{"$f":"ROUND(I133*$M$5,2)","v":481.16},{"$f":"F133/E133-1","v":0},null,{"$f":"E133","v":481.16}]
[null,null,null,"80mm",483.4,483.4,0,null,483.4]
[null,null,null,"100mm",483.39,483.39,0,null,483.39]
[null,null,null,"150mm",489.07,489.07,0,null,489.07]
[null,null,null,"200mm",491.88,491.88,0,null,491.88]
[null,null,null,"250mm",494.48,494.48,0,null,494.48]
[null,null,null,"300mm",501.2,501.2,0,null,501.2]
[null,null,null,"350mm",531.39,531.39,0,null,531.39]
[null,null,null,"400mm",549.37,549.37,0,null,549.37]
[null,null,null,"450mm",552.83000000000004,552.83000000000004,0,null,552.83000000000004]
[null,null,null,"500mm",567.55999999999995,567.55999999999995,0,null,567.55999999999995]
[null,null,null,"600mm",586.42999999999995,586.42999999999995,0,null,586.42999999999995]
[null,null,null,"700mm",608.85,608.85,0,null,608.85]
[null,null,null,"750mm",640.25,640.25,0,null,640.25]
[null,null,null,"800mm",661.47,661.47,0,null,661.47]
[null,null,null,"900mm",668.19,668.19,0,null,668.19]
[null,null,null,"1,000mm",680.6,680.6,0,null,680.6]
[null,null,null,"Channel",6306.05,6306.05,0,null,6306.05]
[]
[null,null,null,null,{"$f":"$E$10","v":"2021-22"},{"$f":"$F$10","v":"2022-23"},"% Variance"]
[null,null,null,"Table 12 Meter accuracy testing charges"]
[null,null,null,null,"nominal $","nominal $"]
[null,null,null,"Refundable meter accuracy deposit",1750,1750,{"$f":"F155/E155-1","v":0}]
[null,null,null,"Total charge (if meter is found to be within accuracy standards)"]
[null,null,null,"   Verification and testing in situ",4677.28,{"$f":"ROUND(I157*$M$5,2)","v":4677.28},{"$f":"F157/E157-1","v":0},{"$f":"\"+1,750\"","v":"+1,750"},{"$f":"E157","v":4677.28}]
[null,null,null,"   Lab verification and testing",6999.0299999999988,{"$f":"ROUND(I158*$M$5,2)","v":6999.03},{"$f":"F158/E158-1","v":0},{"$f":"\"+1,750\"","v":"+1,750"},{"$f":"E158","v":6999.0299999999988}]
[]
[null,null,null,null,{"$f":"$E$10","v":"2021-22"},{"$f":"$F$10","v":"2022-23"},"% Variance"]
[null,null,null,"Table 13 Environmental gauging station charge"]
[null,null,null,null,"nominal $","nominal $"]
[]
[]
[null,null,null,null,{"$f":"$E$10","v":"2021-22"},{"$f":"$F$10","v":"2022-23"},"% Variance"]
[null,null,null,"Table 14 Other Miscellaneous Charges"]
[null,null,null,null,"nominal $","nominal $"]
[null,null,null,"Trade processing charge per application",49.92,{"$f":"ROUND(I168*$M$5,2)","v":49.92},{"$f":"F168/E168-1","v":0},null,{"$f":"E168","v":49.92}]
[null,null,null,"Fish River Connection Charge"]
[null,null,null,"   Low complexity connection",926.38,{"$f":"ROUND(I170*$M$5,2)","v":926.38},{"$f":"F170/E170-1","v":0},null,{"$f":"E170","v":926.38}]
[null,null,null,"   Medium complexity connection",3512.39,{"$f":"ROUND(I171*$M$5,2)","v":3512.39},{"$f":"F171/E171-1","v":0},null,3512.39]
[null,null,null,"   High complexity connection",7181.32,{"$f":"ROUND(I172*$M$5,2)","v":7181.32},{"$f":"F172/E172-1","v":0},null,7181.32]
[null,null,null,"Fish River Disconnection Charge",260.8,{"$f":"ROUND(I173*$M$5,2)","v":260.8},{"$f":"F173/E173-1","v":0},null,260.8]
[]
[]
[]
[]
[]
[null,null,null,null,{"$f":"$E$10","v":"2021-22"},{"$f":"$F$10","v":"2022-23"},"% Variance"]
[null,null,null,"Table 15 Annual Scheme Management Charge"]
[null,null,null,null,"nominal $","nominal $"]
[null,null,null,"Proportion of voluntary telemetry uptake"]
[null,null,null,"0% - 25%",73.260000000000005,{"$f":"ROUND(I183*$M$5,2)","v":73.260000000000005},{"$f":"F183/E183-1","v":0},null,73.260000000000005]
[null,null,null,">25% - 50%",66.010000000000005,66.010000000000005,{"$f":"F184/E184-1","v":0},null,66.010000000000005]
[null,null,null,">50% - 75%",58.75,58.75,{"$f":"F185/E185-1","v":0},null,58.75]
[null,null,null,">75% - 100%",51.49,51.49,{"$f":"F186/E186-1","v":0},null,51.49]
[]
[null,null,null,"a  The charges in this table are annual charges and must therefore be pro-rated in accordance with clause 2.5(b) of Schedule 6 for any period under this determination to which this charge applies, and that is less than a full financial year."]
[]
[]
[null,null,null,null,{"$f":"$E$10","v":"2021-22"},{"$f":"$F$10","v":"2022-23"},"% Variance"]
[null,null,null,"Annual Government-Owned Meter service chargesa "]
[]
[null,null,null,"Meter service charge - operating costs ($ per Government-Owned Meter)",898.85,{"$f":"ROUND(I194*$M$5,2)","v":898.85},{"$f":"F194/E194-1","v":0},null,898.85]
[null,null,null,"Meter service charge for channel meters- operating costs ($ per Government-Owned Meter)",6306.04,6306.04,0,null,6306.04]
[null,null,null,"Meter service charge - capital costs ($ per Government-Owned Meter)",0,0,"N/A",null,0]
[null,null,null,"a  The charges in this table are annual charges and must therefore be pro-rated in accordance with clause 2.5(b) of Schedule 6 for any period under this determination to which this charge applies, and that is less than a full financial year."]
[]
[]
[null,null,null,null,{"$f":"$E$10","v":"2021-22"},{"$f":"$F$10","v":"2022-23"},"% Variance"]
[null,null,null,"Annual telemetry service chargea"]
[]
[null,null,null,"Proportion of voluntary telemetry uptake"]
[null,null,null,"0% - >25%",226.49,{"$f":"ROUND(I204*$M$5,2)","v":226.49},{"$f":"F204/E204-1","v":0},null,226.49]
[null,null,null,"25% - >50%",208.74,208.74,0,null,208.74]
[null,null,null,"50% - >75%",191.41,191.41,0,null,191.41]
[null,null,null,"75% or more",182.11,182.11,0,null,182.11]
[null,null,null,"a  The charges in this table are annual charges and must therefore be pro-rated in accordance with clause 2.5(b) of Schedule 6 for any period under this determination to which this charge applies, and that is less than a full financial year."]
[]
[]
[null,null,null,null,{"$f":"$E$10","v":"2021-22"},{"$f":"$F$10","v":"2022-23"},"% Variance"]
[null,null,null,"Annual non-telemetry service charge a  "]
[]
[null,null,null,"Proportion of voluntary telemetry uptake"]
[null,null,null,"25% - >50%",218.57,{"$f":"ROUND(I215*$M$5,2)","v":218.57},{"$f":"F215/E215-1","v":0},null,218.57]
[null,null,null,"50% - >75%",218.57,218.57,0,null,218.57]
[null,null,null,"75% or more",218.57,218.57,0,null,218.57]
[null,null,null,"a  The charges in this table are annual charges and must therefore be pro-rated in accordance with clause 2.5(b) of Schedule 6 for any period under this determination to which this charge applies, and that is less than a full financial year."]
[]
[null,null,null,null,{"$f":"$E$10","v":"2021-22"},{"$f":"$F$10","v":"2022-23"},"% Variance"]
[null,null,null,"Exit fee "]
[]
[null,null,null,"Average capital expenditure ($ per meter)",0,{"$f":"ROUND(I223*$M$5,2)","v":0},"N/A",null,0]
[null,null,null,"Daily depreciation ($ per meter)",0,0,"N/A",null,0]

{"sheet":"Bill impact tables","index":11,"n_rows":129,"n_cols":16,"rows_kept":129,"cut":false,"hidden":true,"merged":[]}
[]
[]
[]
[]
[null,null,"CUSTOMER BILLS "]
[]
[null,null,"TABLE 4.5 - INDICATIVE BILLS FOR HIGH SECURITY CUSTOMERS  - WaterNSW CHARGES"]
[null,null,null,null,null,null,null,null,"2021-22","2022-23","Bill analysis of based on ∆ in CPI"]
[]
[]
[null,null,"Small consumption customers",null,null,null,null,null,null,null,null,null,null,null,"Entitlements","Utilisation"]
[null,null,"Border","$",null,null,null,null,{"$f":"'Price tables CPI'!E14*'Bill impact tables'!$O12+'Price tables CPI'!E37*'Bill impact tables'!$O12*'Bill impact tables'!$P12","v":1361},{"$f":"'Price tables CPI'!F14*'Bill impact tables'!$O12+'Price tables CPI'!F37*'Bill impact tables'!$O12*'Bill impact tables'!$P12","v":1361},{"$f":"IFERROR(J12/I12-1,\"N/A\")","v":0},null,null,null,100,1]
[null,null,"Gwydir",{"$f":"D$12","v":"$"},null,null,null,null,{"$f":"'Price tables CPI'!E15*'Bill impact tables'!$O13+'Price tables CPI'!E38*'Bill impact tables'!$O13*'Bill impact tables'!$P13","v":3459},{"$f":"'Price tables CPI'!F15*'Bill impact tables'!$O13+'Price tables CPI'!F38*'Bill impact tables'!$O13*'Bill impact tables'!$P13","v":3459},0,null,null,null,100,1]
[null,null,"Namoi","$",null,null,null,null,{"$f":"'Price tables CPI'!E16*'Bill impact tables'!$O14+'Price tables CPI'!E39*'Bill impact tables'!$O14*'Bill impact tables'!$P14","v":5981},{"$f":"'Price tables CPI'!F16*'Bill impact tables'!$O14+'Price tables CPI'!F39*'Bill impact tables'!$O14*'Bill impact tables'!$P14","v":5981},0,null,null,null,100,1]
[null,null,"Peel","$",null,null,null,null,{"$f":"'Price tables CPI'!E17*'Bill impact tables'!$O15+'Price tables CPI'!E40*'Bill impact tables'!$O15*'Bill impact tables'!$P15","v":8587},{"$f":"'Price tables CPI'!F17*'Bill impact tables'!$O15+'Price tables CPI'!F40*'Bill impact tables'!$O15*'Bill impact tables'!$P15","v":8587},0,null,null,null,100,1]
[null,null,"Lachlan","$",null,null,null,null,{"$f":"'Price tables CPI'!E18*'Bill impact tables'!$O16+'Price tables CPI'!E41*'Bill impact tables'!$O16*'Bill impact tables'!$P16","v":5627},{"$f":"'Price tables CPI'!F18*'Bill impact tables'!$O16+'Price tables CPI'!F41*'Bill impact tables'!$O16*'Bill impact tables'!$P16","v":5627},0,null,null,null,100,1]
[null,null,"Macquarie","$",null,null,null,null,{"$f":"'Price tables CPI'!E19*'Bill impact tables'!$O17+'Price tables CPI'!E42*'Bill impact tables'!$O17*'Bill impact tables'!$P17","v":4182},{"$f":"'Price tables CPI'!F19*'Bill impact tables'!$O17+'Price tables CPI'!F42*'Bill impact tables'!$O17*'Bill impact tables'!$P17","v":4182},0,null,null,null,100,1]
[null,null,"Murray","$",null,null,null,null,{"$f":"'Price tables CPI'!E20*'Bill impact tables'!$O18+'Price tables CPI'!E43*'Bill impact tables'!$O18*'Bill impact tables'!$P18","v":519},{"$f":"'Price tables CPI'!F20*'Bill impact tables'!$O18+'Price tables CPI'!F43*'Bill impact tables'!$O18*'Bill impact tables'!$P18","v":519},0,null,null,null,100,1]
[null,null,"Murrumbidgee","$",null,null,null,null,{"$f":"'Price tables CPI'!E21*'Bill impact tables'!$O19+'Price tables CPI'!E44*'Bill impact tables'!$O19*'Bill impact tables'!$P19","v":914},{"$f":"'Price tables CPI'!F21*'Bill impact tables'!$O19+'Price tables CPI'!F44*'Bill impact tables'!$O19*'Bill impact tables'!$P19","v":914},0,null,null,null,100,1]
[null,null,"Lowbidgee","$",null,null,null,null,0,0,"N/A",null,null,"GS entitlement charges only",100,1]
[]
[null,null,"Medium consumption customers"]
[null,null,"Border",{"$f":"D$12","v":"$"},null,null,null,null,{"$f":"'Price tables CPI'!E14*'Bill impact tables'!$O23+'Price tables CPI'!E37*'Bill impact tables'!$O23*'Bill impact tables'!$P23","v":6805},{"$f":"'Price tables CPI'!F14*'Bill impact tables'!$O23+'Price tables CPI'!F37*'Bill impact tables'!$O23*'Bill impact tables'!$P23","v":6805},{"$f":"IFERROR(J23/I23-1,\"N/A\")","v":0},null,null,null,500,1]
[null,null,"Gwydir","$",null,null,null,null,{"$f":"'Price tables CPI'!E15*'Bill impact tables'!$O24+'Price tables CPI'!E38*'Bill impact tables'!$O24*'Bill impact tables'!$P24","v":17295},{"$f":"'Price tables CPI'!F15*'Bill impact tables'!$O24+'Price tables CPI'!F38*'Bill impact tables'!$O24*'Bill impact tables'!$P24","v":17295},0,null,null,null,500,1]
[null,null,"Namoi","$",null,null,null,null,{"$f":"'Price tables CPI'!E16*'Bill impact tables'!$O25+'Price tables CPI'!E39*'Bill impact tables'!$O25*'Bill impact tables'!$P25","v":29905},{"$f":"'Price tables CPI'!F16*'Bill impact tables'!$O25+'Price tables CPI'!F39*'Bill impact tables'!$O25*'Bill impact tables'!$P25","v":29905},0,null,null,null,500,1]
[null,null,"Peel","$",null,null,null,null,{"$f":"'Price tables CPI'!E17*'Bill impact tables'!$O26+'Price tables CPI'!E40*'Bill impact tables'!$O26*'Bill impact tables'!$P26","v":42935},{"$f":"'Price tables CPI'!F17*'Bill impact tables'!$O26+'Price tables CPI'!F40*'Bill impact tables'!$O26*'Bill impact tables'!$P26","v":42935},0,null,null,null,500,1]
[null,null,"Lachlan","$",null,null,null,null,{"$f":"'Price tables CPI'!E18*'Bill impact tables'!$O27+'Price tables CPI'!E41*'Bill impact tables'!$O27*'Bill impact tables'!$P27","v":28135},{"$f":"'Price tables CPI'!F18*'Bill impact tables'!$O27+'Price tables CPI'!F41*'Bill impact tables'!$O27*'Bill impact tables'!$P27","v":28135},0,null,null,null,500,1]
[null,null,"Macquarie","$",null,null,null,null,{"$f":"'Price tables CPI'!E19*'Bill impact tables'!$O28+'Price tables CPI'!E42*'Bill impact tables'!$O28*'Bill impact tables'!$P28","v":20910},{"$f":"'Price tables CPI'!F19*'Bill impact tables'!$O28+'Price tables CPI'!F42*'Bill impact tables'!$O28*'Bill impact tables'!$P28","v":20910},0,null,null,null,500,1]
[null,null,"Murray","$",null,null,null,null,{"$f":"'Price tables CPI'!E20*'Bill impact tables'!$O29+'Price tables CPI'!E43*'Bill impact tables'!$O29*'Bill impact tables'!$P29","v":2595},{"$f":"'Price tables CPI'!F20*'Bill impact tables'!$O29+'Price tables CPI'!F43*'Bill impact tables'!$O29*'Bill impact tables'!$P29","v":2595},0,null,null,null,500,1]
[null,null,"Murrumbidgee","$",null,null,null,null,{"$f":"'Price tables CPI'!E21*'Bill impact tables'!$O30+'Price tables CPI'!E44*'Bill impact tables'!$O30*'Bill impact tables'!$P30","v":4570},{"$f":"'Price tables CPI'!F21*'Bill impact tables'!$O30+'Price tables CPI'!F44*'Bill impact tables'!$O30*'Bill impact tables'!$P30","v":4570},0,null,null,null,500,1]
[null,null,"Lowbidgee","$",null,null,null,null,0,0,"N/A",null,null,"GS entitlement charges only",500,1]
[]
[null,null,"Large consumption customers"]
[null,null,"Border",{"$f":"D$12","v":"$"},null,null,null,null,{"$f":"'Price tables CPI'!E14*'Bill impact tables'!$O34+'Price tables CPI'!E37*'Bill impact tables'!$O34*'Bill impact tables'!$P34","v":13610},{"$f":"'Price tables CPI'!F14*'Bill impact tables'!$O34+'Price tables CPI'!F37*'Bill impact tables'!$O34*'Bill impact tables'!$P34","v":13610},{"$f":"IFERROR(J34/I34-1,\"N/A\")","v":0},null,null,null,1000,1]
[null,null,"Gwydir","$",null,null,null,null,{"$f":"'Price tables CPI'!E15*'Bill impact tables'!$O35+'Price tables CPI'!E38*'Bill impact tables'!$O35*'Bill impact tables'!$P35","v":34590},{"$f":"'Price tables CPI'!F15*'Bill impact tables'!$O35+'Price tables CPI'!F38*'Bill impact tables'!$O35*'Bill impact tables'!$P35","v":34590},0,null,null,null,1000,1]
[null,null,"Namoi","$",null,null,null,null,{"$f":"'Price tables CPI'!E16*'Bill impact tables'!$O36+'Price tables CPI'!E39*'Bill impact tables'!$O36*'Bill impact tables'!$P36","v":59810},{"$f":"'Price tables CPI'!F16*'Bill impact tables'!$O36+'Price tables CPI'!F39*'Bill impact tables'!$O36*'Bill impact tables'!$P36","v":59810},0,null,null,null,1000,1]
[null,null,"Peel","$",null,null,null,null,{"$f":"'Price tables CPI'!E17*'Bill impact tables'!$O37+'Price tables CPI'!E40*'Bill impact tables'!$O37*'Bill impact tables'!$P37","v":85870},{"$f":"'Price tables CPI'!F17*'Bill impact tables'!$O37+'Price tables CPI'!F40*'Bill impact tables'!$O37*'Bill impact tables'!$P37","v":85870},0,null,null,null,1000,1]
[null,null,"Lachlan","$",null,null,null,null,{"$f":"'Price tables CPI'!E18*'Bill impact tables'!$O38+'Price tables CPI'!E41*'Bill impact tables'!$O38*'Bill impact tables'!$P38","v":56270},{"$f":"'Price tables CPI'!F18*'Bill impact tables'!$O38+'Price tables CPI'!F41*'Bill impact tables'!$O38*'Bill impact tables'!$P38","v":56270},0,null,null,null,1000,1]
[null,null,"Macquarie","$",null,null,null,null,{"$f":"'Price tables CPI'!E19*'Bill impact tables'!$O39+'Price tables CPI'!E42*'Bill impact tables'!$O39*'Bill impact tables'!$P39","v":41820},{"$f":"'Price tables CPI'!F19*'Bill impact tables'!$O39+'Price tables CPI'!F42*'Bill impact tables'!$O39*'Bill impact tables'!$P39","v":41820},0,null,null,null,1000,1]
[null,null,"Murray","$",null,null,null,null,{"$f":"'Price tables CPI'!E20*'Bill impact tables'!$O40+'Price tables CPI'!E43*'Bill impact tables'!$O40*'Bill impact tables'!$P40","v":5190},{"$f":"'Price tables CPI'!F20*'Bill impact tables'!$O40+'Price tables CPI'!F43*'Bill impact tables'!$O40*'Bill impact tables'!$P40","v":5190},0,null,null,null,1000,1]
[null,null,"Murrumbidgee","$",null,null,null,null,{"$f":"'Price tables CPI'!E21*'Bill impact tables'!$O41+'Price tables CPI'!E44*'Bill impact tables'!$O41*'Bill impact tables'!$P41","v":9140},{"$f":"'Price tables CPI'!F21*'Bill impact tables'!$O41+'Price tables CPI'!F44*'Bill impact tables'!$O41*'Bill impact tables'!$P41","v":9140},0,null,null,null,1000,1]
[null,null,"Lowbidgee","$",null,null,null,null,0,0,"N/A",null,null,"GS entitlement charges only",1000,1]
[]
[]
[]
[null,null,"TABLE 4.6 - INDICATIVE BILLS FOR GENERAL SECURITY CUSTOMERS  - WaterNSW CHARGES"]
[null,null,null,null,null,null,null,null,"2021-22","2022-23","Bill analysis of based on ∆ in CPI"]
[]
[]
[null,null,"Small consumption customers"]
[null,null,"Border",{"$f":"D$12","v":"$"},null,null,null,null,{"$f":"'Price tables CPI'!E24*'Bill impact tables'!$O51+'Price tables CPI'!E37*'Bill impact tables'!$O51*'Bill impact tables'!$P51","v":662.8},{"$f":"'Price tables CPI'!F24*'Bill impact tables'!$O51+'Price tables CPI'!F37*'Bill impact tables'!$O51*'Bill impact tables'!$P51","v":662.8},{"$f":"IFERROR(J51/I51-1,\"N/A\")","v":0},null,null,null,100,0.6]
[null,null,"Gwydir","$",null,null,null,null,{"$f":"'Price tables CPI'!E25*'Bill impact tables'!$O52+'Price tables CPI'!E38*'Bill impact tables'!$O52*'Bill impact tables'!$P52","v":1435.4},{"$f":"'Price tables CPI'!F25*'Bill impact tables'!$O52+'Price tables CPI'!F38*'Bill impact tables'!$O52*'Bill impact tables'!$P52","v":1435.4},0,null,null,null,100,0.6]
[null,null,"Namoi","$",null,null,null,null,{"$f":"'Price tables CPI'!E26*'Bill impact tables'!$O53+'Price tables CPI'!E39*'Bill impact tables'!$O53*'Bill impact tables'!$P53","v":2862.8},{"$f":"'Price tables CPI'!F26*'Bill impact tables'!$O53+'Price tables CPI'!F39*'Bill impact tables'!$O53*'Bill impact tables'!$P53","v":2862.8},0,null,null,null,100,0.6]
[null,null,"Peel","$",null,null,null,null,{"$f":"'Price tables CPI'!E27*'Bill impact tables'!$O54+'Price tables CPI'!E40*'Bill impact tables'!$O54*'Bill impact tables'!$P54","v":2052.6},{"$f":"'Price tables CPI'!F27*'Bill impact tables'!$O54+'Price tables CPI'!F40*'Bill impact tables'!$O54*'Bill impact tables'!$P54","v":2052.6},0,null,null,null,100,0.6]
[null,null,"Lachlan","$",null,null,null,null,{"$f":"'Price tables CPI'!E28*'Bill impact tables'!$O55+'Price tables CPI'!E41*'Bill impact tables'!$O55*'Bill impact tables'!$P55","v":2241.1999999999998},{"$f":"'Price tables CPI'!F28*'Bill impact tables'!$O55+'Price tables CPI'!F41*'Bill impact tables'!$O55*'Bill impact tables'!$P55","v":2241.1999999999998},{"$f":"IFERROR(J55/I55-1,\"N/A\")","v":0},null,null,null,100,0.6]
[null,null,"Macquarie","$",null,null,null,null,{"$f":"'Price tables CPI'!E29*'Bill impact tables'!$O56+'Price tables CPI'!E42*'Bill impact tables'!$O56*'Bill impact tables'!$P56","v":1692.3999999999999},{"$f":"'Price tables CPI'!F29*'Bill impact tables'!$O56+'Price tables CPI'!F42*'Bill impact tables'!$O56*'Bill impact tables'!$P56","v":1692.3999999999999},0,null,null,null,100,0.6]
[null,null,"Murray","$",null,null,null,null,{"$f":"'Price tables CPI'!E30*'Bill impact tables'!$O57+'Price tables CPI'!E43*'Bill impact tables'!$O57*'Bill impact tables'!$P57","v":274.79999999999995},{"$f":"'Price tables CPI'!F30*'Bill impact tables'!$O57+'Price tables CPI'!F43*'Bill impact tables'!$O57*'Bill impact tables'!$P57","v":274.79999999999995},0,null,null,null,100,0.6]
[null,null,"Murrumbidgee","$",null,null,null,null,{"$f":"'Price tables CPI'!E31*'Bill impact tables'!$O58+'Price tables CPI'!E44*'Bill impact tables'!$O58*'Bill impact tables'!$P58","v":441.2},{"$f":"'Price tables CPI'!F31*'Bill impact tables'!$O58+'Price tables CPI'!F44*'Bill impact tables'!$O58*'Bill impact tables'!$P58","v":441.2},0,null,null,null,100,0.6]
[null,null,"Lowbidgee*","$",null,null,null,null,{"$f":"'Price tables CPI'!E32*'Bill impact tables'!$O59+'Price tables CPI'!E45*'Bill impact tables'!$O59*'Bill impact tables'!$P59","v":172},{"$f":"'Price tables CPI'!F32*'Bill impact tables'!$O59+'Price tables CPI'!F45*'Bill impact tables'!$O59*'Bill impact tables'!$P59","v":172},0,null,null,null,100,0.6]
[]
[null,null,"Medium consumption customers"]
[null,null,"Border",{"$f":"D$12","v":"$"},null,null,null,null,{"$f":"'Price tables CPI'!E24*'Bill impact tables'!$O62+'Price tables CPI'!E37*'Bill impact tables'!$O62*'Bill impact tables'!$P62","v":3314},{"$f":"'Price tables CPI'!F24*'Bill impact tables'!$O62+'Price tables CPI'!F37*'Bill impact tables'!$O62*'Bill impact tables'!$P62","v":3314},{"$f":"IFERROR(J62/I62-1,\"N/A\")","v":0},null,null,null,500,0.6]
[null,null,"Gwydir","$",null,null,null,null,{"$f":"'Price tables CPI'!E25*'Bill impact tables'!$O63+'Price tables CPI'!E38*'Bill impact tables'!$O63*'Bill impact tables'!$P63","v":7177},{"$f":"'Price tables CPI'!F25*'Bill impact tables'!$O63+'Price tables CPI'!F38*'Bill impact tables'!$O63*'Bill impact tables'!$P63","v":7177},0,null,null,null,500,0.6]
[null,null,"Namoi","$",null,null,null,null,{"$f":"'Price tables CPI'!E26*'Bill impact tables'!$O64+'Price tables CPI'!E39*'Bill impact tables'!$O64*'Bill impact tables'!$P64","v":14314},{"$f":"'Price tables CPI'!F26*'Bill impact tables'!$O64+'Price tables CPI'!F39*'Bill impact tables'!$O64*'Bill impact tables'!$P64","v":14314},0,null,null,null,500,0.6]
[null,null,"Peel","$",null,null,null,null,{"$f":"'Price tables CPI'!E27*'Bill impact tables'!$O65+'Price tables CPI'!E40*'Bill impact tables'!$O65*'Bill impact tables'!$P65","v":10263},{"$f":"'Price tables CPI'!F27*'Bill impact tables'!$O65+'Price tables CPI'!F40*'Bill impact tables'!$O65*'Bill impact tables'!$P65","v":10263},0,null,null,null,500,0.6]
[null,null,"Lachlan","$",null,null,null,null,{"$f":"'Price tables CPI'!E28*'Bill impact tables'!$O66+'Price tables CPI'!E41*'Bill impact tables'!$O66*'Bill impact tables'!$P66","v":11206},{"$f":"'Price tables CPI'!F28*'Bill impact tables'!$O66+'Price tables CPI'!F41*'Bill impact tables'!$O66*'Bill impact tables'!$P66","v":11206},0,null,null,null,500,0.6]
[null,null,"Macquarie","$",null,null,null,null,{"$f":"'Price tables CPI'!E29*'Bill impact tables'!$O67+'Price tables CPI'!E42*'Bill impact tables'!$O67*'Bill impact tables'!$P67","v":8462},{"$f":"'Price tables CPI'!F29*'Bill impact tables'!$O67+'Price tables CPI'!F42*'Bill impact tables'!$O67*'Bill impact tables'!$P67","v":8462},0,null,null,null,500,0.6]
[null,null,"Murray","$",null,null,null,null,{"$f":"'Price tables CPI'!E30*'Bill impact tables'!$O68+'Price tables CPI'!E43*'Bill impact tables'!$O68*'Bill impact tables'!$P68","v":1374},{"$f":"'Price tables CPI'!F30*'Bill impact tables'!$O68+'Price tables CPI'!F43*'Bill impact tables'!$O68*'Bill impact tables'!$P68","v":1374},0,null,null,null,500,0.6]
[null,null,"Murrumbidgee","$",null,null,null,null,{"$f":"'Price tables CPI'!E31*'Bill impact tables'!$O69+'Price tables CPI'!E44*'Bill impact tables'!$O69*'Bill impact tables'!$P69","v":2206},{"$f":"'Price tables CPI'!F31*'Bill impact tables'!$O69+'Price tables CPI'!F44*'Bill impact tables'!$O69*'Bill impact tables'!$P69","v":2206},0,null,null,null,500,0.6]
[null,null,"Lowbidgee*","$",null,null,null,null,{"$f":"'Price tables CPI'!E32*'Bill impact tables'!$O70+'Price tables CPI'!E45*'Bill impact tables'!$O70*'Bill impact tables'!$P70","v":860},{"$f":"'Price tables CPI'!F32*'Bill impact tables'!$O70+'Price tables CPI'!F45*'Bill impact tables'!$O70*'Bill impact tables'!$P70","v":860},0,null,null,null,500,0.6]
[]
[null,null,"Large consumption customers"]
[null,null,"Border",{"$f":"D$12","v":"$"},null,null,null,null,{"$f":"'Price tables CPI'!E24*'Bill impact tables'!$O73+'Price tables CPI'!E37*'Bill impact tables'!$O73*'Bill impact tables'!$P73","v":6628},{"$f":"'Price tables CPI'!F24*'Bill impact tables'!$O73+'Price tables CPI'!F37*'Bill impact tables'!$O73*'Bill impact tables'!$P73","v":6628},{"$f":"IFERROR(J73/I73-1,\"N/A\")","v":0},null,null,null,1000,0.6]
[null,null,"Gwydir","$",null,null,null,null,{"$f":"'Price tables CPI'!E25*'Bill impact tables'!$O74+'Price tables CPI'!E38*'Bill impact tables'!$O74*'Bill impact tables'!$P74","v":14354},{"$f":"'Price tables CPI'!F25*'Bill impact tables'!$O74+'Price tables CPI'!F38*'Bill impact tables'!$O74*'Bill impact tables'!$P74","v":14354},0,null,null,null,1000,0.6]
[null,null,"Namoi","$",null,null,null,null,{"$f":"'Price tables CPI'!E26*'Bill impact tables'!$O75+'Price tables CPI'!E39*'Bill impact tables'!$O75*'Bill impact tables'!$P75","v":28628},{"$f":"'Price tables CPI'!F26*'Bill impact tables'!$O75+'Price tables CPI'!F39*'Bill impact tables'!$O75*'Bill impact tables'!$P75","v":28628},0,null,null,null,1000,0.6]
[null,null,"Peel","$",null,null,null,null,{"$f":"'Price tables CPI'!E27*'Bill impact tables'!$O76+'Price tables CPI'!E40*'Bill impact tables'!$O76*'Bill impact tables'!$P76","v":20526},{"$f":"'Price tables CPI'!F27*'Bill impact tables'!$O76+'Price tables CPI'!F40*'Bill impact tables'!$O76*'Bill impact tables'!$P76","v":20526},0,null,null,null,1000,0.6]
[null,null,"Lachlan",{"$f":"D$12","v":"$"},null,null,null,null,{"$f":"'Price tables CPI'!E28*'Bill impact tables'!$O77+'Price tables CPI'!E41*'Bill impact tables'!$O77*'Bill impact tables'!$P77","v":22412},{"$f":"'Price tables CPI'!F28*'Bill impact tables'!$O77+'Price tables CPI'!F41*'Bill impact tables'!$O77*'Bill impact tables'!$P77","v":22412},0,null,null,null,1000,0.6]
[null,null,"Macquarie","$",null,null,null,null,{"$f":"'Price tables CPI'!E29*'Bill impact tables'!$O78+'Price tables CPI'!E42*'Bill impact tables'!$O78*'Bill impact tables'!$P78","v":16924},{"$f":"'Price tables CPI'!F29*'Bill impact tables'!$O78+'Price tables CPI'!F42*'Bill impact tables'!$O78*'Bill impact tables'!$P78","v":16924},0,null,null,null,1000,0.6]
[null,null,"Murray","$",null,null,null,null,{"$f":"'Price tables CPI'!E30*'Bill impact tables'!$O79+'Price tables CPI'!E43*'Bill impact tables'!$O79*'Bill impact tables'!$P79","v":2748},{"$f":"'Price tables CPI'!F30*'Bill impact tables'!$O79+'Price tables CPI'!F43*'Bill impact tables'!$O79*'Bill impact tables'!$P79","v":2748},0,null,null,null,1000,0.6]
[null,null,"Murrumbidgee","$",null,null,null,null,{"$f":"'Price tables CPI'!E31*'Bill impact tables'!$O80+'Price tables CPI'!E44*'Bill impact tables'!$O80*'Bill impact tables'!$P80","v":4412},{"$f":"'Price tables CPI'!F31*'Bill impact tables'!$O80+'Price tables CPI'!F44*'Bill impact tables'!$O80*'Bill impact tables'!$P80","v":4412},0,null,null,null,1000,0.6]
[null,null,"Lowbidgee*","$",null,null,null,null,{"$f":"'Price tables CPI'!E32*'Bill impact tables'!$O81+'Price tables CPI'!E45*'Bill impact tables'!$O81*'Bill impact tables'!$P81","v":1720},{"$f":"'Price tables CPI'!F32*'Bill impact tables'!$O81+'Price tables CPI'!F45*'Bill impact tables'!$O81*'Bill impact tables'!$P81","v":1720},0,null,null,null,1000,0.6]
[]
[]
[]
[null,null,"TABLE 4.7 - INDICATIVE BILLS FOR HIGH SECURITY AND GENERAL SECURITY CUSTOMERS - MDBA/BRC CHARGES"]
[null,null,null,null,null,null,null,null,"2021-22","2022-23","Bill analysis of based on ∆ in CPI"]
[]
[null,null,"HIGH SECURITY"]
[null,null,"Small consumption customers"]
[null,null,"Border",{"$f":"D$12","v":"$"},null,null,null,null,{"$f":"'Price tables CPI'!E50*'Bill impact tables'!$O90+'Price tables CPI'!E61*'Bill impact tables'!$O90*'Bill impact tables'!$P90","v":570},{"$f":"'Price tables CPI'!F50*'Bill impact tables'!$O90+'Price tables CPI'!F61*'Bill impact tables'!$O90*'Bill impact tables'!$P90","v":570},{"$f":"IFERROR(J90/I90-1,\"N/A\")","v":0},null,null,null,100,1]
[null,null,"Murray",{"$f":"D$12","v":"$"},null,null,null,null,{"$f":"'Price tables CPI'!E51*'Bill impact tables'!$O91+'Price tables CPI'!E62*'Bill impact tables'!$O91*'Bill impact tables'!$P91","v":1049},{"$f":"'Price tables CPI'!F51*'Bill impact tables'!$O91+'Price tables CPI'!F62*'Bill impact tables'!$O91*'Bill impact tables'!$P91","v":1049},{"$f":"IFERROR(J91/I91-1,\"N/A\")","v":0},null,null,null,100,1]
[null,null,"Murrumbidgee",{"$f":"D$12","v":"$"},null,null,null,null,{"$f":"'Price tables CPI'!E52*'Bill impact tables'!$O92+'Price tables CPI'!E63*'Bill impact tables'!$O92*'Bill impact tables'!$P92","v":223},{"$f":"'Price tables CPI'!F52*'Bill impact tables'!$O92+'Price tables CPI'!F63*'Bill impact tables'!$O92*'Bill impact tables'!$P92","v":223},{"$f":"IFERROR(J92/I92-1,\"N/A\")","v":0},null,null,null,100,1]
[]
[null,null,"Medium consumption customers"]
[null,null,"Border",{"$f":"D$12","v":"$"},null,null,null,null,{"$f":"'Price tables CPI'!E50*'Bill impact tables'!$O95+'Price tables CPI'!E61*'Bill impact tables'!$O95*'Bill impact tables'!$P95","v":2850},{"$f":"'Price tables CPI'!F50*'Bill impact tables'!$O95+'Price tables CPI'!F61*'Bill impact tables'!$O95*'Bill impact tables'!$P95","v":2850},{"$f":"IFERROR(J95/I95-1,\"N/A\")","v":0},null,null,null,500,1]
[null,null,"Murray",{"$f":"D$12","v":"$"},null,null,null,null,{"$f":"'Price tables CPI'!E51*'Bill impact tables'!$O96+'Price tables CPI'!E62*'Bill impact tables'!$O96*'Bill impact tables'!$P96","v":5245},{"$f":"'Price tables CPI'!F51*'Bill impact tables'!$O96+'Price tables CPI'!F62*'Bill impact tables'!$O96*'Bill impact tables'!$P96","v":5245},{"$f":"IFERROR(J96/I96-1,\"N/A\")","v":0},null,null,null,500,1]
[null,null,"Murrumbidgee",{"$f":"D$12","v":"$"},null,null,null,null,{"$f":"'Price tables CPI'!E52*'Bill impact tables'!$O97+'Price tables CPI'!E63*'Bill impact tables'!$O97*'Bill impact tables'!$P97","v":1115},{"$f":"'Price tables CPI'!F52*'Bill impact tables'!$O97+'Price tables CPI'!F63*'Bill impact tables'!$O97*'Bill impact tables'!$P97","v":1115},{"$f":"IFERROR(J97/I97-1,\"N/A\")","v":0},null,null,null,500,1]
[]
[null,null,"Large consumption customers"]
[null,null,"Border",{"$f":"D$12","v":"$"},null,null,null,null,{"$f":"'Price tables CPI'!E50*'Bill impact tables'!$O100+'Price tables CPI'!E61*'Bill impact tables'!$O100*'Bill impact tables'!$P100","v":5700},{"$f":"'Price tables CPI'!F50*'Bill impact tables'!$O100+'Price tables CPI'!F61*'Bill impact tables'!$O100*'Bill impact tables'!$P100","v":5700},{"$f":"IFERROR(J100/I100-1,\"N/A\")","v":0},null,null,null,1000,1]
[null,null,"Murray",{"$f":"D$12","v":"$"},null,null,null,null,{"$f":"'Price tables CPI'!E51*'Bill impact tables'!$O101+'Price tables CPI'!E62*'Bill impact tables'!$O101*'Bill impact tables'!$P101","v":10490},{"$f":"'Price tables CPI'!F51*'Bill impact tables'!$O101+'Price tables CPI'!F62*'Bill impact tables'!$O101*'Bill impact tables'!$P101","v":10490},{"$f":"IFERROR(J101/I101-1,\"N/A\")","v":0},null,null,null,1000,1]
[null,null,"Murrumbidgee",{"$f":"D$12","v":"$"},null,null,null,null,{"$f":"'Price tables CPI'!E52*'Bill impact tables'!$O102+'Price tables CPI'!E63*'Bill impact tables'!$O102*'Bill impact tables'!$P102","v":2230},{"$f":"'Price tables CPI'!F52*'Bill impact tables'!$O102+'Price tables CPI'!F63*'Bill impact tables'!$O102*'Bill impact tables'!$P102","v":2230},{"$f":"IFERROR(J102/I102-1,\"N/A\")","v":0},null,null,null,1000,1]
[]
[null,null,"GENERAL SECURITY"]
[null,null,"Small consumption customers"]
[null,null,"Border",{"$f":"D$12","v":"$"},null,null,null,null,{"$f":"'Price tables CPI'!E54*'Bill impact tables'!$O106+'Price tables CPI'!E61*'Bill impact tables'!$O106*'Bill impact tables'!$P106","v":228.6},{"$f":"'Price tables CPI'!F54*'Bill impact tables'!$O106+'Price tables CPI'!F61*'Bill impact tables'!$O106*'Bill impact tables'!$P106","v":228.6},{"$f":"IFERROR(J106/I106-1,\"N/A\")","v":0},null,null,null,100,0.6]
[null,null,"Murray",{"$f":"D$12","v":"$"},null,null,null,null,{"$f":"'Price tables CPI'!E55*'Bill impact tables'!$O107+'Price tables CPI'!E62*'Bill impact tables'!$O107*'Bill impact tables'!$P107","v":491},{"$f":"'Price tables CPI'!F55*'Bill impact tables'!$O107+'Price tables CPI'!F62*'Bill impact tables'!$O107*'Bill impact tables'!$P107","v":491},{"$f":"IFERROR(J107/I107-1,\"N/A\")","v":0},null,null,null,100,0.6]
[null,null,"Murrumbidgee",{"$f":"D$12","v":"$"},null,null,null,null,{"$f":"'Price tables CPI'!E56*'Bill impact tables'!$O108+'Price tables CPI'!E63*'Bill impact tables'!$O108*'Bill impact tables'!$P108","v":86.2},{"$f":"'Price tables CPI'!F56*'Bill impact tables'!$O108+'Price tables CPI'!F63*'Bill impact tables'!$O108*'Bill impact tables'!$P108","v":86.2},{"$f":"IFERROR(J108/I108-1,\"N/A\")","v":0},null,null,null,100,0.6]
[]
[null,null,"Medium consumption customers"]
[null,null,"Border",{"$f":"D$12","v":"$"},null,null,null,null,{"$f":"'Price tables CPI'!E54*'Bill impact tables'!$O111+'Price tables CPI'!E61*'Bill impact tables'!$O111*'Bill impact tables'!$P111","v":1143},{"$f":"'Price tables CPI'!F54*'Bill impact tables'!$O111+'Price tables CPI'!F61*'Bill impact tables'!$O111*'Bill impact tables'!$P111","v":1143},{"$f":"IFERROR(J111/I111-1,\"N/A\")","v":0},null,null,null,500,0.6]
[null,null,"Murray",{"$f":"D$12","v":"$"},null,null,null,null,{"$f":"'Price tables CPI'!E55*'Bill impact tables'!$O112+'Price tables CPI'!E62*'Bill impact tables'!$O112*'Bill impact tables'!$P112","v":2455},{"$f":"'Price tables CPI'!F55*'Bill impact tables'!$O112+'Price tables CPI'!F62*'Bill impact tables'!$O112*'Bill impact tables'!$P112","v":2455},{"$f":"IFERROR(J112/I112-1,\"N/A\")","v":0},null,null,null,500,0.6]
[null,null,"Murrumbidgee",{"$f":"D$12","v":"$"},null,null,null,null,{"$f":"'Price tables CPI'!E56*'Bill impact tables'!$O113+'Price tables CPI'!E63*'Bill impact tables'!$O113*'Bill impact tables'!$P113","v":431},{"$f":"'Price tables CPI'!F56*'Bill impact tables'!$O113+'Price tables CPI'!F63*'Bill impact tables'!$O113*'Bill impact tables'!$P113","v":431},{"$f":"IFERROR(J113/I113-1,\"N/A\")","v":0},null,null,null,500,0.6]
[]
[null,null,"Large consumption customers"]
[null,null,"Border",{"$f":"D$12","v":"$"},null,null,null,null,{"$f":"'Price tables CPI'!E54*'Bill impact tables'!$O116+'Price tables CPI'!E61*'Bill impact tables'!$O116*'Bill impact tables'!$P116","v":2286},{"$f":"'Price tables CPI'!F54*'Bill impact tables'!$O116+'Price tables CPI'!F61*'Bill impact tables'!$O116*'Bill impact tables'!$P116","v":2286},{"$f":"IFERROR(J116/I116-1,\"N/A\")","v":0},null,null,null,1000,0.6]
[null,null,"Murray",{"$f":"D$12","v":"$"},null,null,null,null,{"$f":"'Price tables CPI'!E55*'Bill impact tables'!$O117+'Price tables CPI'!E62*'Bill impact tables'!$O117*'Bill impact tables'!$P117","v":4910},{"$f":"'Price tables CPI'!F55*'Bill impact tables'!$O117+'Price tables CPI'!F62*'Bill impact tables'!$O117*'Bill impact tables'!$P117","v":4910},{"$f":"IFERROR(J117/I117-1,\"N/A\")","v":0},null,null,null,1000,0.6]
[null,null,"Murrumbidgee",{"$f":"D$12","v":"$"},null,null,null,null,{"$f":"'Price tables CPI'!E56*'Bill impact tables'!$O118+'Price tables CPI'!E63*'Bill impact tables'!$O118*'Bill impact tables'!$P118","v":862},{"$f":"'Price tables CPI'!F56*'Bill impact tables'!$O118+'Price tables CPI'!F63*'Bill impact tables'!$O118*'Bill impact tables'!$P118","v":862},{"$f":"IFERROR(J118/I118-1,\"N/A\")","v":0},null,null,null,1000,0.6]
[]
[]
[]
[null,null,"TABLE 4.8 - INDICATIVE BILLS FOR CUSTOMERS IN THE FRWS"]
[null,null,null,null,null,null,null,null,"2021-22","2022-23","Bill analysis of based on ∆ in CPI"]
[]
[]
[null,null,"Note: indicative bills for FRWS customers based on total usage in each customer class / customers within class."]
[null,null,"Energy Australia",{"$f":"D$12","v":"$"},null,null,null,null,{"$f":"('Price tables CPI'!E102*'FRWS calcs'!$H$14+'Price tables CPI'!E107*'FRWS calcs'!$H$25+'Price tables CPI'!E112*'FRWS calcs'!$H$30)*1000","v":4597920.6240000008},{"$f":"('Price tables CPI'!F102*'FRWS calcs'!$H$14+'Price tables CPI'!F107*'FRWS calcs'!$H$25+'Price tables CPI'!F112*'FRWS calcs'!$H$30)*1000","v":4597920.6240000008},{"$f":"IFERROR(J127/I127-1,\"N/A\")","v":0},null,null,null,"Based on FY23 forecast volumes and MAQs"]
[null,null,"Raw water - minor customer",{"$f":"D$12","v":"$"},null,null,null,null,{"$f":"('Price tables CPI'!E105*'FRWS calcs'!$H$15+'Price tables CPI'!E110*'FRWS calcs'!$H$26+'Price tables CPI'!E115*'FRWS calcs'!$H$31)/'Updated Volumes'!$AB$120*1000","v":483.4974482758621},{"$f":"('Price tables CPI'!F105*'FRWS calcs'!$H$15+'Price tables CPI'!F110*'FRWS calcs'!$H$26+'Price tables CPI'!F115*'FRWS calcs'!$H$31)/'Updated Volumes'!$AB$120*1000","v":483.49744827586198},{"$f":"IFERROR(J128/I128-1,\"N/A\")","v":-2.2204460492503131E-16}]
[null,null,"Filtered water - minor customer",{"$f":"D$12","v":"$"},null,null,null,null,{"$f":"('Price tables CPI'!E122*'FRWS calcs'!$H$16+'Price tables CPI'!E125*'FRWS calcs'!$H$27+'Price tables CPI'!E128*'FRWS calcs'!$H$32)/'Updated Volumes'!$AB$121*1000","v":597.39903218884126},{"$f":"('Price tables CPI'!F122*'FRWS calcs'!$H$16+'Price tables CPI'!F125*'FRWS calcs'!$H$27+'Price tables CPI'!F128*'FRWS calcs'!$H$32)/'Updated Volumes'!$AB$121*1000","v":597.39903218884126},{"$f":"IFERROR(J129/I129-1,\"N/A\")","v":0}]

{"sheet":"Consumption forecast tables","index":12,"n_rows":70,"n_cols":13,"rows_kept":70,"cut":false,"hidden":true,"merged":[[31,10,32,10],[31,1,32,1],[31,2,31,5],[31,6,32,6],[31,7,32,7],[31,8,32,8],[31,9,32,9]]}
[]
[]
[null,"WaterNSW’s forecast of demand for, or consumption of, infrastructure services for the 2022-23 financial year"]
[]
[null,"2022-23 expected demand"]
[null,"Valley","Usage","Entitlement volumes* "]
[null,"Border",{"$f":"'Updated Volumes'!AB20","v":133341.98300000001},{"$f":"'Updated Volumes'!AB41+'Updated Volumes'!AB52+'Updated Volumes'!AB63","v":266359}]
[null,"Gwydir",{"$f":"'Updated Volumes'!AB21","v":209344.94},{"$f":"'Updated Volumes'!AB42+'Updated Volumes'!AB53+'Updated Volumes'!AB64","v":536884.9}]
[null,"Namoi",{"$f":"'Updated Volumes'!AB22","v":131738.60500000001},{"$f":"'Updated Volumes'!AB43+'Updated Volumes'!AB54+'Updated Volumes'!AB65","v":265531.7}]
[null,"Peel",{"$f":"'Updated Volumes'!AB23","v":12429.869500000001},{"$f":"'Updated Volumes'!AB44+'Updated Volumes'!AB55+'Updated Volumes'!AB66","v":46678}]
[null,"Lachlan",{"$f":"'Updated Volumes'!AB24","v":169332.16299999997},{"$f":"'Updated Volumes'!AB45+'Updated Volumes'!AB56+'Updated Volumes'!AB67","v":690435}]
[null,"Macquarie",{"$f":"'Updated Volumes'!AB25","v":216717.58599999998},{"$f":"'Updated Volumes'!AB46+'Updated Volumes'!AB57+'Updated Volumes'!AB68","v":675135}]
[null,"Murray",{"$f":"'Updated Volumes'!AB26","v":1334267.5226470593},{"$f":"'Updated Volumes'!AB47+'Updated Volumes'!AB58+'Updated Volumes'!AB69","v":2360497.2999999998}]
[null,"Murrumbidgee",{"$f":"'Updated Volumes'!AB27","v":1516646.6497058824},{"$f":"'Updated Volumes'!AB48+'Updated Volumes'!AB59+'Updated Volumes'!AB70","v":2705470}]
[null,"Lowbidgee","N/A",{"$f":"'Updated Volumes'!AB49+'Updated Volumes'!AB60+'Updated Volumes'!AB71","v":747000}]
[null,"Total",{"$f":"SUM(C7:C14)","v":3723819.3188529415},{"$f":"SUM(D7:D15)","v":8293990.9000000004}]
[]
[]
[]
[]
[null,"Fish River – Energy Australia",{"$f":"'Updated Volumes'!AB31/1000","v":1781.0928000000001},{"$f":"'Updated Volumes'!AB124","v":8184}]
[null,"Fish River – Raw Water Minor customers",{"$f":"'Updated Volumes'!AB32","v":51.297899999999991},{"$f":"'Updated Volumes'!AB125","v":17.400000000000002}]
[null,"Fish River – Filtered Water Minor customers",{"$f":"'Updated Volumes'!AB33","v":100.13955000000001},{"$f":"'Updated Volumes'!AB126","v":46.6}]
[null,"Total",{"$f":"SUM(C21:C23)","v":1932.5302500000003},{"$f":"SUM(D21:D23)","v":8248}]
[]
[]
[]
[]
[]
[null,"Updated HS Premium"]
[]
[null,"Valley","Updated 20-year average of actual annual water allocations",null,null,null,"Reliability Ratio",null,"Conversion factor",null,"High Security Premium"]
[null,null,"HS Licences",null,"GS Licences "]
[null,"Border",{"$f":"'MDB calcs'!H71","v":1.000016020506248},"/",{"$f":"'MDB calcs'!H60","v":0.43310133154527258},"=",{"$f":"C34/E34","v":2.3089654722100876},"X",{"$f":"'2021 Determination Revenue'!H107","v":1.25},"=",{"$f":"G34*I34","v":2.8862068402626093},null,{"$f":"K34='MDB calcs'!H112","v":true}]
[null,"Gwydir",{"$f":"'MDB calcs'!H72","v":0.99987741410629316},"/",{"$f":"'MDB calcs'!H61","v":0.30723833502959741},"=",{"$f":"C35/E35","v":3.2544031785941403},"X",{"$f":"'2021 Determination Revenue'!H108","v":1.3973221876662663},"=",{"$f":"G35*I35","v":4.547449769061215},null,{"$f":"K35='MDB calcs'!H113","v":true}]
[null,"Namoi",{"$f":"'MDB calcs'!H73","v":1.0000902323482967},"/",{"$f":"'MDB calcs'!H62","v":0.38813939359058758},"=",2.576626461686081,"X",{"$f":"'2021 Determination Revenue'!H109","v":1.25},"=",3.2207830771076011,null,{"$f":"K36='MDB calcs'!H114","v":true}]
[null,"Peel",{"$f":"'MDB calcs'!H74","v":0.96899999999999997},"/",{"$f":"'MDB calcs'!H63","v":0.55285006572893391},"=",1.7527356150756201,"X",{"$f":"'2021 Determination Revenue'!H110","v":6.5419452232046584},"=",11.466300384584633,null,{"$f":"K37='MDB calcs'!H115","v":true}]
[null,"Lachlan",{"$f":"'MDB calcs'!H75","v":0.82218759622145221},"/",{"$f":"'MDB calcs'!H64","v":0.2599321138961258},"=",3.1630858684510801,"X",{"$f":"'2021 Determination Revenue'!H111","v":2.4952177609078148},"=",7.8925880382356546,null,{"$f":"K38='MDB calcs'!H116","v":true}]
[null,"Macquarie",{"$f":"'MDB calcs'!H76","v":0.9999946310895288},"/",{"$f":"'MDB calcs'!H65","v":0.30253018759898753},"=",3.3054375136112051,"X",{"$f":"'2021 Determination Revenue'!H112","v":1.8848346670243046},"=",6.2302032153370206,null,{"$f":"K39='MDB calcs'!H117","v":true}]
[null,"Murray",{"$f":"'MDB calcs'!H77","v":0.94481241191776566},"/",{"$f":"'MDB calcs'!H66","v":0.51440439295202622},"=",1.8367113983917311,"X",{"$f":"'2021 Determination Revenue'!H113","v":1.308492141839708},"=",2.4033224316230015,null,{"$f":"K40='MDB calcs'!H118","v":true}]
[null,"Murrumbidgee",{"$f":"'MDB calcs'!H78","v":0.96618488094668087},"/",{"$f":"'MDB calcs'!H67","v":0.53946303236490967},"=",1.7910122158159731,"X",{"$f":"'2021 Determination Revenue'!H114","v":1.6929690711534331},"=",3.03212828743442,null,{"$f":"K41='MDB calcs'!H119","v":true}]
[]
[]
[]
[]
[]
[]
[null,"WaterNSW’s estimate of demand or consumption for infrastructure services for the current, 2021-22 financial year"]
[]
[]
[]
[null,"Valley","2021-22 Year End Usage","2021-22 YTD Entitlements*"]
[null,"Border",{"$f":"'Updated Volumes'!AA20","v":139453.17299999995},{"$f":"'Updated Volumes'!AA41+'Updated Volumes'!AA52+'Updated Volumes'!AA63","v":266359}]
[null,"Gwydir",{"$f":"'Updated Volumes'!AA21","v":220489.07500000004},{"$f":"'Updated Volumes'!AA42+'Updated Volumes'!AA53+'Updated Volumes'!AA64","v":536885}]
[null,"Namoi",{"$f":"'Updated Volumes'!AA22","v":138240.94949999999},{"$f":"'Updated Volumes'!AA43+'Updated Volumes'!AA54+'Updated Volumes'!AA65","v":265532}]
[null,"Peel",{"$f":"'Updated Volumes'!AA23","v":12624.954500000002},{"$f":"'Updated Volumes'!AA44+'Updated Volumes'!AA55+'Updated Volumes'!AA66","v":46678}]
[null,"Lachlan",{"$f":"'Updated Volumes'!AA24","v":182100.32299999997},{"$f":"'Updated Volumes'!AA45+'Updated Volumes'!AA56+'Updated Volumes'!AA67","v":690435}]
[null,"Macquarie",{"$f":"'Updated Volumes'!AA25","v":232544.636},{"$f":"'Updated Volumes'!AA46+'Updated Volumes'!AA57+'Updated Volumes'!AA68","v":675129}]
[null,"Murray",{"$f":"'Updated Volumes'!AA26","v":1379454.1000000003},{"$f":"'Updated Volumes'!AA47+'Updated Volumes'!AA58+'Updated Volumes'!AA69","v":2350785}]
[null,"Murrumbidgee",{"$f":"'Updated Volumes'!AA27","v":1531632.03125},{"$f":"'Updated Volumes'!AA48+'Updated Volumes'!AA59+'Updated Volumes'!AA70","v":2705467}]
[null,"Lowbidgee","N/A",{"$f":"'Updated Volumes'!AA49+'Updated Volumes'!AA60+'Updated Volumes'!AA71","v":747000}]
[null,"Total",{"$f":"SUM(C53:C60)","v":3836539.2422500001},{"$f":"SUM(D53:D61)","v":8284270}]
[]
[]
[]
[]
[null,"Fish River – Energy Australia",{"$f":"'Updated Volumes'!AA31/1000","v":1849.8113000000001},{"$f":"'Updated Volumes'!AA124","v":8184}]
[null,"Fish River – Raw Water Minor customers",{"$f":"'Updated Volumes'!AA32","v":51.160800000000002},{"$f":"'Updated Volumes'!AA125","v":17.400000000000002}]
[null,"Fish River – Filtered Water Minor customers",{"$f":"'Updated Volumes'!AA33","v":102.73255},{"$f":"'Updated Volumes'!AA126","v":46.6}]
[null,"Total",{"$f":"SUM(C67:C69)","v":2003.7046500000001},{"$f":"SUM(D67:D69)","v":8248}]

{"sheet":"WaterNSW data inputs","index":13,"n_rows":180,"n_cols":34,"rows_kept":180,"cut":false,"hidden":true,"merged":[]}
[null,null,null,"1996-97","1997-98","1998-99","1999-2000","2000-01","2001-02","2002-03","2003-04","2004-05","2005-06","2006-07","2007-08","2008-09","2009-10","2010-11","2011-12","2012-13","2013-14","2014-15","2015-16","2016-17","2017-18","2018-19","2019-20","2020-21","2021-22 YTD"]
[]
[null,"Murray Darling Basin and Coastal Valleys"]
[]
[null,"HS Entitlements"]
[null,"Border","ML",null,null,null,null,null,null,null,null,null,null,null,null,null,null,null,null,null,null,3122,3121,3141,3141,3141,3141,3141,3141]
[null,"Gwydir","ML",null,null,null,null,null,null,null,null,null,null,null,null,null,null,null,null,null,null,26839.9,26919.9,26919.9,26920,26920,26920,27219.9,27220]
[null,"Namoi","ML",null,null,null,null,null,null,null,null,null,null,null,null,null,null,null,null,null,null,8882,8866,8866,8866,8866,8859,8841,8841]
[null,"Peel","ML",null,null,null,null,null,null,null,null,null,null,null,null,null,null,null,null,null,null,17367,17367,17367,17367,17367,17367,17367,17367]
[null,"Lachlan","ML",null,null,null,null,null,null,null,null,null,null,null,null,null,null,null,null,null,null,57512.000000000007,57304,57301,57252,57296,57269,57269,57269]
[null,"Macquarie","ML",null,null,null,null,null,null,null,null,null,null,null,null,null,null,null,null,null,null,42720.5,42712,42688,42691,42666,42672,42669,42663]
[null,"Murray","ML",null,null,null,null,null,null,null,null,null,null,null,null,null,null,null,null,null,null,261515,263603.09999999998,263590.09999999998,263575,267499,276920,276894.3,267182]
[null,"Murrumbidgee","ML",null,null,null,null,null,null,null,null,null,null,null,null,null,null,null,null,null,null,438310.60000000009,438327.60000000009,438327.6,438328,441723,440472,440475,440472]
[null,"Lowbidgee","ML"]
[null,"North Coast","ML",null,null,null,null,null,null,null,null,null,null,null,null,null,null,null,null,null,null,137,137,137]
[null,"Hunter","ML",null,null,null,null,null,null,null,null,null,null,null,null,null,null,null,null,null,null,70729,70714,70714]
[null,"South Coast","ML",null,null,null,null,null,null,null,null,null,null,null,null,null,null,null,null,null,null,1175,1175,1175]
[null,"Total","ML",null,null,null,null,null,null,null,null,null,null,null,null,null,null,null,null,null,null,{"$f":"SUM(V6:V17)","v":928310.00000000012},{"$f":"SUM(W6:W17)","v":930246.60000000009},{"$f":"SUM(X6:X17)","v":930226.6}]
[]
[null,"GS Entitlements"]
[null,"Border","ML",null,null,null,null,null,null,null,null,null,null,null,null,null,null,null,null,null,null,263238,263238,263218,263218,263218,263218,263218,263218]
[null,"Gwydir","ML",null,null,null,null,null,null,null,null,null,null,null,null,null,null,null,null,null,null,509665,509665,509665,509665,509665,509665,509665,509665]
[null,"Namoi","ML",null,null,null,null,null,null,null,null,null,null,null,null,null,null,null,null,null,null,256211.5,256211.5,256211.5,256529,256529,256529,256690.7,256691]
[null,"Peel","ML",null,null,null,null,null,null,null,null,null,null,null,null,null,null,null,null,null,null,30428,30428,30428,29635,29635,29635,29311,29311]
[null,"Lachlan","ML",null,null,null,null,null,null,null,null,null,null,null,null,null,null,null,null,null,null,633346.39999999991,633166.39999999991,633166.4,633166,633166,633166,633166,633166]
[null,"Macquarie","ML",null,null,null,null,null,null,null,null,null,null,null,null,null,null,null,null,null,null,632466,632466.10000000009,632466.1,632466,632466,632466,632466,632466]
[null,"Murray","ML",null,null,null,null,null,null,null,null,null,null,null,null,null,null,null,null,null,null,2081289.0999999999,2083271.0999999999,2083271.1,2083603,2083603,2083603,2083603,2083603]
[null,"Murrumbidgee","ML",null,null,null,null,null,null,null,null,null,null,null,null,null,null,null,null,null,null,2267962.6,2267962.6000000006,2267962.6,2267963,2267963,2264995,2264995,2264995]
[null,"Lowbidgee","ML",null,null,null,null,null,null,null,null,null,null,null,null,null,null,null,null,null,null,747000,747000,747000,null,null,null,null,null,"Lowbidgee supplementary entitlements"]
[null,"North Coast","ML",null,null,null,null,null,null,null,null,null,null,null,null,null,null,null,null,null,null,9933,9531,9531]
[null,"Hunter","ML",null,null,null,null,null,null,null,null,null,null,null,null,null,null,null,null,null,null,137573,138109.09999999998,138109.1]
[null,"South Coast","ML",null,null,null,null,null,null,null,null,null,null,null,null,null,null,null,null,null,null,13946,13946,13946]
[null,"Total","ML",null,null,null,null,null,null,null,null,null,null,null,null,null,null,null,null,null,null,{"$f":"SUM(V21:V32)","v":7583058.5999999996},{"$f":"SUM(W21:W32)","v":7584994.7999999998},{"$f":"SUM(X21:X32)","v":7584974.7999999989}]
[]
[null,"Supplementary Entitlements"]
[null,"Border","ML",null,null,null,null,null,null,null,null,null,null,null,null,null,null,null,null,null,null,120001,120000.99999999999,null,120001,120001,120001,120001,120001]
[null,"Gwydir","ML",null,null,null,null,null,null,null,null,null,null,null,null,null,null,null,null,null,null,180046.80000000002,181397.80000000008,null,181398,181398,181398,181398,181398]
[null,"Namoi","ML",null,null,null,null,null,null,null,null,null,null,null,null,null,null,null,null,null,null,115479.7,115479.7,null,115480,115480,115480,115480,115480]
[null,"Peel","ML",null,null,null,null,null,null,null,null,null,null,null,null,null,null,null,null,null,null,null,null,null,0,0,"-","-","-"]
[null,"Lachlan","ML",null,null,null,null,null,null,null,null,null,null,null,null,null,null,null,null,null,null,3125,3125,null,3125,3125,3125,3125,3125]
[null,"Macquarie","ML",null,null,null,null,null,null,null,null,null,null,null,null,null,null,null,null,null,null,49999.299999999952,49998.399999999943,null,49998,49998,49998,49998,49998]
[null,"Murray","ML",null,null,null,null,null,null,null,null,null,null,null,null,null,null,null,null,null,null,502579,502579,null,502579,502579,502579,502579,502579]
[null,"Murrumbidgee","ML",null,null,null,null,null,null,null,null,null,null,null,null,null,null,null,null,null,null,198779.99999999994,198779.99999999997,null,198780,198780,201748,201748,201748,"Includes 2968ML Conveyance"]
[null,"Lowbidgee","ML"]
[null,"North Coast","ML"]
[null,"Hunter","ML",null,null,null,null,null,null,null,null,null,null,null,null,null,null,null,null,null,null,49274.999999999993,49274.999999999993]
[null,"South Coast","ML",null,null,null,null,null,null,null,null,null,null,null,null,null,null,null,null,null,null,1300,1300]
[null,"Total","ML",null,null,null,null,null,null,null,null,null,null,null,null,null,null,null,null,null,null,{"$f":"SUM(V36:V47)","v":1220585.8},{"$f":"SUM(W36:W47)","v":1221935.8999999999},{"$f":"SUM(X36:X47)","v":0}]
[null,null,null,null,null,null,null,null,null,null,null,null,null,null,null,null,null,null,null,null,null,null,null,null,null,null,null,null,null,null,"20 year rolling averages"]
[null,"Total Usage (including Interstate trade usage)",null,{"$f":"D1","v":"1996-97"},{"$f":"E1","v":"1997-98"},"1998-99","1999-2000","2000-01","2001-02","2002-03","2003-04","2004-05","2005-06","2006-07","2007-08","2008-09","2009-10","2010-11","2011-12","2012-13","2013-14","2014-15","2015-16","2016-17","2017-18","2018-19","2019-20","2020-21","2021-22 YTD",null,"To 2017-18","To 2018-19","To 2019-20","To 2020-21"]
[null,"Border","ML",169812,187883,164331,180863,231793,182622,123803,100542.36,107564,134417,131934,112269,117688,{"$f":"100850+Q111","v":110391.2},{"$f":"163725+R111","v":187024.6},{"$f":"134200+S111","v":160312},{"$f":"197869+T111","v":220696},197467.59999999998,41672.9,100403.8,232303.30000000002,139604.9,145591.30000000002,10963.5,109569.2,null,null,{"$f":"AVERAGE(F51:Y51)","v":148885.13299999997},147948.14799999999,139453.17299999995,{"$f":"AVERAGE(I51:AB51)","v":133341.98300000001}]
[null,"Gwydir","ML",394616,454913,374762,417837,425315,443145,278986,159250,154840,218496,129467,79132,143199,46959,245148,200724.1,428699.4,408995.39999999997,153199.6,85020.5,332713,315045.70000000007,121129.9,40316.9,202432.30000000002,null,null,252046.685,239365.08000000002,220489.07500000004,{"$f":"AVERAGE(I52:AB52)","v":209344.94}]
[null,"Namoi","ML",198965.3,323274.03000000003,216487.31,246477.68,248842.49,280339.88,236853.11,80652.710000000006,96650,141325.29999999999,66558.5,51211.6,97482,75152,149958,128271.7,281246.7,271541.50000000006,66353.899999999994,38334.799999999996,213598,180155.6,47490.3,12800.900000000001,118795.6,null,null,158374.63900000002,149924.7885,138240.94949999999,{"$f":"AVERAGE(I53:AB53)","v":131738.60500000001}]
[null,"Peel","ML",5641,16020,5561,7309,10241,14671,21805,13325,15165,14753,9718,9080,10183,17517,6915,4218.7,13317.1,17412.7,6052.9000000000005,11011.499999999998,10365.900000000001,22083.99,18581.800000000003,6081.5,6339.2999999999993,null,null,12035.289500000001,12686.329500000002,12624.954500000002,{"$f":"AVERAGE(I54:AB54)","v":12429.869500000001}]
[null,"Lachlan","ML",436000,414000,278000,285000,407000,439572.22,237252.44,43509.97,21164.7,112435.93,57260.200000000004,30776.5,27797.599999999999,11786.7,85698.8,212768.7,394082.4,248401.7,178283.19999999998,199222.9,206757.9,347405.69999999995,278111.3,102717.6,151636.79999999999,null,null,191208.87799999997,191214.44299999997,182100.32299999997,{"$f":"AVERAGE(I55:AB55)","v":169332.16299999997}]
[null,"Macquarie","ML",348937,403989,336071,385748,464188,545663.54,375914.33,174168.35,63783.6,180723,204745,30867,65439,73820,203146,296617.90000000002,558856.4,268934.09999999998,90827.299999999988,109532.90000000001,232194,399824.6,255839.3,55808.4,147647,null,null,253053.20099999997,249041.61599999998,232544.636,216717.58599999998]
[null,"Murray","ML",{"$f":"2372284+D117","v":2562629.4176470591},{"$f":"1972013+E117","v":2162358.4176470591},{"$f":"2063827+F117","v":2254172.4176470591},{"$f":"1252922+G117","v":1443267.4176470588},{"$f":"2224902+H117","v":2415247.4176470591},{"$f":"2076048+I117","v":2266393.4176470591},{"$f":"969209+J117","v":1159554.4176470588},{"$f":"1306721+K117","v":1497066.4176470588},{"$f":"1256888.7+L117","v":1284123.7},{"$f":"1646675.7+M117","v":1692042.2},{"$f":"559125.4+N117","v":602536.1},{"$f":"226167.1+O117","v":289197.3},{"$f":"302728.2+P117","v":501322.4},{"$f":"414627.3+Q117","v":679952.1},{"$f":"767695.3+R117","v":960984.60000000009},{"$f":"1667077.1+S117","v":1848920.7000000002},{"$f":"2126107.4+T117","v":2514563.6999999997},{"$f":"1721268.6+U117","v":2056232.1},{"$f":"1324505.1+V117","v":1764682.1},{"$f":"866584+W117","v":1103217.1000000001},1877178.8,1701381.0999999999,768313.29999999993,634902.80000000005,1482786.0999999999,null,null,1495601.7752941179,1421308.8194117651,1380890.5885294122,1334267.5226470593]
[null,"Murrumbidgee","ML",{"$f":"2611000+D118","v":2671081.3647058825},{"$f":"2442000+E118","v":2502081.3647058825},{"$f":"2119000+F118","v":2179081.3647058825},{"$f":"1713000+G118","v":1773081.3647058823},{"$f":"2198000+H118","v":2258081.3647058825},{"$f":"2254000+I118","v":2314081.3647058825},{"$f":"1730000+J118","v":1790081.3647058823},{"$f":"1655000+K118","v":1715081.3647058823},{"$f":"1533347.1+L118","v":1534368.1},{"$f":"1933143.7+M118","v":1938642.7},{"$f":"920634.7+N118","v":952257.7},{"$f":"458017.3+O118","v":566132.6},{"$f":"568580.5+P118","v":929755.50000000012},{"$f":"823399.1+Q118","v":893689.5},{"$f":"1279794.6+R118","v":1364777.6},{"$f":"1738400.1+S118","v":1739421.3},{"$f":"2276756.1+T118","v":2353487.6},{"$f":"1681318.3+U118","v":1777486.6},{"$f":"1787328.2+V118","v":1883941.7999999998},{"$f":"1381017.5+W118","v":1419128.5},1902516.4,1715237.9,1012155.8,558857.80000000005,1971831.5,null,null,1650016.5994117649,1591670.3211764707,1530959.1429411764,1516646.6497058824]
[null,"Lowbidgee","ML",null,null,null,null,null,null,null,null,null,null,null,null,null,null,null,null,92544,8392,82587,12840,59350]
[null,"North Coast","ML",null,null,null,null,null,null,null,null,767,767,1030.5,786,438.7,943.30000000000007,55.3,104,476,953.4,102,414.5,300.8]
[null,"Hunter","ML",150067,168767,102505,118977,94735,110970,181423,142400,122665,159824.69999999998,101193.8,106795.1,112014.39999999999,115810.90000000001,117117,112713,124313.9,118474.29999999999,101450.40000000001,109614.09999999998,105140.79999999999]
[null,"South Coast","ML",null,null,null,null,null,null,null,null,6238,6328,5822.8,5623,5966.7,2006.1399999999999,394,1546.8,3673.4,3642.9,2129.8000000000002,2132.4,4109.3]
[null,"Total","ML",{"$f":"SUM(D51:D62)","v":6937749.0823529419},6633285.8123529423,5910971.0923529416,4858560.4623529408,6555443.2723529413,6597458.4223529417,4405672.662352941,3925996.1723529408,3407329.1,4599754.83,2262523.5999999996,1281870.1000000001,2011286.2999999998,2028027.8399999999,3321218.9,4705618.9000000004,6985956.5999999996,5377934.3000000007,4371282.9000000004,3190873,5176528.2,null,null,null,null,null,null,{"$f":"SUM(AE51:AE62)","v":4161222.200205883},{"$f":"SUM(AF51:AF62)","v":4003159.5455882358},3837302.8424705886,{"$f":"SUM(AH51:AH62)","v":3723819.3188529415}]
[]
[null,"HS Usage",null,null,null,null,null,null,null,null,null,null,null,null,null,null,null,null,null,null,null,null,null,null,null,null,null,null,null,null,null,null,"2021 RV Determination"]
[null,"Border","ML",null,null,null,null,null,null,null,null,null,null,null,null,null,null,null,null,null,null,null,null,null,null,null,null,null,null,null,null,null,139453.17299999995]
[null,"Gwydir","ML",null,null,null,null,null,null,null,null,null,null,null,null,null,null,null,null,null,null,null,null,null,null,null,null,null,null,null,null,null,220489.07500000004]
[null,"Namoi","ML",null,null,null,null,null,null,null,null,null,null,null,null,null,null,null,null,null,null,null,null,null,null,null,null,null,null,null,null,null,138240.94949999999]
[null,"Peel","ML",null,null,null,null,null,null,null,null,null,null,null,null,null,null,null,null,null,null,null,null,null,null,null,null,null,null,null,null,null,12624.954500000002]
[null,"Lachlan","ML",null,null,null,null,null,null,null,null,null,null,null,null,null,null,null,null,null,null,null,null,null,null,null,null,null,null,null,null,null,182100.32299999997]
[null,"Macquarie","ML",null,null,null,null,null,null,null,null,null,null,null,null,null,null,null,null,null,null,null,null,null,null,null,null,null,null,null,null,null,232544.636]
[null,"Murray","ML",null,null,null,null,null,null,null,null,null,null,null,null,null,null,null,null,null,null,null,null,null,null,null,null,null,null,null,null,null,1379454.1000000003]
[null,"Murrumbidgee","ML",null,null,null,null,null,null,null,null,null,null,null,null,null,null,null,null,null,null,null,null,null,null,null,null,null,null,null,null,null,1531632.03125]
[null,"Lowbidgee","ML"]
[null,"North Coast","ML"]
[null,"Hunter","ML"]
[null,"South Coast","ML"]
[null,"Total","ML",null,null,null,null,null,null,null,null,null,null,null,null,null,null,null,null,null,null,null,null,null,null,null,null,null,null,null,null,null,3836539.2422500001]
[]
[null,"GS Usage"]
[null,"Border","ML"]
[null,"Gwydir","ML"]
[null,"Namoi","ML"]
[null,"Peel","ML"]
[null,"Lachlan","ML"]
[null,"Macquarie","ML"]
[null,"Murray","ML"]
[null,"Murrumbidgee","ML"]
[null,"Lowbidgee","ML"]
[null,"North Coast","ML"]
[null,"Hunter","ML"]
[null,"South Coast","ML"]
[null,"Total","ML"]
[]
[null,"Supplementary Usage"]
[null,"Border","ML"]
[null,"Gwydir","ML"]
[null,"Namoi","ML"]
[null,"Peel","ML"]
[null,"Lachlan","ML"]
[null,"Macquarie","ML"]
[null,"Murray","ML"]
[null,"Murrumbidgee","ML"]
[null,"Lowbidgee","ML"]
[null,"North Coast","ML"]
[null,"Hunter","ML"]
[null,"South Coast","ML"]
[null,"Total","ML"]
[]
[null,"Interstate Trade Usage"]
[null,"Border","ML",0,0,0,0,0,0,0,0,0,0,0,0,0,9541.2000000000007,23299.599999999999,26112,22827,28028.1,2014,8825.7999999999993,10339,6667,4657.4999999999991,214,{"$f":"123.3+1240.9","v":1364.2}]
[null,"Gwydir","ML"]
[null,"Namoi","ML"]
[null,"Peel","ML"]
[null,"Lachlan","ML"]
[null,"Macquarie","ML"]
[null,"Murray","ML",{"$f":"AVERAGE($L$117:$AB$117)","v":190345.41764705884},190345.41764705884,190345.41764705884,190345.41764705884,190345.41764705884,{"$f":"AVERAGE($L$117:$AB$117)","v":190345.41764705884},{"$f":"AVERAGE($L$117:$AB$117)","v":190345.41764705884},{"$f":"AVERAGE($L$117:$AB$117)","v":190345.41764705884},27235,45366.5,43410.700000000004,63030.2,198594.20000000004,265324.79999999999,193289.3,181843.59999999998,388456.3,334963.50000000006,440177.00000000012,236633.1,175992.09999999998,71133.5,70700.799999999974,194457,{"$f":"53193.6+252070.9","v":305264.5},null,null,"Note: trade usage for Murray and Murrumbidgee prior to 2004-05, is based on an average of actual trades up to 2016-1. See row D to K"]
[null,"Murrumbidgee","ML",{"$f":"AVERAGE($L$118:$AB$118)","v":60081.364705882355},60081.364705882355,60081.364705882355,60081.364705882355,60081.364705882355,{"$f":"AVERAGE($L$118:$AB$118)","v":60081.364705882355},{"$f":"AVERAGE($L$118:$AB$118)","v":60081.364705882355},{"$f":"AVERAGE($L$118:$AB$118)","v":60081.364705882355},1021,5499,31623,108115.3,361175.00000000012,70290.399999999994,84983,1021.2,76731.5,96168.3,96613.599999999977,38111,0,3973,14821.6,24986,{"$f":"2499.3+3751","v":6250.3}]
[null,"Lowbidgee","ML"]
[null,"North Coast","ML"]
[null,"Hunter","ML"]
[null,"South Coast","ML"]
[null,"Total","ML"]
[]
[null,"HS water allocations"]
[null,"Border","%",1,1,1,1,1,1,1,1,1,1,1,1,1,1,1,1,1,1,1,1.0003204101249599,1,1,1,1,1,1]
[null,"Gwydir","%",1,1,1,1,1,1,1,1,1,1,1,1,1,1,1,1,1,1,1,0.99754828212586233,1,1,1,1,1,1]
[null,"Namoi","%",1,1,1,1,1,1,1,1,1,1,1,1,1,1,1,1,1,1,1,1.0018046469659372,1,1,1,1,1,1]
[null,"Peel","%",1,1,1,1,1,1,1,1,1,1,1,1,1,1,1,1,1,1,0.69,1,1,1,1,0.69,1,1]
[null,"Lachlan","%",1,1,1,1,1,1,1,0.7,0.3,1,0.8,0.3,0.3,0.1,1,1,1,1,1,1.0036594304062543,1.0000924940227918,1,1,0.94,1,1]
[null,"Macquarie","%",1,1,1,1,1,1,1,1,1,1,1,1,1,1,1,1,1,1,1,0.99932337516388836,1.0005692466266867,1,1,1,1,1]
[null,"Murray","%",1,1,1,1,1,1,1,1,0.97,0.97,0.69,0.5,0.95,0.97,1,1,1,1,0.98,0.95624823835531536,1,0.99,0.97,0.97,0.98,1.02]
[null,"Murrumbidgee","%",1,1,1,1,1,1,1,0.95,0.95,0.95,0.9,0.9,0.95,0.95,0.99960000000000004,1,1,0.97499999999999998,0.96,0.95903132725386231,1.0000662916797587,0.96,0.95,0.97,1,1]
[null,"Lowbidgee","%"]
[null,"North Coast","%",null,null,null,null,null,null,1,1,1,1,1,1,1,0,1,1,1,1,1,1,1]
[null,"Hunter","%",1,1,1,1,1,1,1,1,1,1,0.92,1,1,1,1,1,1,1,1,1.0001131317702294,1]
[null,"South Coast","%",1,1,1,1,1,1,1,1,1,1,1,1,1,1,0.8,1,1,1,1,1,1]
[]
[null,"GS water allocations"]
[null,"Border","%",0.65,0.55000000000000004,0.35,0.6,0.4,0.96160074708827048,0.13839384105607955,0.539439584742478,0.16670339942696896,0.3804940350611139,0.25184189888614927,0.25349809885931562,0.23741444866920153,2.688212927756654E-2,1,1,1,0.35189999999999999,0.1,0.32705384480963978,1.1238046030286686,0.26300000000000001,0.03,0,0.51,1.26]
[null,"Gwydir","%",0.75,0.82,1.6818532818532819,0.49365735483382545,0.44698039215686275,0.26623529411764707,0,0.30715686274509807,4.598039215686274E-2,0.21882630029440631,0,0.24245098039215687,0,0,0.82900000000000007,1,1.62,0,0,5.2815084418196247E-2,0.78630178646758153,0.17600000000000002,0,0.02,0.57999999999999996,1.6]
[null,"Namoi","%",1,1,2.3193548387096774,0.66704453441295553,1.2267206477732793,0.29801619433198379,0,0.46469635627530365,0.14133603238866396,0.29975719497365222,0,0.1362753036437247,0.23732793522267207,5.7489878542510116E-3,1.093,1.165,1,0.53180000000000005,0.04,2.2961498605644164E-2,1.2368683685158548,0.11,0.05,0.02,0.91,0.82]
[null,"Peel","%",0.65,1,1,1,1,1,0.6,0.35,0.65,0.45,0,0.5,0.8,0,1,1,0.83,0.45,0,0.17000460102537135,0.99999671355330622,1.0270000000000001,0.38,0,0.85,1]
[null,"Lachlan","%",1,0.65,1,0.74,0.84,0.57999999999999996,0.03,0,0,0.19,0,0,0,0,1,1,0,0,0.02,0.2586422779225177,1.38,0.05,0,0.01,0.68,1.68]
[null,"Macquarie","%",0.85,0.1,1,1,1,0.9,0,0.19,0.09,0.44,0,0.05,0.1,0,1,0.49,0.64,5.9999999999999995E-4,0.02,7.0003751979750409E-2,1,0.38,0,0,0.68,0.77]
[null,"Murray","%",1,0.84,0.93,0.35,0.95,1.05,0.1,0.55000000000000004,0.49,0.63,0,0,0.09,0.27,1,1,1,1,0.65,0.27808785904052524,1,0.51,0,0.12,0.55000000000000004,1.08]
[null,"Murrumbidgee","%",1,0.9,0.85,0.78,0.9,0.72,0.38,0.41,0.4,0.54,0.1,0.13,0.21,0.27,1,1,1,0.79979999999999996,0.59,0.44246020635437283,1.0000004409438206,0.51700000000000002,7.0000000000000007E-2,0.21,1,1]
[null,"Lowbidgee","%"]
[null,"North Coast","%",null,null,null,null,null,null,null,0.9,1,0.8,1,1,1,0,1,1,1,1,1,1,1]
[null,"Hunter","%",1,1,1,1,1,1,1,1,1,1,0.35,1,1,1,1,1,1,1,1,1,1]
[null,"South Coast","%",0.8,1,0.8,1,0.8,1,0.7,0.6,0.45,0.4,0.8,0.5,0.4,0.05,0.4,0.7,0.75,0.67,0.7,0.45999569769109427,0.70000000000000007]
[]
[]
[null,"Fish River Water Supply Scheme"]
[]
[null,"MAQs"]
[null,"Bulk Raw Water","ML"]
[null,"EnergyAustralia","ML",null,null,null,null,null,null,null,null,null,null,null,null,null,null,null,null,null,null,{"$f":"W158","v":8184},8184,{"$f":"W158","v":8184},8184,8184,{"$f":"Z158","v":8184},{"$f":"AA158","v":8184},8184]
[null,"Sydney Catchment Authority","ML",null,null,null,null,null,null,null,null,null,null,null,null,null,null,null,null,null,null,{"$f":"W159","v":3650},3650,{"$f":"W159","v":3650},3650,3650,{"$f":"Z159","v":3650},3650,3650]
[null,"Oberon Council","ML",null,null,null,null,null,null,null,null,null,null,null,null,null,null,null,null,null,null,{"$f":"W160","v":1064},1064,{"$f":"W160","v":1064},1064,1064,1064,1064,1064]
[null,"Individual Minor Customers","ML",null,null,null,null,null,null,null,null,null,null,null,null,null,null,null,null,null,null,{"$f":"W161","v":200},200,{"$f":"W161","v":200},200,200,200,200,200,"Should be 0.2"]
[null,"Lithgow Council",null,null,null,null,null,null,null,null,null,null,null,null,null,null,null,null,null,null,null,null,null,null,null,null,null,null,100]
[null,"Bulk Filtered Water"]
[null,"Lithgow Council","ML",null,null,null,null,null,null,null,null,null,null,null,null,null,null,null,null,null,null,{"$f":"W164","v":1778},1778,{"$f":"W164","v":1778},1778,1778,{"$f":"Z164","v":1778},{"$f":"AA164","v":1778},1678]
[null,"Individual Minor Customers","ML",null,null,null,null,null,null,null,null,null,null,null,null,null,null,null,null,null,null,{"$f":"W165","v":200},200,{"$f":"W165","v":200},{"$f":"X165","v":200},{"$f":"Y165","v":200},200,200,200,"Should be 0.2"]
[null,null,null,null,null,null,null,null,null,null,null,null,null,null,null,null,null,null,null,null,null,null,null,null,null,null,null,null,null,"20 year rolling averages"]
[null,"Usage"]
[null,"Bulk Raw Water","ML",null,null,null,null,null,null,null,null,null,null,null,null,null,null,null,null,null,null,null,null,null,null,null,null,null,null,"To 2016-17","To 2017-18","To 2018-19","To 2019-20","To 2020-21"]
[null,"EnergyAustralia","ML",7451,7243,7204,7294,8137,8359,8303,6734,4960,6367,6590,4367,3597,3824,4248,4112,5864,5939,1025,2278,1539.58,5512.6,4090.029,1204.9870000000001,1092.2080000000001,null,1540.5064705882353]
[null,"Sydney Catchment Authority","ML",3650,3003,3317,3468,3779,3677,4390,3005,1878,2098,3115,1077,250,"  - ",224,43,1014,1457,2043,2170,2171.6770000000001,3702,2882,1729,2790,null,{"$f":"AVERAGE(E170:X170)","v":2219.9830000000002},2256.7724736842106,2233.8777368421056,2142.3514210526314,2090.2987894736839]
[null,"Oberon Council","ML",734,827,855,767,969,838,911,732,677,725,749,601,583,591,618,658,585,588,588,591,549.54,645.1,761.05100000000004,664.92,560.83799999999997,null,700.12700000000007,691.03200000000004,686.33455000000004,681.23054999999999,660.82245]
[null,"Individual Minor Customers","ML",72,54,48,50,50,50,66,60,45,64,47,40,42,40,30,36,41,54,65,51.097000000000001,70.798000000000002,56.5,61.56,53.261000000000003,52.74,null,50.194749999999999,50.319749999999999,50.997749999999996,51.160799999999995,51.297799999999995]
[]
[null,"Bulk Filtered Water"]
[null,"Lithgow Council","ML",1098,970,898,858,927,1019,1183,968,735,959,795,747,748,747,764,755,833,795,752,766,770,810.5,702.84900000000005,743.54300000000001,778.40099999999995,null,{"$f":"AVERAGE(E175:X175)","v":849.45},841.47500000000002,831.71744999999987,825.99459999999999,818.56465000000003]
[null,"Individual Minor Customers","ML",186,138,123,129,129,129,170,155,116,164,112,110,104,88,97,92,65,66,80,73.823999999999998,65.659000000000006,75.3,82.213999999999999,80.653999999999996,77.14,null,110.32415,107.18915000000001,105.14985000000001,102.73254999999999,100.13955000000001]
[]
[null,"Number of minor customers"]
[null,"Bulk raw water",null,null,null,null,null,null,null,null,null,null,null,null,null,null,null,null,null,null,null,73,77,83,83,84,84,87]
[null,"Bulk filtered water",null,null,null,null,null,null,null,null,null,null,null,null,null,null,null,null,null,null,null,207,230,224,228,231,231,233]